Workbook

Sheet Rank2022
B1: 2022 FPLeague
B2: Name | C2: Correct | D2: Total | E2: % | F2: Tiebreak | H2: w1 | I2: w2 | J2: w3 | K2: w4 | L2: w5 | M2: w6 | N2: w7 | O2: w8 | P2: w9 | Q2: w10 | R2: w11 | S2: w12 | T2: w13 | U2: w14 | V2: w15 | W2: w16 | X2: w17 | Y2: w18 | Z2: w19 | AA2: Total | AC2: g1 | AD2: g2 | AE2: g3 | AF2: g4 | AG2: g5 | AH2: g6 | AI2: g7 | AJ2: g8 | AK2: g9 | AL2: g10 | AM2: g11 | AN2: g12 | AO2: g13 | AP2: g14 | AQ2: g15 | AR2: g16 | AS2: g17 | AT2: g18 | AU2: g19 | AV2: Total
A3: 1 | B3: Prothro, John | C3: =AA3 -> 187 | D3: =$AA$69 -> 284 | E3: =C3/D3 -> 0.6584507 | F3: =AV3 -> 34.5 | H3: =VLOOKUP(B3,'W01'!$A$3:$B$66,2, FALSE) -> 8.5 | I3: =VLOOKUP(B3,'W02'!$A$3:$B$66,2, FALSE) -> 11 | J3: =VLOOKUP(B3,'W03'!$A$3:$B$66,2, FALSE) -> 9 | K3: =VLOOKUP(B3,'W04'!$A$3:$B$66,2, FALSE) -> 11 | L3: =VLOOKUP(B3,'W05'!$A$3:$B$67,2, FALSE) -> 11 | M3: =VLOOKUP(B3,'W06'!$A$3:$B$67,2, FALSE) -> 8 | N3: =VLOOKUP(B3,'W07'!$A$3:$B$67,2, FALSE) -> 8 | O3: =VLOOKUP(B3,'W08'!$A$3:$B$67,2, FALSE) -> 11 | P3: =VLOOKUP(B3,'W09'!$A$3:$B$66,2, FALSE) -> 10 | Q3: =VLOOKUP(B3,'W10'!$A$3:$B$66,2, FALSE) -> 7 | R3: =VLOOKUP(B3,'W11'!$A$3:$B$66,2, FALSE) -> 10 | S3: =VLOOKUP(B3,'W12'!$A$3:$B$66,2, FALSE) -> 11 | T3: =VLOOKUP(B3,'W13'!$A$3:$B$66,2, FALSE) -> 11.5 | U3: =VLOOKUP(B3,'W14'!$A$3:$B$66,2, FALSE) -> 7 | V3: =VLOOKUP(B3,'W15'!$A$3:$B$66,2, FALSE) -> 11 | W3: =VLOOKUP(B3,'W16'!$A$3:$B$66,2, FALSE) -> 10 | X3: =VLOOKUP(B3,'W17'!$A$3:$B$66,2, FALSE) -> 12 | Y3: =VLOOKUP(B3,'W18'!$A$3:$B$66,2, FALSE) -> 10 | Z3: =VLOOKUP(B3,'W19'!$A$3:$B$65,2, FALSE) -> 10 | AA3: =SUM(H3:Z3) -> 187 | AC3: =VLOOKUP(B3,'W01'!$A$3:$C$66,3, FALSE) -> 1.5 | AD3: =VLOOKUP(B3,'W02'!$A$3:$C$66,3, FALSE) -> 2 | AE3: =VLOOKUP(B3,'W03'!$A$3:$C$66,3, FALSE) -> 1 | AF3: =VLOOKUP(B3,'W04'!$A$3:$C$66,3, FALSE) -> 2 | AG3: =VLOOKUP(B3,'W05'!$A$3:$C$67,3, FALSE) -> 2 | AH3: =VLOOKUP(B3,'W06'!$A$3:$C$67,3, FALSE) -> 1 | AI3: =VLOOKUP(B3,'W07'!$A$3:$C$67,3, FALSE) -> 0 | AJ3: =VLOOKUP(B3,'W08'!$A$3:$C$67,3, FALSE) -> 2 | AK3: =VLOOKUP(B3,'W09'!$A$3:$C$66,3, FALSE) -> 2 | AL3: =VLOOKUP(B3,'W10'!$A$3:$C$66,3, FALSE) -> 1 | AM3: =VLOOKUP(B3,'W11'!$A$3:$C$66,3, FALSE) -> 2 | AN3: =VLOOKUP(B3,'W12'!$A$3:$C$66,3, FALSE) -> 2 | AO3: =VLOOKUP(B3,'W13'!$A$3:$C$66,3, FALSE) -> 2 | AP3: =VLOOKUP(B3,'W14'!$A$3:$C$66,3, FALSE) -> 2 | AQ3: =VLOOKUP(B3,'W15'!$A$3:$C$66,3, FALSE) -> 2 | AR3: =VLOOKUP(B3,'W16'!$A$3:$C$66,3, FALSE) -> 2 | AS3: =VLOOKUP(B3,'W17'!$A$3:$C$66,3, FALSE) -> 2 | AT3: =VLOOKUP(B3,'W18'!$A$3:$C$66,3, FALSE) -> 2 | AU3: =VLOOKUP(B3,'W19'!$A$3:$C$65,3, FALSE) -> 4 | AV3: =SUM(AC3:AU3) -> 34.5
A4: 2 | B4: Curran, Kevin | C4: =AA4 -> 187 | D4: =$AA$69 -> 284 | E4: =C4/D4 -> 0.6584507 | F4: =AV4 -> 29.5 | H4: =VLOOKUP(B4,'W01'!$A$3:$B$66,2, FALSE) -> 10.5 | I4: =VLOOKUP(B4,'W02'!$A$3:$B$66,2, FALSE) -> 10 | J4: =VLOOKUP(B4,'W03'!$A$3:$B$66,2, FALSE) -> 7 | K4: =VLOOKUP(B4,'W04'!$A$3:$B$66,2, FALSE) -> 11 | L4: =VLOOKUP(B4,'W05'!$A$3:$B$67,2, FALSE) -> 11 | M4: =VLOOKUP(B4,'W06'!$A$3:$B$67,2, FALSE) -> 6 | N4: =VLOOKUP(B4,'W07'!$A$3:$B$67,2, FALSE) -> 10 | O4: =VLOOKUP(B4,'W08'!$A$3:$B$67,2, FALSE) -> 10 | P4: =VLOOKUP(B4,'W09'!$A$3:$B$66,2, FALSE) -> 10 | Q4: =VLOOKUP(B4,'W10'!$A$3:$B$66,2, FALSE) -> 8 | R4: =VLOOKUP(B4,'W11'!$A$3:$B$66,2, FALSE) -> 8 | S4: =VLOOKUP(B4,'W12'!$A$3:$B$66,2, FALSE) -> 11 | T4: =VLOOKUP(B4,'W13'!$A$3:$B$66,2, FALSE) -> 11.5 | U4: =VLOOKUP(B4,'W14'!$A$3:$B$66,2, FALSE) -> 9 | V4: =VLOOKUP(B4,'W15'!$A$3:$B$66,2, FALSE) -> 12 | W4: =VLOOKUP(B4,'W16'!$A$3:$B$66,2, FALSE) -> 10 | X4: =VLOOKUP(B4,'W17'!$A$3:$B$66,2, FALSE) -> 11 | Y4: =VLOOKUP(B4,'W18'!$A$3:$B$66,2, FALSE) -> 13 | Z4: =VLOOKUP(B4,'W19'!$A$3:$B$65,2, FALSE) -> 8 | AA4: =SUM(H4:Z4) -> 187 | AC4: =VLOOKUP(B4,'W01'!$A$3:$C$66,3, FALSE) -> 0.5 | AD4: =VLOOKUP(B4,'W02'!$A$3:$C$66,3, FALSE) -> 1 | AE4: =VLOOKUP(B4,'W03'!$A$3:$C$66,3, FALSE) -> 0 | AF4: =VLOOKUP(B4,'W04'!$A$3:$C$66,3, FALSE) -> 2 | AG4: =VLOOKUP(B4,'W05'!$A$3:$C$67,3, FALSE) -> 1 | AH4: =VLOOKUP(B4,'W06'!$A$3:$C$67,3, FALSE) -> 2 | AI4: =VLOOKUP(B4,'W07'!$A$3:$C$67,3, FALSE) -> 0 | AJ4: =VLOOKUP(B4,'W08'!$A$3:$C$67,3, FALSE) -> 2 | AK4: =VLOOKUP(B4,'W09'!$A$3:$C$66,3, FALSE) -> 1 | AL4: =VLOOKUP(B4,'W10'!$A$3:$C$66,3, FALSE) -> 1 | AM4: =VLOOKUP(B4,'W11'!$A$3:$C$66,3, FALSE) -> 2 | AN4: =VLOOKUP(B4,'W12'!$A$3:$C$66,3, FALSE) -> 2 | AO4: =VLOOKUP(B4,'W13'!$A$3:$C$66,3, FALSE) -> 2 | AP4: =VLOOKUP(B4,'W14'!$A$3:$C$66,3, FALSE) -> 2 | AQ4: =VLOOKUP(B4,'W15'!$A$3:$C$66,3, FALSE) -> 2 | AR4: =VLOOKUP(B4,'W16'!$A$3:$C$66,3, FALSE) -> 2 | AS4: =VLOOKUP(B4,'W17'!$A$3:$C$66,3, FALSE) -> 2 | AT4: =VLOOKUP(B4,'W18'!$A$3:$C$66,3, FALSE) -> 2 | AU4: =VLOOKUP(B4,'W19'!$A$3:$C$65,3, FALSE) -> 3 | AV4: =SUM(AC4:AU4) -> 29.5
A5: 3 | B5: Seamands, Byron | C5: =AA5 -> 186 | D5: =$AA$69 -> 284 | E5: =C5/D5 -> 0.65492958 | F5: =AV5 -> 33.5 | H5: =VLOOKUP(B5,'W01'!$A$3:$B$66,2, FALSE) -> 8.5 | I5: =VLOOKUP(B5,'W02'!$A$3:$B$66,2, FALSE) -> 11 | J5: =VLOOKUP(B5,'W03'!$A$3:$B$66,2, FALSE) -> 9 | K5: =VLOOKUP(B5,'W04'!$A$3:$B$66,2, FALSE) -> 11 | L5: =VLOOKUP(B5,'W05'!$A$3:$B$67,2, FALSE) -> 11 | M5: =VLOOKUP(B5,'W06'!$A$3:$B$67,2, FALSE) -> 7 | N5: =VLOOKUP(B5,'W07'!$A$3:$B$67,2, FALSE) -> 9 | O5: =VLOOKUP(B5,'W08'!$A$3:$B$67,2, FALSE) -> 11 | P5: =VLOOKUP(B5,'W09'!$A$3:$B$66,2, FALSE) -> 9 | Q5: =VLOOKUP(B5,'W10'!$A$3:$B$66,2, FALSE) -> 6 | R5: =VLOOKUP(B5,'W11'!$A$3:$B$66,2, FALSE) -> 10 | S5: =VLOOKUP(B5,'W12'!$A$3:$B$66,2, FALSE) -> 11 | T5: =VLOOKUP(B5,'W13'!$A$3:$B$66,2, FALSE) -> 11.5 | U5: =VLOOKUP(B5,'W14'!$A$3:$B$66,2, FALSE) -> 7 | V5: =VLOOKUP(B5,'W15'!$A$3:$B$66,2, FALSE) -> 12 | W5: =VLOOKUP(B5,'W16'!$A$3:$B$66,2, FALSE) -> 9 | X5: =VLOOKUP(B5,'W17'!$A$3:$B$66,2, FALSE) -> 12 | Y5: =VLOOKUP(B5,'W18'!$A$3:$B$66,2, FALSE) -> 11 | Z5: =VLOOKUP(B5,'W19'!$A$3:$B$65,2, FALSE) -> 10 | AA5: =SUM(H5:Z5) -> 186 | AC5: =VLOOKUP(B5,'W01'!$A$3:$C$66,3, FALSE) -> 1.5 | AD5: =VLOOKUP(B5,'W02'!$A$3:$C$66,3, FALSE) -> 2 | AE5: =VLOOKUP(B5,'W03'!$A$3:$C$66,3, FALSE) -> 1 | AF5: =VLOOKUP(B5,'W04'!$A$3:$C$66,3, FALSE) -> 2 | AG5: =VLOOKUP(B5,'W05'!$A$3:$C$67,3, FALSE) -> 1 | AH5: =VLOOKUP(B5,'W06'!$A$3:$C$67,3, FALSE) -> 1 | AI5: =VLOOKUP(B5,'W07'!$A$3:$C$67,3, FALSE) -> 1 | AJ5: =VLOOKUP(B5,'W08'!$A$3:$C$67,3, FALSE) -> 2 | AK5: =VLOOKUP(B5,'W09'!$A$3:$C$66,3, FALSE) -> 2 | AL5: =VLOOKUP(B5,'W10'!$A$3:$C$66,3, FALSE) -> 0 | AM5: =VLOOKUP(B5,'W11'!$A$3:$C$66,3, FALSE) -> 2 | AN5: =VLOOKUP(B5,'W12'!$A$3:$C$66,3, FALSE) -> 2 | AO5: =VLOOKUP(B5,'W13'!$A$3:$C$66,3, FALSE) -> 2 | AP5: =VLOOKUP(B5,'W14'!$A$3:$C$66,3, FALSE) -> 2 | AQ5: =VLOOKUP(B5,'W15'!$A$3:$C$66,3, FALSE) -> 2 | AR5: =VLOOKUP(B5,'W16'!$A$3:$C$66,3, FALSE) -> 2 | AS5: =VLOOKUP(B5,'W17'!$A$3:$C$66,3, FALSE) -> 2 | AT5: =VLOOKUP(B5,'W18'!$A$3:$C$66,3, FALSE) -> 2 | AU5: =VLOOKUP(B5,'W19'!$A$3:$C$65,3, FALSE) -> 4 | AV5: =SUM(AC5:AU5) -> 33.5
A6: 4 | B6: Honeycutt, Wanda | C6: =AA6 -> 185 | D6: =$AA$69 -> 284 | E6: =C6/D6 -> 0.65140845 | F6: =AV6 -> 33 | H6: =VLOOKUP(B6,'W01'!$A$3:$B$66,2, FALSE) -> 9.5 | I6: =VLOOKUP(B6,'W02'!$A$3:$B$66,2, FALSE) -> 10 | J6: =VLOOKUP(B6,'W03'!$A$3:$B$66,2, FALSE) -> 7 | K6: =VLOOKUP(B6,'W04'!$A$3:$B$66,2, FALSE) -> 12 | L6: =VLOOKUP(B6,'W05'!$A$3:$B$67,2, FALSE) -> 10 | M6: =VLOOKUP(B6,'W06'!$A$3:$B$67,2, FALSE) -> 7 | N6: =VLOOKUP(B6,'W07'!$A$3:$B$67,2, FALSE) -> 10 | O6: =VLOOKUP(B6,'W08'!$A$3:$B$67,2, FALSE) -> 11 | P6: =VLOOKUP(B6,'W09'!$A$3:$B$66,2, FALSE) -> 11 | Q6: =VLOOKUP(B6,'W10'!$A$3:$B$66,2, FALSE) -> 5 | R6: =VLOOKUP(B6,'W11'!$A$3:$B$66,2, FALSE) -> 9 | S6: =VLOOKUP(B6,'W12'!$A$3:$B$66,2, FALSE) -> 10 | T6: =VLOOKUP(B6,'W13'!$A$3:$B$66,2, FALSE) -> 11.5 | U6: =VLOOKUP(B6,'W14'!$A$3:$B$66,2, FALSE) -> 7 | V6: =VLOOKUP(B6,'W15'!$A$3:$B$66,2, FALSE) -> 12 | W6: =VLOOKUP(B6,'W16'!$A$3:$B$66,2, FALSE) -> 11 | X6: =VLOOKUP(B6,'W17'!$A$3:$B$66,2, FALSE) -> 12 | Y6: =VLOOKUP(B6,'W18'!$A$3:$B$66,2, FALSE) -> 11 | Z6: =VLOOKUP(B6,'W19'!$A$3:$B$65,2, FALSE) -> 9 | AA6: =SUM(H6:Z6) -> 185 | AC6: =VLOOKUP(B6,'W01'!$A$3:$C$66,3, FALSE) -> 1 | AD6: =VLOOKUP(B6,'W02'!$A$3:$C$66,3, FALSE) -> 2 | AE6: =VLOOKUP(B6,'W03'!$A$3:$C$66,3, FALSE) -> 1 | AF6: =VLOOKUP(B6,'W04'!$A$3:$C$66,3, FALSE) -> 1 | AG6: =VLOOKUP(B6,'W05'!$A$3:$C$67,3, FALSE) -> 2 | AH6: =VLOOKUP(B6,'W06'!$A$3:$C$67,3, FALSE) -> 1 | AI6: =VLOOKUP(B6,'W07'!$A$3:$C$67,3, FALSE) -> 1 | AJ6: =VLOOKUP(B6,'W08'!$A$3:$C$67,3, FALSE) -> 2 | AK6: =VLOOKUP(B6,'W09'!$A$3:$C$66,3, FALSE) -> 2 | AL6: =VLOOKUP(B6,'W10'!$A$3:$C$66,3, FALSE) -> 1 | AM6: =VLOOKUP(B6,'W11'!$A$3:$C$66,3, FALSE) -> 2 | AN6: =VLOOKUP(B6,'W12'!$A$3:$C$66,3, FALSE) -> 2 | AO6: =VLOOKUP(B6,'W13'!$A$3:$C$66,3, FALSE) -> 2 | AP6: =VLOOKUP(B6,'W14'!$A$3:$C$66,3, FALSE) -> 2 | AQ6: =VLOOKUP(B6,'W15'!$A$3:$C$66,3, FALSE) -> 2 | AR6: =VLOOKUP(B6,'W16'!$A$3:$C$66,3, FALSE) -> 2 | AS6: =VLOOKUP(B6,'W17'!$A$3:$C$66,3, FALSE) -> 2 | AT6: =VLOOKUP(B6,'W18'!$A$3:$C$66,3, FALSE) -> 2 | AU6: =VLOOKUP(B6,'W19'!$A$3:$C$65,3, FALSE) -> 3 | AV6: =SUM(AC6:AU6) -> 33
A7: 5 | B7: Fortner, Glenn | C7: =AA7 -> 185 | D7: =$AA$69 -> 284 | E7: =C7/D7 -> 0.65140845 | F7: =AV7 -> 28 | H7: =VLOOKUP(B7,'W01'!$A$3:$B$66,2, FALSE) -> 10.5 | I7: =VLOOKUP(B7,'W02'!$A$3:$B$66,2, FALSE) -> 8 | J7: =VLOOKUP(B7,'W03'!$A$3:$B$66,2, FALSE) -> 11 | K7: =VLOOKUP(B7,'W04'!$A$3:$B$66,2, FALSE) -> 12 | L7: =VLOOKUP(B7,'W05'!$A$3:$B$67,2, FALSE) -> 11 | M7: =VLOOKUP(B7,'W06'!$A$3:$B$67,2, FALSE) -> 8 | N7: =VLOOKUP(B7,'W07'!$A$3:$B$67,2, FALSE) -> 9 | O7: =VLOOKUP(B7,'W08'!$A$3:$B$67,2, FALSE) -> 7 | P7: =VLOOKUP(B7,'W09'!$A$3:$B$66,2, FALSE) -> 9 | Q7: =VLOOKUP(B7,'W10'!$A$3:$B$66,2, FALSE) -> 8 | R7: =VLOOKUP(B7,'W11'!$A$3:$B$66,2, FALSE) -> 9 | S7: =VLOOKUP(B7,'W12'!$A$3:$B$66,2, FALSE) -> 10 | T7: =VLOOKUP(B7,'W13'!$A$3:$B$66,2, FALSE) -> 11.5 | U7: =VLOOKUP(B7,'W14'!$A$3:$B$66,2, FALSE) -> 7 | V7: =VLOOKUP(B7,'W15'!$A$3:$B$66,2, FALSE) -> 12 | W7: =VLOOKUP(B7,'W16'!$A$3:$B$66,2, FALSE) -> 11 | X7: =VLOOKUP(B7,'W17'!$A$3:$B$66,2, FALSE) -> 12 | Y7: =VLOOKUP(B7,'W18'!$A$3:$B$66,2, FALSE) -> 11 | Z7: =VLOOKUP(B7,'W19'!$A$3:$B$65,2, FALSE) -> 8 | AA7: =SUM(H7:Z7) -> 185 | AC7: =VLOOKUP(B7,'W01'!$A$3:$C$66,3, FALSE) -> 2 | AD7: =VLOOKUP(B7,'W02'!$A$3:$C$66,3, FALSE) -> 1 | AE7: =VLOOKUP(B7,'W03'!$A$3:$C$66,3, FALSE) -> 0 | AF7: =VLOOKUP(B7,'W04'!$A$3:$C$66,3, FALSE) -> 0 | AG7: =VLOOKUP(B7,'W05'!$A$3:$C$67,3, FALSE) -> 1 | AH7: =VLOOKUP(B7,'W06'!$A$3:$C$67,3, FALSE) -> 1 | AI7: =VLOOKUP(B7,'W07'!$A$3:$C$67,3, FALSE) -> 0 | AJ7: =VLOOKUP(B7,'W08'!$A$3:$C$67,3, FALSE) -> 2 | AK7: =VLOOKUP(B7,'W09'!$A$3:$C$66,3, FALSE) -> 1 | AL7: =VLOOKUP(B7,'W10'!$A$3:$C$66,3, FALSE) -> 1 | AM7: =VLOOKUP(B7,'W11'!$A$3:$C$66,3, FALSE) -> 2 | AN7: =VLOOKUP(B7,'W12'!$A$3:$C$66,3, FALSE) -> 2 | AO7: =VLOOKUP(B7,'W13'!$A$3:$C$66,3, FALSE) -> 2 | AP7: =VLOOKUP(B7,'W14'!$A$3:$C$66,3, FALSE) -> 2 | AQ7: =VLOOKUP(B7,'W15'!$A$3:$C$66,3, FALSE) -> 2 | AR7: =VLOOKUP(B7,'W16'!$A$3:$C$66,3, FALSE) -> 2 | AS7: =VLOOKUP(B7,'W17'!$A$3:$C$66,3, FALSE) -> 2 | AT7: =VLOOKUP(B7,'W18'!$A$3:$C$66,3, FALSE) -> 2 | AU7: =VLOOKUP(B7,'W19'!$A$3:$C$65,3, FALSE) -> 3 | AV7: =SUM(AC7:AU7) -> 28
A8: 6 | B8: Manuel, Greg | C8: =AA8 -> 184 | D8: =$AA$69 -> 284 | E8: =C8/D8 -> 0.64788732 | F8: =AV8 -> 28.5 | H8: =VLOOKUP(B8,'W01'!$A$3:$B$66,2, FALSE) -> 8.5 | I8: =VLOOKUP(B8,'W02'!$A$3:$B$66,2, FALSE) -> 9 | J8: =VLOOKUP(B8,'W03'!$A$3:$B$66,2, FALSE) -> 8 | K8: =VLOOKUP(B8,'W04'!$A$3:$B$66,2, FALSE) -> 10 | L8: =VLOOKUP(B8,'W05'!$A$3:$B$67,2, FALSE) -> 11 | M8: =VLOOKUP(B8,'W06'!$A$3:$B$67,2, FALSE) -> 7 | N8: =VLOOKUP(B8,'W07'!$A$3:$B$67,2, FALSE) -> 9 | O8: =VLOOKUP(B8,'W08'!$A$3:$B$67,2, FALSE) -> 11 | P8: =VLOOKUP(B8,'W09'!$A$3:$B$66,2, FALSE) -> 11 | Q8: =VLOOKUP(B8,'W10'!$A$3:$B$66,2, FALSE) -> 6 | R8: =VLOOKUP(B8,'W11'!$A$3:$B$66,2, FALSE) -> 10 | S8: =VLOOKUP(B8,'W12'!$A$3:$B$66,2, FALSE) -> 10 | T8: =VLOOKUP(B8,'W13'!$A$3:$B$66,2, FALSE) -> 12.5 | U8: =VLOOKUP(B8,'W14'!$A$3:$B$66,2, FALSE) -> 7 | V8: =VLOOKUP(B8,'W15'!$A$3:$B$66,2, FALSE) -> 12 | W8: =VLOOKUP(B8,'W16'!$A$3:$B$66,2, FALSE) -> 10 | X8: =VLOOKUP(B8,'W17'!$A$3:$B$66,2, FALSE) -> 12 | Y8: =VLOOKUP(B8,'W18'!$A$3:$B$66,2, FALSE) -> 11 | Z8: =VLOOKUP(B8,'W19'!$A$3:$B$65,2, FALSE) -> 9 | AA8: =SUM(H8:Z8) -> 184 | AC8: =VLOOKUP(B8,'W01'!$A$3:$C$66,3, FALSE) -> 0.5 | AD8: =VLOOKUP(B8,'W02'!$A$3:$C$66,3, FALSE) -> 1 | AE8: =VLOOKUP(B8,'W03'!$A$3:$C$66,3, FALSE) -> 0 | AF8: =VLOOKUP(B8,'W04'!$A$3:$C$66,3, FALSE) -> 2 | AG8: =VLOOKUP(B8,'W05'!$A$3:$C$67,3, FALSE) -> 2 | AH8: =VLOOKUP(B8,'W06'!$A$3:$C$67,3, FALSE) -> 1 | AI8: =VLOOKUP(B8,'W07'!$A$3:$C$67,3, FALSE) -> 1 | AJ8: =VLOOKUP(B8,'W08'!$A$3:$C$67,3, FALSE) -> 2 | AK8: =VLOOKUP(B8,'W09'!$A$3:$C$66,3, FALSE) -> 1 | AL8: =VLOOKUP(B8,'W10'!$A$3:$C$66,3, FALSE) -> 1 | AM8: =VLOOKUP(B8,'W11'!$A$3:$C$66,3, FALSE) -> 2 | AN8: =VLOOKUP(B8,'W12'!$A$3:$C$66,3, FALSE) -> 2 | AO8: =VLOOKUP(B8,'W13'!$A$3:$C$66,3, FALSE) -> 2 | AP8: =VLOOKUP(B8,'W14'!$A$3:$C$66,3, FALSE) -> 2 | AQ8: =VLOOKUP(B8,'W15'!$A$3:$C$66,3, FALSE) -> 2 | AR8: =VLOOKUP(B8,'W16'!$A$3:$C$66,3, FALSE) -> 1 | AS8: =VLOOKUP(B8,'W17'!$A$3:$C$66,3, FALSE) -> 2 | AT8: =VLOOKUP(B8,'W18'!$A$3:$C$66,3, FALSE) -> 1 | AU8: =VLOOKUP(B8,'W19'!$A$3:$C$65,3, FALSE) -> 3 | AV8: =SUM(AC8:AU8) -> 28.5
A9: 7 | B9: Alsobrook, Luke | C9: =AA9 -> 183 | D9: =$AA$69 -> 284 | E9: =C9/D9 -> 0.6443662 | F9: =AV9 -> 31 | H9: =VLOOKUP(B9,'W01'!$A$3:$B$66,2, FALSE) -> 6.5 | I9: =VLOOKUP(B9,'W02'!$A$3:$B$66,2, FALSE) -> 9 | J9: =VLOOKUP(B9,'W03'!$A$3:$B$66,2, FALSE) -> 9 | K9: =VLOOKUP(B9,'W04'!$A$3:$B$66,2, FALSE) -> 12 | L9: =VLOOKUP(B9,'W05'!$A$3:$B$67,2, FALSE) -> 10 | M9: =VLOOKUP(B9,'W06'!$A$3:$B$67,2, FALSE) -> 6 | N9: =VLOOKUP(B9,'W07'!$A$3:$B$67,2, FALSE) -> 8 | O9: =VLOOKUP(B9,'W08'!$A$3:$B$67,2, FALSE) -> 10 | P9: =VLOOKUP(B9,'W09'!$A$3:$B$66,2, FALSE) -> 10 | Q9: =VLOOKUP(B9,'W10'!$A$3:$B$66,2, FALSE) -> 6 | R9: =VLOOKUP(B9,'W11'!$A$3:$B$66,2, FALSE) -> 10 | S9: =VLOOKUP(B9,'W12'!$A$3:$B$66,2, FALSE) -> 11 | T9: =VLOOKUP(B9,'W13'!$A$3:$B$66,2, FALSE) -> 12.5 | U9: =VLOOKUP(B9,'W14'!$A$3:$B$66,2, FALSE) -> 6 | V9: =VLOOKUP(B9,'W15'!$A$3:$B$66,2, FALSE) -> 14 | W9: =VLOOKUP(B9,'W16'!$A$3:$B$66,2, FALSE) -> 12 | X9: =VLOOKUP(B9,'W17'!$A$3:$B$66,2, FALSE) -> 10 | Y9: =VLOOKUP(B9,'W18'!$A$3:$B$66,2, FALSE) -> 11 | Z9: =VLOOKUP(B9,'W19'!$A$3:$B$65,2, FALSE) -> 10 | AA9: =SUM(H9:Z9) -> 183 | AC9: =VLOOKUP(B9,'W01'!$A$3:$C$66,3, FALSE) -> 1 | AD9: =VLOOKUP(B9,'W02'!$A$3:$C$66,3, FALSE) -> 2 | AE9: =VLOOKUP(B9,'W03'!$A$3:$C$66,3, FALSE) -> 1 | AF9: =VLOOKUP(B9,'W04'!$A$3:$C$66,3, FALSE) -> 2 | AG9: =VLOOKUP(B9,'W05'!$A$3:$C$67,3, FALSE) -> 2 | AH9: =VLOOKUP(B9,'W06'!$A$3:$C$67,3, FALSE) -> 1 | AI9: =VLOOKUP(B9,'W07'!$A$3:$C$67,3, FALSE) -> 1 | AJ9: =VLOOKUP(B9,'W08'!$A$3:$C$67,3, FALSE) -> 2 | AK9: =VLOOKUP(B9,'W09'!$A$3:$C$66,3, FALSE) -> 1 | AL9: =VLOOKUP(B9,'W10'!$A$3:$C$66,3, FALSE) -> 1 | AM9: =VLOOKUP(B9,'W11'!$A$3:$C$66,3, FALSE) -> 2 | AN9: =VLOOKUP(B9,'W12'!$A$3:$C$66,3, FALSE) -> 2 | AO9: =VLOOKUP(B9,'W13'!$A$3:$C$66,3, FALSE) -> 2 | AP9: =VLOOKUP(B9,'W14'!$A$3:$C$66,3, FALSE) -> 1 | AQ9: =VLOOKUP(B9,'W15'!$A$3:$C$66,3, FALSE) -> 1 | AR9: =VLOOKUP(B9,'W16'!$A$3:$C$66,3, FALSE) -> 1 | AS9: =VLOOKUP(B9,'W17'!$A$3:$C$66,3, FALSE) -> 2 | AT9: =VLOOKUP(B9,'W18'!$A$3:$C$66,3, FALSE) -> 2 | AU9: =VLOOKUP(B9,'W19'!$A$3:$C$65,3, FALSE) -> 4 | AV9: =SUM(AC9:AU9) -> 31
A10: 8 | B10: Greenwood, Douglas | C10: =AA10 -> 183 | D10: =$AA$69 -> 284 | E10: =C10/D10 -> 0.6443662 | F10: =AV10 -> 30.5 | H10: =VLOOKUP(B10,'W01'!$A$3:$B$66,2, FALSE) -> 8.5 | I10: =VLOOKUP(B10,'W02'!$A$3:$B$66,2, FALSE) -> 10 | J10: =VLOOKUP(B10,'W03'!$A$3:$B$66,2, FALSE) -> 10 | K10: =VLOOKUP(B10,'W04'!$A$3:$B$66,2, FALSE) -> 9 | L10: =VLOOKUP(B10,'W05'!$A$3:$B$67,2, FALSE) -> 10 | M10: =VLOOKUP(B10,'W06'!$A$3:$B$67,2, FALSE) -> 6 | N10: =VLOOKUP(B10,'W07'!$A$3:$B$67,2, FALSE) -> 9 | O10: =VLOOKUP(B10,'W08'!$A$3:$B$67,2, FALSE) -> 13 | P10: =VLOOKUP(B10,'W09'!$A$3:$B$66,2, FALSE) -> 8 | Q10: =VLOOKUP(B10,'W10'!$A$3:$B$66,2, FALSE) -> 6 | R10: =VLOOKUP(B10,'W11'!$A$3:$B$66,2, FALSE) -> 10 | S10: =VLOOKUP(B10,'W12'!$A$3:$B$66,2, FALSE) -> 11 | T10: =VLOOKUP(B10,'W13'!$A$3:$B$66,2, FALSE) -> 11.5 | U10: =VLOOKUP(B10,'W14'!$A$3:$B$66,2, FALSE) -> 7 | V10: =VLOOKUP(B10,'W15'!$A$3:$B$66,2, FALSE) -> 12 | W10: =VLOOKUP(B10,'W16'!$A$3:$B$66,2, FALSE) -> 10 | X10: =VLOOKUP(B10,'W17'!$A$3:$B$66,2, FALSE) -> 11 | Y10: =VLOOKUP(B10,'W18'!$A$3:$B$66,2, FALSE) -> 11 | Z10: =VLOOKUP(B10,'W19'!$A$3:$B$65,2, FALSE) -> 10 | AA10: =SUM(H10:Z10) -> 183 | AC10: =VLOOKUP(B10,'W01'!$A$3:$C$66,3, FALSE) -> 1.5 | AD10: =VLOOKUP(B10,'W02'!$A$3:$C$66,3, FALSE) -> 2 | AE10: =VLOOKUP(B10,'W03'!$A$3:$C$66,3, FALSE) -> 0 | AF10: =VLOOKUP(B10,'W04'!$A$3:$C$66,3, FALSE) -> 2 | AG10: =VLOOKUP(B10,'W05'!$A$3:$C$67,3, FALSE) -> 2 | AH10: =VLOOKUP(B10,'W06'!$A$3:$C$67,3, FALSE) -> 1 | AI10: =VLOOKUP(B10,'W07'!$A$3:$C$67,3, FALSE) -> 1 | AJ10: =VLOOKUP(B10,'W08'!$A$3:$C$67,3, FALSE) -> 2 | AK10: =VLOOKUP(B10,'W09'!$A$3:$C$66,3, FALSE) -> 1 | AL10: =VLOOKUP(B10,'W10'!$A$3:$C$66,3, FALSE) -> 1 | AM10: =VLOOKUP(B10,'W11'!$A$3:$C$66,3, FALSE) -> 2 | AN10: =VLOOKUP(B10,'W12'!$A$3:$C$66,3, FALSE) -> 2 | AO10: =VLOOKUP(B10,'W13'!$A$3:$C$66,3, FALSE) -> 2 | AP10: =VLOOKUP(B10,'W14'!$A$3:$C$66,3, FALSE) -> 2 | AQ10: =VLOOKUP(B10,'W15'!$A$3:$C$66,3, FALSE) -> 2 | AR10: =VLOOKUP(B10,'W16'!$A$3:$C$66,3, FALSE) -> 1 | AS10: =VLOOKUP(B10,'W17'!$A$3:$C$66,3, FALSE) -> 1 | AT10: =VLOOKUP(B10,'W18'!$A$3:$C$66,3, FALSE) -> 2 | AU10: =VLOOKUP(B10,'W19'!$A$3:$C$65,3, FALSE) -> 3 | AV10: =SUM(AC10:AU10) -> 30.5
A11: 9 | B11: Middleton, Jason | C11: =AA11 -> 182 | D11: =$AA$69 -> 284 | E11: =C11/D11 -> 0.64084507 | F11: =AV11 -> 31.5 | H11: =VLOOKUP(B11,'W01'!$A$3:$B$66,2, FALSE) -> 8.5 | I11: =VLOOKUP(B11,'W02'!$A$3:$B$66,2, FALSE) -> 8 | J11: =VLOOKUP(B11,'W03'!$A$3:$B$66,2, FALSE) -> 9 | K11: =VLOOKUP(B11,'W04'!$A$3:$B$66,2, FALSE) -> 11 | L11: =VLOOKUP(B11,'W05'!$A$3:$B$67,2, FALSE) -> 10 | M11: =VLOOKUP(B11,'W06'!$A$3:$B$67,2, FALSE) -> 7 | N11: =VLOOKUP(B11,'W07'!$A$3:$B$67,2, FALSE) -> 9 | O11: =VLOOKUP(B11,'W08'!$A$3:$B$67,2, FALSE) -> 11 | P11: =VLOOKUP(B11,'W09'!$A$3:$B$66,2, FALSE) -> 7 | Q11: =VLOOKUP(B11,'W10'!$A$3:$B$66,2, FALSE) -> 8 | R11: =VLOOKUP(B11,'W11'!$A$3:$B$66,2, FALSE) -> 10 | S11: =VLOOKUP(B11,'W12'!$A$3:$B$66,2, FALSE) -> 12 | T11: =VLOOKUP(B11,'W13'!$A$3:$B$66,2, FALSE) -> 10.5 | U11: =VLOOKUP(B11,'W14'!$A$3:$B$66,2, FALSE) -> 9 | V11: =VLOOKUP(B11,'W15'!$A$3:$B$66,2, FALSE) -> 14 | W11: =VLOOKUP(B11,'W16'!$A$3:$B$66,2, FALSE) -> 10 | X11: =VLOOKUP(B11,'W17'!$A$3:$B$66,2, FALSE) -> 10 | Y11: =VLOOKUP(B11,'W18'!$A$3:$B$66,2, FALSE) -> 10 | Z11: =VLOOKUP(B11,'W19'!$A$3:$B$65,2, FALSE) -> 8 | AA11: =SUM(H11:Z11) -> 182 | AC11: =VLOOKUP(B11,'W01'!$A$3:$C$66,3, FALSE) -> 0.5 | AD11: =VLOOKUP(B11,'W02'!$A$3:$C$66,3, FALSE) -> 2 | AE11: =VLOOKUP(B11,'W03'!$A$3:$C$66,3, FALSE) -> 2 | AF11: =VLOOKUP(B11,'W04'!$A$3:$C$66,3, FALSE) -> 2 | AG11: =VLOOKUP(B11,'W05'!$A$3:$C$67,3, FALSE) -> 1 | AH11: =VLOOKUP(B11,'W06'!$A$3:$C$67,3, FALSE) -> 0 | AI11: =VLOOKUP(B11,'W07'!$A$3:$C$67,3, FALSE) -> 2 | AJ11: =VLOOKUP(B11,'W08'!$A$3:$C$67,3, FALSE) -> 1 | AK11: =VLOOKUP(B11,'W09'!$A$3:$C$66,3, FALSE) -> 2 | AL11: =VLOOKUP(B11,'W10'!$A$3:$C$66,3, FALSE) -> 1 | AM11: =VLOOKUP(B11,'W11'!$A$3:$C$66,3, FALSE) -> 2 | AN11: =VLOOKUP(B11,'W12'!$A$3:$C$66,3, FALSE) -> 2 | AO11: =VLOOKUP(B11,'W13'!$A$3:$C$66,3, FALSE) -> 2 | AP11: =VLOOKUP(B11,'W14'!$A$3:$C$66,3, FALSE) -> 2 | AQ11: =VLOOKUP(B11,'W15'!$A$3:$C$66,3, FALSE) -> 1 | AR11: =VLOOKUP(B11,'W16'!$A$3:$C$66,3, FALSE) -> 2 | AS11: =VLOOKUP(B11,'W17'!$A$3:$C$66,3, FALSE) -> 2 | AT11: =VLOOKUP(B11,'W18'!$A$3:$C$66,3, FALSE) -> 1 | AU11: =VLOOKUP(B11,'W19'!$A$3:$C$65,3, FALSE) -> 4 | AV11: =SUM(AC11:AU11) -> 31.5
A12: 10 | B12: Young, Michael | C12: =AA12 -> 181 | D12: =$AA$69 -> 284 | E12: =C12/D12 -> 0.63732394 | F12: =AV12 -> 33 | H12: =VLOOKUP(B12,'W01'!$A$3:$B$66,2, FALSE) -> 5.5 | I12: =VLOOKUP(B12,'W02'!$A$3:$B$66,2, FALSE) -> 9 | J12: =VLOOKUP(B12,'W03'!$A$3:$B$66,2, FALSE) -> 4 | K12: =VLOOKUP(B12,'W04'!$A$3:$B$66,2, FALSE) -> 9 | L12: =VLOOKUP(B12,'W05'!$A$3:$B$67,2, FALSE) -> 10 | M12: =VLOOKUP(B12,'W06'!$A$3:$B$67,2, FALSE) -> 5 | N12: =VLOOKUP(B12,'W07'!$A$3:$B$67,2, FALSE) -> 9 | O12: =VLOOKUP(B12,'W08'!$A$3:$B$67,2, FALSE) -> 12 | P12: =VLOOKUP(B12,'W09'!$A$3:$B$66,2, FALSE) -> 8 | Q12: =VLOOKUP(B12,'W10'!$A$3:$B$66,2, FALSE) -> 10 | R12: =VLOOKUP(B12,'W11'!$A$3:$B$66,2, FALSE) -> 13 | S12: =VLOOKUP(B12,'W12'!$A$3:$B$66,2, FALSE) -> 11 | T12: =VLOOKUP(B12,'W13'!$A$3:$B$66,2, FALSE) -> 12.5 | U12: =VLOOKUP(B12,'W14'!$A$3:$B$66,2, FALSE) -> 9 | V12: =VLOOKUP(B12,'W15'!$A$3:$B$66,2, FALSE) -> 10 | W12: =VLOOKUP(B12,'W16'!$A$3:$B$66,2, FALSE) -> 13 | X12: =VLOOKUP(B12,'W17'!$A$3:$B$66,2, FALSE) -> 12 | Y12: =VLOOKUP(B12,'W18'!$A$3:$B$66,2, FALSE) -> 11 | Z12: =VLOOKUP(B12,'W19'!$A$3:$B$65,2, FALSE) -> 8 | AA12: =SUM(H12:Z12) -> 181 | AC12: =VLOOKUP(B12,'W01'!$A$3:$C$66,3, FALSE) -> 2 | AD12: =VLOOKUP(B12,'W02'!$A$3:$C$66,3, FALSE) -> 2 | AE12: =VLOOKUP(B12,'W03'!$A$3:$C$66,3, FALSE) -> 0 | AF12: =VLOOKUP(B12,'W04'!$A$3:$C$66,3, FALSE) -> 2 | AG12: =VLOOKUP(B12,'W05'!$A$3:$C$67,3, FALSE) -> 2 | AH12: =VLOOKUP(B12,'W06'!$A$3:$C$67,3, FALSE) -> 1 | AI12: =VLOOKUP(B12,'W07'!$A$3:$C$67,3, FALSE) -> 0 | AJ12: =VLOOKUP(B12,'W08'!$A$3:$C$67,3, FALSE) -> 2 | AK12: =VLOOKUP(B12,'W09'!$A$3:$C$66,3, FALSE) -> 1 | AL12: =VLOOKUP(B12,'W10'!$A$3:$C$66,3, FALSE) -> 2 | AM12: =VLOOKUP(B12,'W11'!$A$3:$C$66,3, FALSE) -> 2 | AN12: =VLOOKUP(B12,'W12'!$A$3:$C$66,3, FALSE) -> 2 | AO12: =VLOOKUP(B12,'W13'!$A$3:$C$66,3, FALSE) -> 2 | AP12: =VLOOKUP(B12,'W14'!$A$3:$C$66,3, FALSE) -> 2 | AQ12: =VLOOKUP(B12,'W15'!$A$3:$C$66,3, FALSE) -> 1 | AR12: =VLOOKUP(B12,'W16'!$A$3:$C$66,3, FALSE) -> 2 | AS12: =VLOOKUP(B12,'W17'!$A$3:$C$66,3, FALSE) -> 2 | AT12: =VLOOKUP(B12,'W18'!$A$3:$C$66,3, FALSE) -> 2 | AU12: =VLOOKUP(B12,'W19'!$A$3:$C$65,3, FALSE) -> 4 | AV12: =SUM(AC12:AU12) -> 33
A13: 11 | B13: Seamands, Jorden | C13: =AA13 -> 180 | D13: =$AA$69 -> 284 | E13: =C13/D13 -> 0.63380282 | F13: =AV13 -> 34.5 | H13: =VLOOKUP(B13,'W01'!$A$3:$B$66,2, FALSE) -> 8.5 | I13: =VLOOKUP(B13,'W02'!$A$3:$B$66,2, FALSE) -> 10 | J13: =VLOOKUP(B13,'W03'!$A$3:$B$66,2, FALSE) -> 7 | K13: =VLOOKUP(B13,'W04'!$A$3:$B$66,2, FALSE) -> 11 | L13: =VLOOKUP(B13,'W05'!$A$3:$B$67,2, FALSE) -> 10 | M13: =VLOOKUP(B13,'W06'!$A$3:$B$67,2, FALSE) -> 6 | N13: =VLOOKUP(B13,'W07'!$A$3:$B$67,2, FALSE) -> 10 | O13: =VLOOKUP(B13,'W08'!$A$3:$B$67,2, FALSE) -> 10 | P13: =VLOOKUP(B13,'W09'!$A$3:$B$66,2, FALSE) -> 10 | Q13: =VLOOKUP(B13,'W10'!$A$3:$B$66,2, FALSE) -> 6 | R13: =VLOOKUP(B13,'W11'!$A$3:$B$66,2, FALSE) -> 10 | S13: =VLOOKUP(B13,'W12'!$A$3:$B$66,2, FALSE) -> 10 | T13: =VLOOKUP(B13,'W13'!$A$3:$B$66,2, FALSE) -> 11.5 | U13: =VLOOKUP(B13,'W14'!$A$3:$B$66,2, FALSE) -> 8 | V13: =VLOOKUP(B13,'W15'!$A$3:$B$66,2, FALSE) -> 11 | W13: =VLOOKUP(B13,'W16'!$A$3:$B$66,2, FALSE) -> 9 | X13: =VLOOKUP(B13,'W17'!$A$3:$B$66,2, FALSE) -> 11 | Y13: =VLOOKUP(B13,'W18'!$A$3:$B$66,2, FALSE) -> 12 | Z13: =VLOOKUP(B13,'W19'!$A$3:$B$65,2, FALSE) -> 9 | AA13: =SUM(H13:Z13) -> 180 | AC13: =VLOOKUP(B13,'W01'!$A$3:$C$66,3, FALSE) -> 1.5 | AD13: =VLOOKUP(B13,'W02'!$A$3:$C$66,3, FALSE) -> 2 | AE13: =VLOOKUP(B13,'W03'!$A$3:$C$66,3, FALSE) -> 1 | AF13: =VLOOKUP(B13,'W04'!$A$3:$C$66,3, FALSE) -> 2 | AG13: =VLOOKUP(B13,'W05'!$A$3:$C$67,3, FALSE) -> 2 | AH13: =VLOOKUP(B13,'W06'!$A$3:$C$67,3, FALSE) -> 1 | AI13: =VLOOKUP(B13,'W07'!$A$3:$C$67,3, FALSE) -> 1 | AJ13: =VLOOKUP(B13,'W08'!$A$3:$C$67,3, FALSE) -> 2 | AK13: =VLOOKUP(B13,'W09'!$A$3:$C$66,3, FALSE) -> 2 | AL13: =VLOOKUP(B13,'W10'!$A$3:$C$66,3, FALSE) -> 1 | AM13: =VLOOKUP(B13,'W11'!$A$3:$C$66,3, FALSE) -> 2 | AN13: =VLOOKUP(B13,'W12'!$A$3:$C$66,3, FALSE) -> 2 | AO13: =VLOOKUP(B13,'W13'!$A$3:$C$66,3, FALSE) -> 2 | AP13: =VLOOKUP(B13,'W14'!$A$3:$C$66,3, FALSE) -> 2 | AQ13: =VLOOKUP(B13,'W15'!$A$3:$C$66,3, FALSE) -> 2 | AR13: =VLOOKUP(B13,'W16'!$A$3:$C$66,3, FALSE) -> 2 | AS13: =VLOOKUP(B13,'W17'!$A$3:$C$66,3, FALSE) -> 2 | AT13: =VLOOKUP(B13,'W18'!$A$3:$C$66,3, FALSE) -> 2 | AU13: =VLOOKUP(B13,'W19'!$A$3:$C$65,3, FALSE) -> 3 | AV13: =SUM(AC13:AU13) -> 34.5
A14: 12 | B14: Skipper, Eric | C14: =AA14 -> 180 | D14: =$AA$69 -> 284 | E14: =C14/D14 -> 0.63380282 | F14: =AV14 -> 30 | H14: =VLOOKUP(B14,'W01'!$A$3:$B$66,2, FALSE) -> 8.5 | I14: =VLOOKUP(B14,'W02'!$A$3:$B$66,2, FALSE) -> 11 | J14: =VLOOKUP(B14,'W03'!$A$3:$B$66,2, FALSE) -> 8 | K14: =VLOOKUP(B14,'W04'!$A$3:$B$66,2, FALSE) -> 9 | L14: =VLOOKUP(B14,'W05'!$A$3:$B$67,2, FALSE) -> 11 | M14: =VLOOKUP(B14,'W06'!$A$3:$B$67,2, FALSE) -> 6 | N14: =VLOOKUP(B14,'W07'!$A$3:$B$67,2, FALSE) -> 10 | O14: =VLOOKUP(B14,'W08'!$A$3:$B$67,2, FALSE) -> 6 | P14: =VLOOKUP(B14,'W09'!$A$3:$B$66,2, FALSE) -> 9 | Q14: =VLOOKUP(B14,'W10'!$A$3:$B$66,2, FALSE) -> 8 | R14: =VLOOKUP(B14,'W11'!$A$3:$B$66,2, FALSE) -> 11 | S14: =VLOOKUP(B14,'W12'!$A$3:$B$66,2, FALSE) -> 12 | T14: =VLOOKUP(B14,'W13'!$A$3:$B$66,2, FALSE) -> 12.5 | U14: =VLOOKUP(B14,'W14'!$A$3:$B$66,2, FALSE) -> 7 | V14: =VLOOKUP(B14,'W15'!$A$3:$B$66,2, FALSE) -> 11 | W14: =VLOOKUP(B14,'W16'!$A$3:$B$66,2, FALSE) -> 10 | X14: =VLOOKUP(B14,'W17'!$A$3:$B$66,2, FALSE) -> 12 | Y14: =VLOOKUP(B14,'W18'!$A$3:$B$66,2, FALSE) -> 10 | Z14: =VLOOKUP(B14,'W19'!$A$3:$B$65,2, FALSE) -> 8 | AA14: =SUM(H14:Z14) -> 180 | AC14: =VLOOKUP(B14,'W01'!$A$3:$C$66,3, FALSE) -> 1 | AD14: =VLOOKUP(B14,'W02'!$A$3:$C$66,3, FALSE) -> 2 | AE14: =VLOOKUP(B14,'W03'!$A$3:$C$66,3, FALSE) -> 1 | AF14: =VLOOKUP(B14,'W04'!$A$3:$C$66,3, FALSE) -> 2 | AG14: =VLOOKUP(B14,'W05'!$A$3:$C$67,3, FALSE) -> 2 | AH14: =VLOOKUP(B14,'W06'!$A$3:$C$67,3, FALSE) -> 1 | AI14: =VLOOKUP(B14,'W07'!$A$3:$C$67,3, FALSE) -> 1 | AJ14: =VLOOKUP(B14,'W08'!$A$3:$C$67,3, FALSE) -> 0 | AK14: =VLOOKUP(B14,'W09'!$A$3:$C$66,3, FALSE) -> 1 | AL14: =VLOOKUP(B14,'W10'!$A$3:$C$66,3, FALSE) -> 1 | AM14: =VLOOKUP(B14,'W11'!$A$3:$C$66,3, FALSE) -> 1 | AN14: =VLOOKUP(B14,'W12'!$A$3:$C$66,3, FALSE) -> 2 | AO14: =VLOOKUP(B14,'W13'!$A$3:$C$66,3, FALSE) -> 2 | AP14: =VLOOKUP(B14,'W14'!$A$3:$C$66,3, FALSE) -> 2 | AQ14: =VLOOKUP(B14,'W15'!$A$3:$C$66,3, FALSE) -> 2 | AR14: =VLOOKUP(B14,'W16'!$A$3:$C$66,3, FALSE) -> 2 | AS14: =VLOOKUP(B14,'W17'!$A$3:$C$66,3, FALSE) -> 2 | AT14: =VLOOKUP(B14,'W18'!$A$3:$C$66,3, FALSE) -> 2 | AU14: =VLOOKUP(B14,'W19'!$A$3:$C$65,3, FALSE) -> 3 | AV14: =SUM(AC14:AU14) -> 30
A15: 13 | B15: Howard, Bill | C15: =AA15 -> 180 | D15: =$AA$69 -> 284 | E15: =C15/D15 -> 0.63380282 | F15: 29, 17-12-9 | H15: =VLOOKUP(B15,'W01'!$A$3:$B$66,2, FALSE) -> 8.5 | I15: =VLOOKUP(B15,'W02'!$A$3:$B$66,2, FALSE) -> 9 | J15: =VLOOKUP(B15,'W03'!$A$3:$B$66,2, FALSE) -> 10 | K15: =VLOOKUP(B15,'W04'!$A$3:$B$66,2, FALSE) -> 7 | L15: =VLOOKUP(B15,'W05'!$A$3:$B$67,2, FALSE) -> 11 | M15: =VLOOKUP(B15,'W06'!$A$3:$B$67,2, FALSE) -> 9 | N15: =VLOOKUP(B15,'W07'!$A$3:$B$67,2, FALSE) -> 9 | O15: =VLOOKUP(B15,'W08'!$A$3:$B$67,2, FALSE) -> 10 | P15: =VLOOKUP(B15,'W09'!$A$3:$B$66,2, FALSE) -> 9 | Q15: =VLOOKUP(B15,'W10'!$A$3:$B$66,2, FALSE) -> 8 | R15: =VLOOKUP(B15,'W11'!$A$3:$B$66,2, FALSE) -> 11 | S15: =VLOOKUP(B15,'W12'!$A$3:$B$66,2, FALSE) -> 10 | T15: =VLOOKUP(B15,'W13'!$A$3:$B$66,2, FALSE) -> 11.5 | U15: =VLOOKUP(B15,'W14'!$A$3:$B$66,2, FALSE) -> 7 | V15: =VLOOKUP(B15,'W15'!$A$3:$B$66,2, FALSE) -> 9 | W15: =VLOOKUP(B15,'W16'!$A$3:$B$66,2, FALSE) -> 12 | X15: =VLOOKUP(B15,'W17'!$A$3:$B$66,2, FALSE) -> 11 | Y15: =VLOOKUP(B15,'W18'!$A$3:$B$66,2, FALSE) -> 9 | Z15: =VLOOKUP(B15,'W19'!$A$3:$B$65,2, FALSE) -> 9 | AA15: =SUM(H15:Z15) -> 180 | AC15: =VLOOKUP(B15,'W01'!$A$3:$C$66,3, FALSE) -> 0 | AD15: =VLOOKUP(B15,'W02'!$A$3:$C$66,3, FALSE) -> 2 | AE15: =VLOOKUP(B15,'W03'!$A$3:$C$66,3, FALSE) -> 1 | AF15: =VLOOKUP(B15,'W04'!$A$3:$C$66,3, FALSE) -> 2 | AG15: =VLOOKUP(B15,'W05'!$A$3:$C$67,3, FALSE) -> 1 | AH15: =VLOOKUP(B15,'W06'!$A$3:$C$67,3, FALSE) -> 1 | AI15: =VLOOKUP(B15,'W07'!$A$3:$C$67,3, FALSE) -> 1 | AJ15: =VLOOKUP(B15,'W08'!$A$3:$C$67,3, FALSE) -> 2 | AK15: =VLOOKUP(B15,'W09'!$A$3:$C$66,3, FALSE) -> 2 | AL15: =VLOOKUP(B15,'W10'!$A$3:$C$66,3, FALSE) -> 1 | AM15: =VLOOKUP(B15,'W11'!$A$3:$C$66,3, FALSE) -> 1 | AN15: =VLOOKUP(B15,'W12'!$A$3:$C$66,3, FALSE) -> 2 | AO15: =VLOOKUP(B15,'W13'!$A$3:$C$66,3, FALSE) -> 2 | AP15: =VLOOKUP(B15,'W14'!$A$3:$C$66,3, FALSE) -> 2 | AQ15: =VLOOKUP(B15,'W15'!$A$3:$C$66,3, FALSE) -> 2 | AR15: =VLOOKUP(B15,'W16'!$A$3:$C$66,3, FALSE) -> 1 | AS15: =VLOOKUP(B15,'W17'!$A$3:$C$66,3, FALSE) -> 1 | AT15: =VLOOKUP(B15,'W18'!$A$3:$C$66,3, FALSE) -> 1 | AU15: =VLOOKUP(B15,'W19'!$A$3:$C$65,3, FALSE) -> 4 | AV15: =SUM(AC15:AU15) -> 29
A16: 14 | B16: Honeycutt, Terry | C16: =AA16 -> 180 | D16: =$AA$69 -> 284 | E16: =C16/D16 -> 0.63380282 | F16: 29, 16-14-8 | H16: =VLOOKUP(B16,'W01'!$A$3:$B$66,2, FALSE) -> 9.5 | I16: =VLOOKUP(B16,'W02'!$A$3:$B$66,2, FALSE) -> 10 | J16: =VLOOKUP(B16,'W03'!$A$3:$B$66,2, FALSE) -> 8 | K16: =VLOOKUP(B16,'W04'!$A$3:$B$66,2, FALSE) -> 10 | L16: =VLOOKUP(B16,'W05'!$A$3:$B$67,2, FALSE) -> 9 | M16: =VLOOKUP(B16,'W06'!$A$3:$B$67,2, FALSE) -> 8 | N16: =VLOOKUP(B16,'W07'!$A$3:$B$67,2, FALSE) -> 10 | O16: =VLOOKUP(B16,'W08'!$A$3:$B$67,2, FALSE) -> 11 | P16: =VLOOKUP(B16,'W09'!$A$3:$B$66,2, FALSE) -> 8 | Q16: =VLOOKUP(B16,'W10'!$A$3:$B$66,2, FALSE) -> 5 | R16: =VLOOKUP(B16,'W11'!$A$3:$B$66,2, FALSE) -> 9 | S16: =VLOOKUP(B16,'W12'!$A$3:$B$66,2, FALSE) -> 10 | T16: =VLOOKUP(B16,'W13'!$A$3:$B$66,2, FALSE) -> 13.5 | U16: =VLOOKUP(B16,'W14'!$A$3:$B$66,2, FALSE) -> 6 | V16: =VLOOKUP(B16,'W15'!$A$3:$B$66,2, FALSE) -> 12 | W16: =VLOOKUP(B16,'W16'!$A$3:$B$66,2, FALSE) -> 12 | X16: =VLOOKUP(B16,'W17'!$A$3:$B$66,2, FALSE) -> 12 | Y16: =VLOOKUP(B16,'W18'!$A$3:$B$66,2, FALSE) -> 9 | Z16: =VLOOKUP(B16,'W19'!$A$3:$B$65,2, FALSE) -> 8 | AA16: =SUM(H16:Z16) -> 180 | AC16: =VLOOKUP(B16,'W01'!$A$3:$C$66,3, FALSE) -> 1 | AD16: =VLOOKUP(B16,'W02'!$A$3:$C$66,3, FALSE) -> 2 | AE16: =VLOOKUP(B16,'W03'!$A$3:$C$66,3, FALSE) -> 0 | AF16: =VLOOKUP(B16,'W04'!$A$3:$C$66,3, FALSE) -> 2 | AG16: =VLOOKUP(B16,'W05'!$A$3:$C$67,3, FALSE) -> 1 | AH16: =VLOOKUP(B16,'W06'!$A$3:$C$67,3, FALSE) -> 0 | AI16: =VLOOKUP(B16,'W07'!$A$3:$C$67,3, FALSE) -> 1 | AJ16: =VLOOKUP(B16,'W08'!$A$3:$C$67,3, FALSE) -> 2 | AK16: =VLOOKUP(B16,'W09'!$A$3:$C$66,3, FALSE) -> 1 | AL16: =VLOOKUP(B16,'W10'!$A$3:$C$66,3, FALSE) -> 1 | AM16: =VLOOKUP(B16,'W11'!$A$3:$C$66,3, FALSE) -> 2 | AN16: =VLOOKUP(B16,'W12'!$A$3:$C$66,3, FALSE) -> 2 | AO16: =VLOOKUP(B16,'W13'!$A$3:$C$66,3, FALSE) -> 2 | AP16: =VLOOKUP(B16,'W14'!$A$3:$C$66,3, FALSE) -> 2 | AQ16: =VLOOKUP(B16,'W15'!$A$3:$C$66,3, FALSE) -> 2 | AR16: =VLOOKUP(B16,'W16'!$A$3:$C$66,3, FALSE) -> 2 | AS16: =VLOOKUP(B16,'W17'!$A$3:$C$66,3, FALSE) -> 2 | AT16: =VLOOKUP(B16,'W18'!$A$3:$C$66,3, FALSE) -> 2 | AU16: =VLOOKUP(B16,'W19'!$A$3:$C$65,3, FALSE) -> 2 | AV16: =SUM(AC16:AU16) -> 29
A17: 15 | B17: Ardill, Scott | C17: =AA17 -> 180 | D17: =$AA$69 -> 284 | E17: =C17/D17 -> 0.63380282 | F17: 29, 10-17-11 | H17: =VLOOKUP(B17,'W01'!$A$3:$B$66,2, FALSE) -> 10.5 | I17: =VLOOKUP(B17,'W02'!$A$3:$B$66,2, FALSE) -> 8 | J17: =VLOOKUP(B17,'W03'!$A$3:$B$66,2, FALSE) -> 8 | K17: =VLOOKUP(B17,'W04'!$A$3:$B$66,2, FALSE) -> 12 | L17: =VLOOKUP(B17,'W05'!$A$3:$B$67,2, FALSE) -> 11 | M17: =VLOOKUP(B17,'W06'!$A$3:$B$67,2, FALSE) -> 7 | N17: =VLOOKUP(B17,'W07'!$A$3:$B$67,2, FALSE) -> 8 | O17: =VLOOKUP(B17,'W08'!$A$3:$B$67,2, FALSE) -> 10 | P17: =VLOOKUP(B17,'W09'!$A$3:$B$66,2, FALSE) -> 9 | Q17: =VLOOKUP(B17,'W10'!$A$3:$B$66,2, FALSE) -> 5 | R17: =VLOOKUP(B17,'W11'!$A$3:$B$66,2, FALSE) -> 9 | S17: =VLOOKUP(B17,'W12'!$A$3:$B$66,2, FALSE) -> 10 | T17: =VLOOKUP(B17,'W13'!$A$3:$B$66,2, FALSE) -> 11.5 | U17: =VLOOKUP(B17,'W14'!$A$3:$B$66,2, FALSE) -> 6 | V17: =VLOOKUP(B17,'W15'!$A$3:$B$66,2, FALSE) -> 14 | W17: =VLOOKUP(B17,'W16'!$A$3:$B$66,2, FALSE) -> 11 | X17: =VLOOKUP(B17,'W17'!$A$3:$B$66,2, FALSE) -> 11 | Y17: =VLOOKUP(B17,'W18'!$A$3:$B$66,2, FALSE) -> 12 | Z17: =VLOOKUP(B17,'W19'!$A$3:$B$65,2, FALSE) -> 7 | AA17: =SUM(H17:Z17) -> 180 | AC17: =VLOOKUP(B17,'W01'!$A$3:$C$66,3, FALSE) -> 0 | AD17: =VLOOKUP(B17,'W02'!$A$3:$C$66,3, FALSE) -> 1 | AE17: =VLOOKUP(B17,'W03'!$A$3:$C$66,3, FALSE) -> 0 | AF17: =VLOOKUP(B17,'W04'!$A$3:$C$66,3, FALSE) -> 2 | AG17: =VLOOKUP(B17,'W05'!$A$3:$C$67,3, FALSE) -> 2 | AH17: =VLOOKUP(B17,'W06'!$A$3:$C$67,3, FALSE) -> 1 | AI17: =VLOOKUP(B17,'W07'!$A$3:$C$67,3, FALSE) -> 1 | AJ17: =VLOOKUP(B17,'W08'!$A$3:$C$67,3, FALSE) -> 2 | AK17: =VLOOKUP(B17,'W09'!$A$3:$C$66,3, FALSE) -> 1 | AL17: =VLOOKUP(B17,'W10'!$A$3:$C$66,3, FALSE) -> 1 | AM17: =VLOOKUP(B17,'W11'!$A$3:$C$66,3, FALSE) -> 2 | AN17: =VLOOKUP(B17,'W12'!$A$3:$C$66,3, FALSE) -> 2 | AO17: =VLOOKUP(B17,'W13'!$A$3:$C$66,3, FALSE) -> 2 | AP17: =VLOOKUP(B17,'W14'!$A$3:$C$66,3, FALSE) -> 2 | AQ17: =VLOOKUP(B17,'W15'!$A$3:$C$66,3, FALSE) -> 2 | AR17: =VLOOKUP(B17,'W16'!$A$3:$C$66,3, FALSE) -> 2 | AS17: =VLOOKUP(B17,'W17'!$A$3:$C$66,3, FALSE) -> 2 | AT17: =VLOOKUP(B17,'W18'!$A$3:$C$66,3, FALSE) -> 1 | AU17: =VLOOKUP(B17,'W19'!$A$3:$C$65,3, FALSE) -> 3 | AV17: =SUM(AC17:AU17) -> 29
A18: 16 | B18: Seamands, Mike | C18: =AA18 -> 180 | D18: =$AA$69 -> 284 | E18: =C18/D18 -> 0.63380282 | F18: =AV18 -> 25 | H18: =VLOOKUP(B18,'W01'!$A$3:$B$66,2, FALSE) -> 8.5 | I18: =VLOOKUP(B18,'W02'!$A$3:$B$66,2, FALSE) -> 11 | J18: =VLOOKUP(B18,'W03'!$A$3:$B$66,2, FALSE) -> 8 | K18: =VLOOKUP(B18,'W04'!$A$3:$B$66,2, FALSE) -> 11 | L18: =VLOOKUP(B18,'W05'!$A$3:$B$67,2, FALSE) -> 8 | M18: =VLOOKUP(B18,'W06'!$A$3:$B$67,2, FALSE) -> 6 | N18: =VLOOKUP(B18,'W07'!$A$3:$B$67,2, FALSE) -> 10 | O18: =VLOOKUP(B18,'W08'!$A$3:$B$67,2, FALSE) -> 9 | P18: =VLOOKUP(B18,'W09'!$A$3:$B$66,2, FALSE) -> 10 | Q18: =VLOOKUP(B18,'W10'!$A$3:$B$66,2, FALSE) -> 6 | R18: =VLOOKUP(B18,'W11'!$A$3:$B$66,2, FALSE) -> 8 | S18: =VLOOKUP(B18,'W12'!$A$3:$B$66,2, FALSE) -> 12 | T18: =VLOOKUP(B18,'W13'!$A$3:$B$66,2, FALSE) -> 12.5 | U18: =VLOOKUP(B18,'W14'!$A$3:$B$66,2, FALSE) -> 10 | V18: =VLOOKUP(B18,'W15'!$A$3:$B$66,2, FALSE) -> 12 | W18: =VLOOKUP(B18,'W16'!$A$3:$B$66,2, FALSE) -> 9 | X18: =VLOOKUP(B18,'W17'!$A$3:$B$66,2, FALSE) -> 10 | Y18: =VLOOKUP(B18,'W18'!$A$3:$B$66,2, FALSE) -> 9 | Z18: =VLOOKUP(B18,'W19'!$A$3:$B$65,2, FALSE) -> 10 | AA18: =SUM(H18:Z18) -> 180 | AC18: =VLOOKUP(B18,'W01'!$A$3:$C$66,3, FALSE) -> 1 | AD18: =VLOOKUP(B18,'W02'!$A$3:$C$66,3, FALSE) -> 2 | AE18: =VLOOKUP(B18,'W03'!$A$3:$C$66,3, FALSE) -> 0 | AF18: =VLOOKUP(B18,'W04'!$A$3:$C$66,3, FALSE) -> 1 | AG18: =VLOOKUP(B18,'W05'!$A$3:$C$67,3, FALSE) -> 2 | AH18: =VLOOKUP(B18,'W06'!$A$3:$C$67,3, FALSE) -> 1 | AI18: =VLOOKUP(B18,'W07'!$A$3:$C$67,3, FALSE) -> 1 | AJ18: =VLOOKUP(B18,'W08'!$A$3:$C$67,3, FALSE) -> 2 | AK18: =VLOOKUP(B18,'W09'!$A$3:$C$66,3, FALSE) -> 1 | AL18: =VLOOKUP(B18,'W10'!$A$3:$C$66,3, FALSE) -> 0 | AM18: =VLOOKUP(B18,'W11'!$A$3:$C$66,3, FALSE) -> 2 | AN18: =VLOOKUP(B18,'W12'!$A$3:$C$66,3, FALSE) -> 1 | AO18: =VLOOKUP(B18,'W13'!$A$3:$C$66,3, FALSE) -> 2 | AP18: =VLOOKUP(B18,'W14'!$A$3:$C$66,3, FALSE) -> 1 | AQ18: =VLOOKUP(B18,'W15'!$A$3:$C$66,3, FALSE) -> 2 | AR18: =VLOOKUP(B18,'W16'!$A$3:$C$66,3, FALSE) -> 0 | AS18: =VLOOKUP(B18,'W17'!$A$3:$C$66,3, FALSE) -> 2 | AT18: =VLOOKUP(B18,'W18'!$A$3:$C$66,3, FALSE) -> 1 | AU18: =VLOOKUP(B18,'W19'!$A$3:$C$65,3, FALSE) -> 3 | AV18: =SUM(AC18:AU18) -> 25
A19: 17 | B19: Seamands, Natalie | C19: =AA19 -> 178 | D19: =$AA$69 -> 284 | E19: =C19/D19 -> 0.62676056 | F19: =AV19 -> 27.5 | H19: =VLOOKUP(B19,'W01'!$A$3:$B$66,2, FALSE) -> 10.5 | I19: =VLOOKUP(B19,'W02'!$A$3:$B$66,2, FALSE) -> 7 | J19: =VLOOKUP(B19,'W03'!$A$3:$B$66,2, FALSE) -> 6 | K19: =VLOOKUP(B19,'W04'!$A$3:$B$66,2, FALSE) -> 11 | L19: =VLOOKUP(B19,'W05'!$A$3:$B$67,2, FALSE) -> 9 | M19: =VLOOKUP(B19,'W06'!$A$3:$B$67,2, FALSE) -> 6 | N19: =VLOOKUP(B19,'W07'!$A$3:$B$67,2, FALSE) -> 10 | O19: =VLOOKUP(B19,'W08'!$A$3:$B$67,2, FALSE) -> 9 | P19: =VLOOKUP(B19,'W09'!$A$3:$B$66,2, FALSE) -> 9 | Q19: =VLOOKUP(B19,'W10'!$A$3:$B$66,2, FALSE) -> 6 | R19: =VLOOKUP(B19,'W11'!$A$3:$B$66,2, FALSE) -> 11 | S19: =VLOOKUP(B19,'W12'!$A$3:$B$66,2, FALSE) -> 10 | T19: =VLOOKUP(B19,'W13'!$A$3:$B$66,2, FALSE) -> 12.5 | U19: =VLOOKUP(B19,'W14'!$A$3:$B$66,2, FALSE) -> 8 | V19: =VLOOKUP(B19,'W15'!$A$3:$B$66,2, FALSE) -> 11 | W19: =VLOOKUP(B19,'W16'!$A$3:$B$66,2, FALSE) -> 9 | X19: =VLOOKUP(B19,'W17'!$A$3:$B$66,2, FALSE) -> 11 | Y19: =VLOOKUP(B19,'W18'!$A$3:$B$66,2, FALSE) -> 11 | Z19: =VLOOKUP(B19,'W19'!$A$3:$B$65,2, FALSE) -> 11 | AA19: =SUM(H19:Z19) -> 178 | AC19: =VLOOKUP(B19,'W01'!$A$3:$C$66,3, FALSE) -> 1.5 | AD19: =VLOOKUP(B19,'W02'!$A$3:$C$66,3, FALSE) -> 0 | AE19: =VLOOKUP(B19,'W03'!$A$3:$C$66,3, FALSE) -> 1 | AF19: =VLOOKUP(B19,'W04'!$A$3:$C$66,3, FALSE) -> 1 | AG19: =VLOOKUP(B19,'W05'!$A$3:$C$67,3, FALSE) -> 2 | AH19: =VLOOKUP(B19,'W06'!$A$3:$C$67,3, FALSE) -> 0 | AI19: =VLOOKUP(B19,'W07'!$A$3:$C$67,3, FALSE) -> 1 | AJ19: =VLOOKUP(B19,'W08'!$A$3:$C$67,3, FALSE) -> 2 | AK19: =VLOOKUP(B19,'W09'!$A$3:$C$66,3, FALSE) -> 2 | AL19: =VLOOKUP(B19,'W10'!$A$3:$C$66,3, FALSE) -> 1 | AM19: =VLOOKUP(B19,'W11'!$A$3:$C$66,3, FALSE) -> 2 | AN19: =VLOOKUP(B19,'W12'!$A$3:$C$66,3, FALSE) -> 2 | AO19: =VLOOKUP(B19,'W13'!$A$3:$C$66,3, FALSE) -> 1 | AP19: =VLOOKUP(B19,'W14'!$A$3:$C$66,3, FALSE) -> 2 | AQ19: =VLOOKUP(B19,'W15'!$A$3:$C$66,3, FALSE) -> 2 | AR19: =VLOOKUP(B19,'W16'!$A$3:$C$66,3, FALSE) -> 1 | AS19: =VLOOKUP(B19,'W17'!$A$3:$C$66,3, FALSE) -> 1 | AT19: =VLOOKUP(B19,'W18'!$A$3:$C$66,3, FALSE) -> 3 | AU19: =VLOOKUP(B19,'W19'!$A$3:$C$65,3, FALSE) -> 2 | AV19: =SUM(AC19:AU19) -> 27.5
A20: 18 | B20: Meyer, Pat | C20: =AA20 -> 177 | D20: =$AA$69 -> 284 | E20: =C20/D20 -> 0.62323944 | F20: 31, 7-6-6 | H20: =VLOOKUP(B20,'W01'!$A$3:$B$66,2, FALSE) -> 10.5 | I20: =VLOOKUP(B20,'W02'!$A$3:$B$66,2, FALSE) -> 10 | J20: =VLOOKUP(B20,'W03'!$A$3:$B$66,2, FALSE) -> 8 | K20: =VLOOKUP(B20,'W04'!$A$3:$B$66,2, FALSE) -> 9 | L20: =VLOOKUP(B20,'W05'!$A$3:$B$67,2, FALSE) -> 10 | M20: =VLOOKUP(B20,'W06'!$A$3:$B$67,2, FALSE) -> 7 | N20: =VLOOKUP(B20,'W07'!$A$3:$B$67,2, FALSE) -> 10 | O20: =VLOOKUP(B20,'W08'!$A$3:$B$67,2, FALSE) -> 9 | P20: =VLOOKUP(B20,'W09'!$A$3:$B$66,2, FALSE) -> 10 | Q20: =VLOOKUP(B20,'W10'!$A$3:$B$66,2, FALSE) -> 6 | R20: =VLOOKUP(B20,'W11'!$A$3:$B$66,2, FALSE) -> 10 | S20: =VLOOKUP(B20,'W12'!$A$3:$B$66,2, FALSE) -> 11 | T20: =VLOOKUP(B20,'W13'!$A$3:$B$66,2, FALSE) -> 11.5 | U20: =VLOOKUP(B20,'W14'!$A$3:$B$66,2, FALSE) -> 6 | V20: =VLOOKUP(B20,'W15'!$A$3:$B$66,2, FALSE) -> 9 | W20: =VLOOKUP(B20,'W16'!$A$3:$B$66,2, FALSE) -> 9 | X20: =VLOOKUP(B20,'W17'!$A$3:$B$66,2, FALSE) -> 11 | Y20: =VLOOKUP(B20,'W18'!$A$3:$B$66,2, FALSE) -> 11 | Z20: =VLOOKUP(B20,'W19'!$A$3:$B$65,2, FALSE) -> 9 | AA20: =SUM(H20:Z20) -> 177 | AC20: =VLOOKUP(B20,'W01'!$A$3:$C$66,3, FALSE) -> 0 | AD20: =VLOOKUP(B20,'W02'!$A$3:$C$66,3, FALSE) -> 2 | AE20: =VLOOKUP(B20,'W03'!$A$3:$C$66,3, FALSE) -> 1 | AF20: =VLOOKUP(B20,'W04'!$A$3:$C$66,3, FALSE) -> 2 | AG20: =VLOOKUP(B20,'W05'!$A$3:$C$67,3, FALSE) -> 2 | AH20: =VLOOKUP(B20,'W06'!$A$3:$C$67,3, FALSE) -> 1 | AI20: =VLOOKUP(B20,'W07'!$A$3:$C$67,3, FALSE) -> 0 | AJ20: =VLOOKUP(B20,'W08'!$A$3:$C$67,3, FALSE) -> 2 | AK20: =VLOOKUP(B20,'W09'!$A$3:$C$66,3, FALSE) -> 2 | AL20: =VLOOKUP(B20,'W10'!$A$3:$C$66,3, FALSE) -> 1 | AM20: =VLOOKUP(B20,'W11'!$A$3:$C$66,3, FALSE) -> 2 | AN20: =VLOOKUP(B20,'W12'!$A$3:$C$66,3, FALSE) -> 2 | AO20: =VLOOKUP(B20,'W13'!$A$3:$C$66,3, FALSE) -> 2 | AP20: =VLOOKUP(B20,'W14'!$A$3:$C$66,3, FALSE) -> 2 | AQ20: =VLOOKUP(B20,'W15'!$A$3:$C$66,3, FALSE) -> 1 | AR20: =VLOOKUP(B20,'W16'!$A$3:$C$66,3, FALSE) -> 2 | AS20: =VLOOKUP(B20,'W17'!$A$3:$C$66,3, FALSE) -> 2 | AT20: =VLOOKUP(B20,'W18'!$A$3:$C$66,3, FALSE) -> 2 | AU20: =VLOOKUP(B20,'W19'!$A$3:$C$65,3, FALSE) -> 3 | AV20: =SUM(AC20:AU20) -> 31
A21: 19 | B21: Ray, Bobby | C21: =AA21 -> 177 | D21: =$AA$69 -> 284 | E21: =C21/D21 -> 0.62323944 | F21: 31, 6-7-6 | H21: =VLOOKUP(B21,'W01'!$A$3:$B$66,2, FALSE) -> 7.5 | I21: =VLOOKUP(B21,'W02'!$A$3:$B$66,2, FALSE) -> 10 | J21: =VLOOKUP(B21,'W03'!$A$3:$B$66,2, FALSE) -> 9 | K21: =VLOOKUP(B21,'W04'!$A$3:$B$66,2, FALSE) -> 11 | L21: =VLOOKUP(B21,'W05'!$A$3:$B$67,2, FALSE) -> 10 | M21: =VLOOKUP(B21,'W06'!$A$3:$B$67,2, FALSE) -> 7 | N21: =VLOOKUP(B21,'W07'!$A$3:$B$67,2, FALSE) -> 9 | O21: =VLOOKUP(B21,'W08'!$A$3:$B$67,2, FALSE) -> 10 | P21: =VLOOKUP(B21,'W09'!$A$3:$B$66,2, FALSE) -> 8 | Q21: =VLOOKUP(B21,'W10'!$A$3:$B$66,2, FALSE) -> 6 | R21: =VLOOKUP(B21,'W11'!$A$3:$B$66,2, FALSE) -> 10 | S21: =VLOOKUP(B21,'W12'!$A$3:$B$66,2, FALSE) -> 14 | T21: =VLOOKUP(B21,'W13'!$A$3:$B$66,2, FALSE) -> 10.5 | U21: =VLOOKUP(B21,'W14'!$A$3:$B$66,2, FALSE) -> 6 | V21: =VLOOKUP(B21,'W15'!$A$3:$B$66,2, FALSE) -> 12 | W21: =VLOOKUP(B21,'W16'!$A$3:$B$66,2, FALSE) -> 10 | X21: =VLOOKUP(B21,'W17'!$A$3:$B$66,2, FALSE) -> 9 | Y21: =VLOOKUP(B21,'W18'!$A$3:$B$66,2, FALSE) -> 10 | Z21: =VLOOKUP(B21,'W19'!$A$3:$B$65,2, FALSE) -> 8 | AA21: =SUM(H21:Z21) -> 177 | AC21: =VLOOKUP(B21,'W01'!$A$3:$C$66,3, FALSE) -> 1 | AD21: =VLOOKUP(B21,'W02'!$A$3:$C$66,3, FALSE) -> 2 | AE21: =VLOOKUP(B21,'W03'!$A$3:$C$66,3, FALSE) -> 2 | AF21: =VLOOKUP(B21,'W04'!$A$3:$C$66,3, FALSE) -> 2 | AG21: =VLOOKUP(B21,'W05'!$A$3:$C$67,3, FALSE) -> 2 | AH21: =VLOOKUP(B21,'W06'!$A$3:$C$67,3, FALSE) -> 1 | AI21: =VLOOKUP(B21,'W07'!$A$3:$C$67,3, FALSE) -> 1 | AJ21: =VLOOKUP(B21,'W08'!$A$3:$C$67,3, FALSE) -> 2 | AK21: =VLOOKUP(B21,'W09'!$A$3:$C$66,3, FALSE) -> 1 | AL21: =VLOOKUP(B21,'W10'!$A$3:$C$66,3, FALSE) -> 1 | AM21: =VLOOKUP(B21,'W11'!$A$3:$C$66,3, FALSE) -> 2 | AN21: =VLOOKUP(B21,'W12'!$A$3:$C$66,3, FALSE) -> 2 | AO21: =VLOOKUP(B21,'W13'!$A$3:$C$66,3, FALSE) -> 2 | AP21: =VLOOKUP(B21,'W14'!$A$3:$C$66,3, FALSE) -> 2 | AQ21: =VLOOKUP(B21,'W15'!$A$3:$C$66,3, FALSE) -> 2 | AR21: =VLOOKUP(B21,'W16'!$A$3:$C$66,3, FALSE) -> 2 | AS21: =VLOOKUP(B21,'W17'!$A$3:$C$66,3, FALSE) -> 2 | AT21: =VLOOKUP(B21,'W18'!$A$3:$C$66,3, FALSE) -> 0 | AU21: =VLOOKUP(B21,'W19'!$A$3:$C$65,3, FALSE) -> 2 | AV21: =SUM(AC21:AU21) -> 31
A22: 20 | B22: McElfish, John | C22: =AA22 -> 177 | D22: =$AA$69 -> 284 | E22: =C22/D22 -> 0.62323944 | F22: =AV22 -> 30.5 | H22: =VLOOKUP(B22,'W01'!$A$3:$B$66,2, FALSE) -> 9.5 | I22: =VLOOKUP(B22,'W02'!$A$3:$B$66,2, FALSE) -> 8 | J22: =VLOOKUP(B22,'W03'!$A$3:$B$66,2, FALSE) -> 9 | K22: =VLOOKUP(B22,'W04'!$A$3:$B$66,2, FALSE) -> 11 | L22: =VLOOKUP(B22,'W05'!$A$3:$B$67,2, FALSE) -> 11 | M22: =VLOOKUP(B22,'W06'!$A$3:$B$67,2, FALSE) -> 7 | N22: =VLOOKUP(B22,'W07'!$A$3:$B$67,2, FALSE) -> 9 | O22: =VLOOKUP(B22,'W08'!$A$3:$B$67,2, FALSE) -> 11 | P22: =VLOOKUP(B22,'W09'!$A$3:$B$66,2, FALSE) -> 10 | Q22: =VLOOKUP(B22,'W10'!$A$3:$B$66,2, FALSE) -> 5 | R22: =VLOOKUP(B22,'W11'!$A$3:$B$66,2, FALSE) -> 10 | S22: =VLOOKUP(B22,'W12'!$A$3:$B$66,2, FALSE) -> 8 | T22: =VLOOKUP(B22,'W13'!$A$3:$B$66,2, FALSE) -> 10.5 | U22: =VLOOKUP(B22,'W14'!$A$3:$B$66,2, FALSE) -> 7 | V22: =VLOOKUP(B22,'W15'!$A$3:$B$66,2, FALSE) -> 13 | W22: =VLOOKUP(B22,'W16'!$A$3:$B$66,2, FALSE) -> 8 | X22: =VLOOKUP(B22,'W17'!$A$3:$B$66,2, FALSE) -> 12 | Y22: =VLOOKUP(B22,'W18'!$A$3:$B$66,2, FALSE) -> 8 | Z22: =VLOOKUP(B22,'W19'!$A$3:$B$65,2, FALSE) -> 10 | AA22: =SUM(H22:Z22) -> 177 | AC22: =VLOOKUP(B22,'W01'!$A$3:$C$66,3, FALSE) -> 1.5 | AD22: =VLOOKUP(B22,'W02'!$A$3:$C$66,3, FALSE) -> 1 | AE22: =VLOOKUP(B22,'W03'!$A$3:$C$66,3, FALSE) -> 2 | AF22: =VLOOKUP(B22,'W04'!$A$3:$C$66,3, FALSE) -> 1 | AG22: =VLOOKUP(B22,'W05'!$A$3:$C$67,3, FALSE) -> 1 | AH22: =VLOOKUP(B22,'W06'!$A$3:$C$67,3, FALSE) -> 0 | AI22: =VLOOKUP(B22,'W07'!$A$3:$C$67,3, FALSE) -> 1 | AJ22: =VLOOKUP(B22,'W08'!$A$3:$C$67,3, FALSE) -> 2 | AK22: =VLOOKUP(B22,'W09'!$A$3:$C$66,3, FALSE) -> 2 | AL22: =VLOOKUP(B22,'W10'!$A$3:$C$66,3, FALSE) -> 1 | AM22: =VLOOKUP(B22,'W11'!$A$3:$C$66,3, FALSE) -> 1 | AN22: =VLOOKUP(B22,'W12'!$A$3:$C$66,3, FALSE) -> 2 | AO22: =VLOOKUP(B22,'W13'!$A$3:$C$66,3, FALSE) -> 2 | AP22: =VLOOKUP(B22,'W14'!$A$3:$C$66,3, FALSE) -> 2 | AQ22: =VLOOKUP(B22,'W15'!$A$3:$C$66,3, FALSE) -> 1 | AR22: =VLOOKUP(B22,'W16'!$A$3:$C$66,3, FALSE) -> 2 | AS22: =VLOOKUP(B22,'W17'!$A$3:$C$66,3, FALSE) -> 2 | AT22: =VLOOKUP(B22,'W18'!$A$3:$C$66,3, FALSE) -> 2 | AU22: =VLOOKUP(B22,'W19'!$A$3:$C$65,3, FALSE) -> 4 | AV22: =SUM(AC22:AU22) -> 30.5
A23: 21 | B23: Hyde, Todd | C23: =AA23 -> 176 | D23: =$AA$69 -> 284 | E23: =C23/D23 -> 0.61971831 | F23: =AV23 -> 32 | H23: =VLOOKUP(B23,'W01'!$A$3:$B$66,2, FALSE) -> 9.5 | I23: =VLOOKUP(B23,'W02'!$A$3:$B$66,2, FALSE) -> 9 | J23: =VLOOKUP(B23,'W03'!$A$3:$B$66,2, FALSE) -> 5 | K23: =VLOOKUP(B23,'W04'!$A$3:$B$66,2, FALSE) -> 10 | L23: =VLOOKUP(B23,'W05'!$A$3:$B$67,2, FALSE) -> 10 | M23: =VLOOKUP(B23,'W06'!$A$3:$B$67,2, FALSE) -> 6 | N23: =VLOOKUP(B23,'W07'!$A$3:$B$67,2, FALSE) -> 8 | O23: =VLOOKUP(B23,'W08'!$A$3:$B$67,2, FALSE) -> 11 | P23: =VLOOKUP(B23,'W09'!$A$3:$B$66,2, FALSE) -> 9 | Q23: =VLOOKUP(B23,'W10'!$A$3:$B$66,2, FALSE) -> 7 | R23: =VLOOKUP(B23,'W11'!$A$3:$B$66,2, FALSE) -> 11 | S23: =VLOOKUP(B23,'W12'!$A$3:$B$66,2, FALSE) -> 10 | T23: =VLOOKUP(B23,'W13'!$A$3:$B$66,2, FALSE) -> 10.5 | U23: =VLOOKUP(B23,'W14'!$A$3:$B$66,2, FALSE) -> 5 | V23: =VLOOKUP(B23,'W15'!$A$3:$B$66,2, FALSE) -> 12 | W23: =VLOOKUP(B23,'W16'!$A$3:$B$66,2, FALSE) -> 11 | X23: =VLOOKUP(B23,'W17'!$A$3:$B$66,2, FALSE) -> 12 | Y23: =VLOOKUP(B23,'W18'!$A$3:$B$66,2, FALSE) -> 11 | Z23: =VLOOKUP(B23,'W19'!$A$3:$B$65,2, FALSE) -> 9 | AA23: =SUM(H23:Z23) -> 176 | AC23: =VLOOKUP(B23,'W01'!$A$3:$C$66,3, FALSE) -> 2 | AD23: =VLOOKUP(B23,'W02'!$A$3:$C$66,3, FALSE) -> 1 | AE23: =VLOOKUP(B23,'W03'!$A$3:$C$66,3, FALSE) -> 1 | AF23: =VLOOKUP(B23,'W04'!$A$3:$C$66,3, FALSE) -> 2 | AG23: =VLOOKUP(B23,'W05'!$A$3:$C$67,3, FALSE) -> 2 | AH23: =VLOOKUP(B23,'W06'!$A$3:$C$67,3, FALSE) -> 1 | AI23: =VLOOKUP(B23,'W07'!$A$3:$C$67,3, FALSE) -> 0 | AJ23: =VLOOKUP(B23,'W08'!$A$3:$C$67,3, FALSE) -> 2 | AK23: =VLOOKUP(B23,'W09'!$A$3:$C$66,3, FALSE) -> 1 | AL23: =VLOOKUP(B23,'W10'!$A$3:$C$66,3, FALSE) -> 1 | AM23: =VLOOKUP(B23,'W11'!$A$3:$C$66,3, FALSE) -> 2 | AN23: =VLOOKUP(B23,'W12'!$A$3:$C$66,3, FALSE) -> 2 | AO23: =VLOOKUP(B23,'W13'!$A$3:$C$66,3, FALSE) -> 2 | AP23: =VLOOKUP(B23,'W14'!$A$3:$C$66,3, FALSE) -> 2 | AQ23: =VLOOKUP(B23,'W15'!$A$3:$C$66,3, FALSE) -> 2 | AR23: =VLOOKUP(B23,'W16'!$A$3:$C$66,3, FALSE) -> 2 | AS23: =VLOOKUP(B23,'W17'!$A$3:$C$66,3, FALSE) -> 2 | AT23: =VLOOKUP(B23,'W18'!$A$3:$C$66,3, FALSE) -> 2 | AU23: =VLOOKUP(B23,'W19'!$A$3:$C$65,3, FALSE) -> 3 | AV23: =SUM(AC23:AU23) -> 32
A24: 22 | B24: Clarke, Benjamin | C24: =AA24 -> 175 | D24: =$AA$69 -> 284 | E24: =C24/D24 -> 0.61619718 | F24: 33, 9-9-1, 0.07 | H24: =VLOOKUP(B24,'W01'!$A$3:$B$66,2, FALSE) -> 8.5 | I24: =VLOOKUP(B24,'W02'!$A$3:$B$66,2, FALSE) -> 7 | J24: =VLOOKUP(B24,'W03'!$A$3:$B$66,2, FALSE) -> 8 | K24: =VLOOKUP(B24,'W04'!$A$3:$B$66,2, FALSE) -> 10 | L24: =VLOOKUP(B24,'W05'!$A$3:$B$67,2, FALSE) -> 11 | M24: =VLOOKUP(B24,'W06'!$A$3:$B$67,2, FALSE) -> 5 | N24: =VLOOKUP(B24,'W07'!$A$3:$B$67,2, FALSE) -> 7 | O24: =VLOOKUP(B24,'W08'!$A$3:$B$67,2, FALSE) -> 11 | P24: =VLOOKUP(B24,'W09'!$A$3:$B$66,2, FALSE) -> 8 | Q24: =VLOOKUP(B24,'W10'!$A$3:$B$66,2, FALSE) -> 8 | R24: =VLOOKUP(B24,'W11'!$A$3:$B$66,2, FALSE) -> 10 | S24: =VLOOKUP(B24,'W12'!$A$3:$B$66,2, FALSE) -> 12 | T24: =VLOOKUP(B24,'W13'!$A$3:$B$66,2, FALSE) -> 11.5 | U24: =VLOOKUP(B24,'W14'!$A$3:$B$66,2, FALSE) -> 5 | V24: =VLOOKUP(B24,'W15'!$A$3:$B$66,2, FALSE) -> 13 | W24: =VLOOKUP(B24,'W16'!$A$3:$B$66,2, FALSE) -> 10 | X24: =VLOOKUP(B24,'W17'!$A$3:$B$66,2, FALSE) -> 12 | Y24: =VLOOKUP(B24,'W18'!$A$3:$B$66,2, FALSE) -> 11 | Z24: =VLOOKUP(B24,'W19'!$A$3:$B$65,2, FALSE) -> 7 | AA24: =SUM(H24:Z24) -> 175 | AC24: =VLOOKUP(B24,'W01'!$A$3:$C$66,3, FALSE) -> 1 | AD24: =VLOOKUP(B24,'W02'!$A$3:$C$66,3, FALSE) -> 1 | AE24: =VLOOKUP(B24,'W03'!$A$3:$C$66,3, FALSE) -> 2 | AF24: =VLOOKUP(B24,'W04'!$A$3:$C$66,3, FALSE) -> 2 | AG24: =VLOOKUP(B24,'W05'!$A$3:$C$67,3, FALSE) -> 2 | AH24: =VLOOKUP(B24,'W06'!$A$3:$C$67,3, FALSE) -> 2 | AI24: =VLOOKUP(B24,'W07'!$A$3:$C$67,3, FALSE) -> 1 | AJ24: =VLOOKUP(B24,'W08'!$A$3:$C$67,3, FALSE) -> 2 | AK24: =VLOOKUP(B24,'W09'!$A$3:$C$66,3, FALSE) -> 2 | AL24: =VLOOKUP(B24,'W10'!$A$3:$C$66,3, FALSE) -> 1 | AM24: =VLOOKUP(B24,'W11'!$A$3:$C$66,3, FALSE) -> 2 | AN24: =VLOOKUP(B24,'W12'!$A$3:$C$66,3, FALSE) -> 2 | AO24: =VLOOKUP(B24,'W13'!$A$3:$C$66,3, FALSE) -> 2 | AP24: =VLOOKUP(B24,'W14'!$A$3:$C$66,3, FALSE) -> 2 | AQ24: =VLOOKUP(B24,'W15'!$A$3:$C$66,3, FALSE) -> 2 | AR24: =VLOOKUP(B24,'W16'!$A$3:$C$66,3, FALSE) -> 1 | AS24: =VLOOKUP(B24,'W17'!$A$3:$C$66,3, FALSE) -> 2 | AT24: =VLOOKUP(B24,'W18'!$A$3:$C$66,3, FALSE) -> 2 | AU24: =VLOOKUP(B24,'W19'!$A$3:$C$65,3, FALSE) -> 2 | AV24: =SUM(AC24:AU24) -> 33
A25: 23 | B25: John, Thunder | C25: =AA25 -> 175 | D25: =$AA$69 -> 284 | E25: =C25/D25 -> 0.61619718 | F25: 33, 9-9-1, 0.00 | H25: =VLOOKUP(B25,'W01'!$A$3:$B$66,2, FALSE) -> 7.5 | I25: =VLOOKUP(B25,'W02'!$A$3:$B$66,2, FALSE) -> 9 | J25: =VLOOKUP(B25,'W03'!$A$3:$B$66,2, FALSE) -> 9 | K25: =VLOOKUP(B25,'W04'!$A$3:$B$66,2, FALSE) -> 12 | L25: =VLOOKUP(B25,'W05'!$A$3:$B$67,2, FALSE) -> 10 | M25: =VLOOKUP(B25,'W06'!$A$3:$B$67,2, FALSE) -> 6 | N25: =VLOOKUP(B25,'W07'!$A$3:$B$67,2, FALSE) -> 10 | O25: =VLOOKUP(B25,'W08'!$A$3:$B$67,2, FALSE) -> 12 | P25: =VLOOKUP(B25,'W09'!$A$3:$B$66,2, FALSE) -> 8 | Q25: =VLOOKUP(B25,'W10'!$A$3:$B$66,2, FALSE) -> 7 | R25: =VLOOKUP(B25,'W11'!$A$3:$B$66,2, FALSE) -> 8 | S25: =VLOOKUP(B25,'W12'!$A$3:$B$66,2, FALSE) -> 10 | T25: =VLOOKUP(B25,'W13'!$A$3:$B$66,2, FALSE) -> 9.5 | U25: =VLOOKUP(B25,'W14'!$A$3:$B$66,2, FALSE) -> 7 | V25: =VLOOKUP(B25,'W15'!$A$3:$B$66,2, FALSE) -> 9 | W25: =VLOOKUP(B25,'W16'!$A$3:$B$66,2, FALSE) -> 11 | X25: =VLOOKUP(B25,'W17'!$A$3:$B$66,2, FALSE) -> 11 | Y25: =VLOOKUP(B25,'W18'!$A$3:$B$66,2, FALSE) -> 9 | Z25: =VLOOKUP(B25,'W19'!$A$3:$B$65,2, FALSE) -> 10 | AA25: =SUM(H25:Z25) -> 175 | AC25: =VLOOKUP(B25,'W01'!$A$3:$C$66,3, FALSE) -> 2 | AD25: =VLOOKUP(B25,'W02'!$A$3:$C$66,3, FALSE) -> 1 | AE25: =VLOOKUP(B25,'W03'!$A$3:$C$66,3, FALSE) -> 0 | AF25: =VLOOKUP(B25,'W04'!$A$3:$C$66,3, FALSE) -> 2 | AG25: =VLOOKUP(B25,'W05'!$A$3:$C$67,3, FALSE) -> 2 | AH25: =VLOOKUP(B25,'W06'!$A$3:$C$67,3, FALSE) -> 0 | AI25: =VLOOKUP(B25,'W07'!$A$3:$C$67,3, FALSE) -> 2 | AJ25: =VLOOKUP(B25,'W08'!$A$3:$C$67,3, FALSE) -> 2 | AK25: =VLOOKUP(B25,'W09'!$A$3:$C$66,3, FALSE) -> 1 | AL25: =VLOOKUP(B25,'W10'!$A$3:$C$66,3, FALSE) -> 1 | AM25: =VLOOKUP(B25,'W11'!$A$3:$C$66,3, FALSE) -> 2 | AN25: =VLOOKUP(B25,'W12'!$A$3:$C$66,3, FALSE) -> 2 | AO25: =VLOOKUP(B25,'W13'!$A$3:$C$66,3, FALSE) -> 2 | AP25: =VLOOKUP(B25,'W14'!$A$3:$C$66,3, FALSE) -> 2 | AQ25: =VLOOKUP(B25,'W15'!$A$3:$C$66,3, FALSE) -> 2 | AR25: =VLOOKUP(B25,'W16'!$A$3:$C$66,3, FALSE) -> 2 | AS25: =VLOOKUP(B25,'W17'!$A$3:$C$66,3, FALSE) -> 2 | AT25: =VLOOKUP(B25,'W18'!$A$3:$C$66,3, FALSE) -> 2 | AU25: =VLOOKUP(B25,'W19'!$A$3:$C$65,3, FALSE) -> 4 | AV25: =SUM(AC25:AU25) -> 33
A26: 24 | B26: Smith, Brad | C26: =AA26 -> 175 | D26: =$AA$69 -> 284 | E26: =C26/D26 -> 0.61619718 | F26: =AV26 -> 30 | H26: =VLOOKUP(B26,'W01'!$A$3:$B$66,2, FALSE) -> 7.5 | I26: =VLOOKUP(B26,'W02'!$A$3:$B$66,2, FALSE) -> 10 | J26: =VLOOKUP(B26,'W03'!$A$3:$B$66,2, FALSE) -> 9 | K26: =VLOOKUP(B26,'W04'!$A$3:$B$66,2, FALSE) -> 10 | L26: =VLOOKUP(B26,'W05'!$A$3:$B$67,2, FALSE) -> 11 | M26: =VLOOKUP(B26,'W06'!$A$3:$B$67,2, FALSE) -> 7 | N26: =VLOOKUP(B26,'W07'!$A$3:$B$67,2, FALSE) -> 10 | O26: =VLOOKUP(B26,'W08'!$A$3:$B$67,2, FALSE) -> 11 | P26: =VLOOKUP(B26,'W09'!$A$3:$B$66,2, FALSE) -> 9 | Q26: =VLOOKUP(B26,'W10'!$A$3:$B$66,2, FALSE) -> 6 | R26: =VLOOKUP(B26,'W11'!$A$3:$B$66,2, FALSE) -> 8 | S26: =VLOOKUP(B26,'W12'!$A$3:$B$66,2, FALSE) -> 11 | T26: =VLOOKUP(B26,'W13'!$A$3:$B$66,2, FALSE) -> 10.5 | U26: =VLOOKUP(B26,'W14'!$A$3:$B$66,2, FALSE) -> 7 | V26: =VLOOKUP(B26,'W15'!$A$3:$B$66,2, FALSE) -> 9 | W26: =VLOOKUP(B26,'W16'!$A$3:$B$66,2, FALSE) -> 11 | X26: =VLOOKUP(B26,'W17'!$A$3:$B$66,2, FALSE) -> 12 | Y26: =VLOOKUP(B26,'W18'!$A$3:$B$66,2, FALSE) -> 9 | Z26: =VLOOKUP(B26,'W19'!$A$3:$B$65,2, FALSE) -> 7 | AA26: =SUM(H26:Z26) -> 175 | AC26: =VLOOKUP(B26,'W01'!$A$3:$C$66,3, FALSE) -> 2 | AD26: =VLOOKUP(B26,'W02'!$A$3:$C$66,3, FALSE) -> 1 | AE26: =VLOOKUP(B26,'W03'!$A$3:$C$66,3, FALSE) -> 1 | AF26: =VLOOKUP(B26,'W04'!$A$3:$C$66,3, FALSE) -> 1 | AG26: =VLOOKUP(B26,'W05'!$A$3:$C$67,3, FALSE) -> 1 | AH26: =VLOOKUP(B26,'W06'!$A$3:$C$67,3, FALSE) -> 1 | AI26: =VLOOKUP(B26,'W07'!$A$3:$C$67,3, FALSE) -> 1 | AJ26: =VLOOKUP(B26,'W08'!$A$3:$C$67,3, FALSE) -> 2 | AK26: =VLOOKUP(B26,'W09'!$A$3:$C$66,3, FALSE) -> 2 | AL26: =VLOOKUP(B26,'W10'!$A$3:$C$66,3, FALSE) -> 1 | AM26: =VLOOKUP(B26,'W11'!$A$3:$C$66,3, FALSE) -> 1 | AN26: =VLOOKUP(B26,'W12'!$A$3:$C$66,3, FALSE) -> 2 | AO26: =VLOOKUP(B26,'W13'!$A$3:$C$66,3, FALSE) -> 2 | AP26: =VLOOKUP(B26,'W14'!$A$3:$C$66,3, FALSE) -> 2 | AQ26: =VLOOKUP(B26,'W15'!$A$3:$C$66,3, FALSE) -> 2 | AR26: =VLOOKUP(B26,'W16'!$A$3:$C$66,3, FALSE) -> 1 | AS26: =VLOOKUP(B26,'W17'!$A$3:$C$66,3, FALSE) -> 2 | AT26: =VLOOKUP(B26,'W18'!$A$3:$C$66,3, FALSE) -> 2 | AU26: =VLOOKUP(B26,'W19'!$A$3:$C$65,3, FALSE) -> 3 | AV26: =SUM(AC26:AU26) -> 30
A27: 25 | B27: Brossett, Chase | C27: =AA27 -> 174 | D27: =$AA$69 -> 284 | E27: =C27/D27 -> 0.61267606 | F27: =AV27 -> 32 | H27: =VLOOKUP(B27,'W01'!$A$3:$B$66,2, FALSE) -> 7.5 | I27: =VLOOKUP(B27,'W02'!$A$3:$B$66,2, FALSE) -> 6 | J27: =VLOOKUP(B27,'W03'!$A$3:$B$66,2, FALSE) -> 8 | K27: =VLOOKUP(B27,'W04'!$A$3:$B$66,2, FALSE) -> 11 | L27: =VLOOKUP(B27,'W05'!$A$3:$B$67,2, FALSE) -> 8 | M27: =VLOOKUP(B27,'W06'!$A$3:$B$67,2, FALSE) -> 6 | N27: =VLOOKUP(B27,'W07'!$A$3:$B$67,2, FALSE) -> 10 | O27: =VLOOKUP(B27,'W08'!$A$3:$B$67,2, FALSE) -> 11 | P27: =VLOOKUP(B27,'W09'!$A$3:$B$66,2, FALSE) -> 10 | Q27: =VLOOKUP(B27,'W10'!$A$3:$B$66,2, FALSE) -> 8 | R27: =VLOOKUP(B27,'W11'!$A$3:$B$66,2, FALSE) -> 10 | S27: =VLOOKUP(B27,'W12'!$A$3:$B$66,2, FALSE) -> 10 | T27: =VLOOKUP(B27,'W13'!$A$3:$B$66,2, FALSE) -> 11.5 | U27: =VLOOKUP(B27,'W14'!$A$3:$B$66,2, FALSE) -> 7 | V27: =VLOOKUP(B27,'W15'!$A$3:$B$66,2, FALSE) -> 9 | W27: =VLOOKUP(B27,'W16'!$A$3:$B$66,2, FALSE) -> 12 | X27: =VLOOKUP(B27,'W17'!$A$3:$B$66,2, FALSE) -> 11 | Y27: =VLOOKUP(B27,'W18'!$A$3:$B$66,2, FALSE) -> 10 | Z27: =VLOOKUP(B27,'W19'!$A$3:$B$65,2, FALSE) -> 8 | AA27: =SUM(H27:Z27) -> 174 | AC27: =VLOOKUP(B27,'W01'!$A$3:$C$66,3, FALSE) -> 2 | AD27: =VLOOKUP(B27,'W02'!$A$3:$C$66,3, FALSE) -> 2 | AE27: =VLOOKUP(B27,'W03'!$A$3:$C$66,3, FALSE) -> 1 | AF27: =VLOOKUP(B27,'W04'!$A$3:$C$66,3, FALSE) -> 1 | AG27: =VLOOKUP(B27,'W05'!$A$3:$C$67,3, FALSE) -> 2 | AH27: =VLOOKUP(B27,'W06'!$A$3:$C$67,3, FALSE) -> 0 | AI27: =VLOOKUP(B27,'W07'!$A$3:$C$67,3, FALSE) -> 1 | AJ27: =VLOOKUP(B27,'W08'!$A$3:$C$67,3, FALSE) -> 2 | AK27: =VLOOKUP(B27,'W09'!$A$3:$C$66,3, FALSE) -> 2 | AL27: =VLOOKUP(B27,'W10'!$A$3:$C$66,3, FALSE) -> 1 | AM27: =VLOOKUP(B27,'W11'!$A$3:$C$66,3, FALSE) -> 2 | AN27: =VLOOKUP(B27,'W12'!$A$3:$C$66,3, FALSE) -> 2 | AO27: =VLOOKUP(B27,'W13'!$A$3:$C$66,3, FALSE) -> 2 | AP27: =VLOOKUP(B27,'W14'!$A$3:$C$66,3, FALSE) -> 2 | AQ27: =VLOOKUP(B27,'W15'!$A$3:$C$66,3, FALSE) -> 2 | AR27: =VLOOKUP(B27,'W16'!$A$3:$C$66,3, FALSE) -> 2 | AS27: =VLOOKUP(B27,'W17'!$A$3:$C$66,3, FALSE) -> 2 | AT27: =VLOOKUP(B27,'W18'!$A$3:$C$66,3, FALSE) -> 2 | AU27: =VLOOKUP(B27,'W19'!$A$3:$C$65,3, FALSE) -> 2 | AV27: =SUM(AC27:AU27) -> 32
A28: 26 | B28: Vance, Jeremy | C28: =AA28 -> 173 | D28: =$AA$69 -> 284 | E28: =C28/D28 -> 0.60915493 | F28: =AV28 -> 29 | H28: =VLOOKUP(B28,'W01'!$A$3:$B$66,2, FALSE) -> 9.5 | I28: =VLOOKUP(B28,'W02'!$A$3:$B$66,2, FALSE) -> 7 | J28: =VLOOKUP(B28,'W03'!$A$3:$B$66,2, FALSE) -> 6 | K28: =VLOOKUP(B28,'W04'!$A$3:$B$66,2, FALSE) -> 10 | L28: =VLOOKUP(B28,'W05'!$A$3:$B$67,2, FALSE) -> 11 | M28: =VLOOKUP(B28,'W06'!$A$3:$B$67,2, FALSE) -> 9 | N28: =VLOOKUP(B28,'W07'!$A$3:$B$67,2, FALSE) -> 9 | O28: =VLOOKUP(B28,'W08'!$A$3:$B$67,2, FALSE) -> 9 | P28: =VLOOKUP(B28,'W09'!$A$3:$B$66,2, FALSE) -> 11 | Q28: =VLOOKUP(B28,'W10'!$A$3:$B$66,2, FALSE) -> 6 | R28: =VLOOKUP(B28,'W11'!$A$3:$B$66,2, FALSE) -> 10 | S28: =VLOOKUP(B28,'W12'!$A$3:$B$66,2, FALSE) -> 9 | T28: =VLOOKUP(B28,'W13'!$A$3:$B$66,2, FALSE) -> 10.5 | U28: =VLOOKUP(B28,'W14'!$A$3:$B$66,2, FALSE) -> 7 | V28: =VLOOKUP(B28,'W15'!$A$3:$B$66,2, FALSE) -> 10 | W28: =VLOOKUP(B28,'W16'!$A$3:$B$66,2, FALSE) -> 11 | X28: =VLOOKUP(B28,'W17'!$A$3:$B$66,2, FALSE) -> 10 | Y28: =VLOOKUP(B28,'W18'!$A$3:$B$66,2, FALSE) -> 9 | Z28: =VLOOKUP(B28,'W19'!$A$3:$B$65,2, FALSE) -> 9 | AA28: =SUM(H28:Z28) -> 173 | AC28: =VLOOKUP(B28,'W01'!$A$3:$C$66,3, FALSE) -> 1 | AD28: =VLOOKUP(B28,'W02'!$A$3:$C$66,3, FALSE) -> 1 | AE28: =VLOOKUP(B28,'W03'!$A$3:$C$66,3, FALSE) -> 1 | AF28: =VLOOKUP(B28,'W04'!$A$3:$C$66,3, FALSE) -> 1 | AG28: =VLOOKUP(B28,'W05'!$A$3:$C$67,3, FALSE) -> 2 | AH28: =VLOOKUP(B28,'W06'!$A$3:$C$67,3, FALSE) -> 1 | AI28: =VLOOKUP(B28,'W07'!$A$3:$C$67,3, FALSE) -> 1 | AJ28: =VLOOKUP(B28,'W08'!$A$3:$C$67,3, FALSE) -> 2 | AK28: =VLOOKUP(B28,'W09'!$A$3:$C$66,3, FALSE) -> 1 | AL28: =VLOOKUP(B28,'W10'!$A$3:$C$66,3, FALSE) -> 2 | AM28: =VLOOKUP(B28,'W11'!$A$3:$C$66,3, FALSE) -> 2 | AN28: =VLOOKUP(B28,'W12'!$A$3:$C$66,3, FALSE) -> 2 | AO28: =VLOOKUP(B28,'W13'!$A$3:$C$66,3, FALSE) -> 2 | AP28: =VLOOKUP(B28,'W14'!$A$3:$C$66,3, FALSE) -> 1 | AQ28: =VLOOKUP(B28,'W15'!$A$3:$C$66,3, FALSE) -> 2 | AR28: =VLOOKUP(B28,'W16'!$A$3:$C$66,3, FALSE) -> 0 | AS28: =VLOOKUP(B28,'W17'!$A$3:$C$66,3, FALSE) -> 2 | AT28: =VLOOKUP(B28,'W18'!$A$3:$C$66,3, FALSE) -> 2 | AU28: =VLOOKUP(B28,'W19'!$A$3:$C$65,3, FALSE) -> 3 | AV28: =SUM(AC28:AU28) -> 29
A29: 27 | B29: Rapisand, Ryan | C29: =AA29 -> 172 | D29: =$AA$69 -> 284 | E29: =C29/D29 -> 0.6056338 | F29: =AV29 -> 32 | H29: =VLOOKUP(B29,'W01'!$A$3:$B$66,2, FALSE) -> 8.5 | I29: =VLOOKUP(B29,'W02'!$A$3:$B$66,2, FALSE) -> 10 | J29: =VLOOKUP(B29,'W03'!$A$3:$B$66,2, FALSE) -> 9 | K29: =VLOOKUP(B29,'W04'!$A$3:$B$66,2, FALSE) -> 8 | L29: =VLOOKUP(B29,'W05'!$A$3:$B$67,2, FALSE) -> 11 | M29: =VLOOKUP(B29,'W06'!$A$3:$B$67,2, FALSE) -> 6 | N29: =VLOOKUP(B29,'W07'!$A$3:$B$67,2, FALSE) -> 10 | O29: =VLOOKUP(B29,'W08'!$A$3:$B$67,2, FALSE) -> 8 | P29: =VLOOKUP(B29,'W09'!$A$3:$B$66,2, FALSE) -> 10 | Q29: =VLOOKUP(B29,'W10'!$A$3:$B$66,2, FALSE) -> 5 | R29: =VLOOKUP(B29,'W11'!$A$3:$B$66,2, FALSE) -> 10 | S29: =VLOOKUP(B29,'W12'!$A$3:$B$66,2, FALSE) -> 9 | T29: =VLOOKUP(B29,'W13'!$A$3:$B$66,2, FALSE) -> 11.5 | U29: =VLOOKUP(B29,'W14'!$A$3:$B$66,2, FALSE) -> 6 | V29: =VLOOKUP(B29,'W15'!$A$3:$B$66,2, FALSE) -> 10 | W29: =VLOOKUP(B29,'W16'!$A$3:$B$66,2, FALSE) -> 10 | X29: =VLOOKUP(B29,'W17'!$A$3:$B$66,2, FALSE) -> 9 | Y29: =VLOOKUP(B29,'W18'!$A$3:$B$66,2, FALSE) -> 11 | Z29: =VLOOKUP(B29,'W19'!$A$3:$B$65,2, FALSE) -> 10 | AA29: =SUM(H29:Z29) -> 172 | AC29: =VLOOKUP(B29,'W01'!$A$3:$C$66,3, FALSE) -> 1 | AD29: =VLOOKUP(B29,'W02'!$A$3:$C$66,3, FALSE) -> 1 | AE29: =VLOOKUP(B29,'W03'!$A$3:$C$66,3, FALSE) -> 1 | AF29: =VLOOKUP(B29,'W04'!$A$3:$C$66,3, FALSE) -> 2 | AG29: =VLOOKUP(B29,'W05'!$A$3:$C$67,3, FALSE) -> 1 | AH29: =VLOOKUP(B29,'W06'!$A$3:$C$67,3, FALSE) -> 1 | AI29: =VLOOKUP(B29,'W07'!$A$3:$C$67,3, FALSE) -> 2 | AJ29: =VLOOKUP(B29,'W08'!$A$3:$C$67,3, FALSE) -> 2 | AK29: =VLOOKUP(B29,'W09'!$A$3:$C$66,3, FALSE) -> 1 | AL29: =VLOOKUP(B29,'W10'!$A$3:$C$66,3, FALSE) -> 2 | AM29: =VLOOKUP(B29,'W11'!$A$3:$C$66,3, FALSE) -> 2 | AN29: =VLOOKUP(B29,'W12'!$A$3:$C$66,3, FALSE) -> 2 | AO29: =VLOOKUP(B29,'W13'!$A$3:$C$66,3, FALSE) -> 2 | AP29: =VLOOKUP(B29,'W14'!$A$3:$C$66,3, FALSE) -> 2 | AQ29: =VLOOKUP(B29,'W15'!$A$3:$C$66,3, FALSE) -> 1 | AR29: =VLOOKUP(B29,'W16'!$A$3:$C$66,3, FALSE) -> 1 | AS29: =VLOOKUP(B29,'W17'!$A$3:$C$66,3, FALSE) -> 2 | AT29: =VLOOKUP(B29,'W18'!$A$3:$C$66,3, FALSE) -> 2 | AU29: =VLOOKUP(B29,'W19'!$A$3:$C$65,3, FALSE) -> 4 | AV29: =SUM(AC29:AU29) -> 32
