Workbook

Sheet Rank2022
B1: 2022 FPLeague
B2: Name | C2: Correct | D2: Total | E2: % | F2: Tiebreak | H2: w1 | I2: w2 | J2: w3 | K2: w4 | L2: w5 | M2: w6 | N2: w7 | O2: w8 | P2: w9 | Q2: w10 | R2: w11 | S2: w12 | T2: w13 | U2: w14 | V2: w15 | W2: w16 | X2: w17 | Y2: w18 | Z2: w19 | AA2: Total | AC2: g1 | AD2: g2 | AE2: g3 | AF2: g4 | AG2: g5 | AH2: g6 | AI2: g7 | AJ2: g8 | AK2: g9 | AL2: g10 | AM2: g11 | AN2: g12 | AO2: g13 | AP2: g14 | AQ2: g15 | AR2: g16 | AS2: g17 | AT2: g18 | AU2: g19 | AV2: Total
A3: 1 | B3: Prothro, John | C3: =AA3 -> 187 | D3: =$AA$69 -> 284 | E3: =C3/D3 -> 0.6584507 | F3: =AV3 -> 34.5 | H3: =VLOOKUP(B3,'W01'!$A$3:$B$66,2, FALSE) -> 8.5 | I3: =VLOOKUP(B3,'W02'!$A$3:$B$66,2, FALSE) -> 11 | J3: =VLOOKUP(B3,'W03'!$A$3:$B$66,2, FALSE) -> 9 | K3: =VLOOKUP(B3,'W04'!$A$3:$B$66,2, FALSE) -> 11 | L3: =VLOOKUP(B3,'W05'!$A$3:$B$67,2, FALSE) -> 11 | M3: =VLOOKUP(B3,'W06'!$A$3:$B$67,2, FALSE) -> 8 | N3: =VLOOKUP(B3,'W07'!$A$3:$B$67,2, FALSE) -> 8 | O3: =VLOOKUP(B3,'W08'!$A$3:$B$67,2, FALSE) -> 11 | P3: =VLOOKUP(B3,'W09'!$A$3:$B$66,2, FALSE) -> 10 | Q3: =VLOOKUP(B3,'W10'!$A$3:$B$66,2, FALSE) -> 7 | R3: =VLOOKUP(B3,'W11'!$A$3:$B$66,2, FALSE) -> 10 | S3: =VLOOKUP(B3,'W12'!$A$3:$B$66,2, FALSE) -> 11 | T3: =VLOOKUP(B3,'W13'!$A$3:$B$66,2, FALSE) -> 11.5 | U3: =VLOOKUP(B3,'W14'!$A$3:$B$66,2, FALSE) -> 7 | V3: =VLOOKUP(B3,'W15'!$A$3:$B$66,2, FALSE) -> 11 | W3: =VLOOKUP(B3,'W16'!$A$3:$B$66,2, FALSE) -> 10 | X3: =VLOOKUP(B3,'W17'!$A$3:$B$66,2, FALSE) -> 12 | Y3: =VLOOKUP(B3,'W18'!$A$3:$B$66,2, FALSE) -> 10 | Z3: =VLOOKUP(B3,'W19'!$A$3:$B$65,2, FALSE) -> 10 | AA3: =SUM(H3:Z3) -> 187 | AC3: =VLOOKUP(B3,'W01'!$A$3:$C$66,3, FALSE) -> 1.5 | AD3: =VLOOKUP(B3,'W02'!$A$3:$C$66,3, FALSE) -> 2 | AE3: =VLOOKUP(B3,'W03'!$A$3:$C$66,3, FALSE) -> 1 | AF3: =VLOOKUP(B3,'W04'!$A$3:$C$66,3, FALSE) -> 2 | AG3: =VLOOKUP(B3,'W05'!$A$3:$C$67,3, FALSE) -> 2 | AH3: =VLOOKUP(B3,'W06'!$A$3:$C$67,3, FALSE) -> 1 | AI3: =VLOOKUP(B3,'W07'!$A$3:$C$67,3, FALSE) -> 0 | AJ3: =VLOOKUP(B3,'W08'!$A$3:$C$67,3, FALSE) -> 2 | AK3: =VLOOKUP(B3,'W09'!$A$3:$C$66,3, FALSE) -> 2 | AL3: =VLOOKUP(B3,'W10'!$A$3:$C$66,3, FALSE) -> 1 | AM3: =VLOOKUP(B3,'W11'!$A$3:$C$66,3, FALSE) -> 2 | AN3: =VLOOKUP(B3,'W12'!$A$3:$C$66,3, FALSE) -> 2 | AO3: =VLOOKUP(B3,'W13'!$A$3:$C$66,3, FALSE) -> 2 | AP3: =VLOOKUP(B3,'W14'!$A$3:$C$66,3, FALSE) -> 2 | AQ3: =VLOOKUP(B3,'W15'!$A$3:$C$66,3, FALSE) -> 2 | AR3: =VLOOKUP(B3,'W16'!$A$3:$C$66,3, FALSE) -> 2 | AS3: =VLOOKUP(B3,'W17'!$A$3:$C$66,3, FALSE) -> 2 | AT3: =VLOOKUP(B3,'W18'!$A$3:$C$66,3, FALSE) -> 2 | AU3: =VLOOKUP(B3,'W19'!$A$3:$C$65,3, FALSE) -> 4 | AV3: =SUM(AC3:AU3) -> 34.5
A4: 2 | B4: Curran, Kevin | C4: =AA4 -> 187 | D4: =$AA$69 -> 284 | E4: =C4/D4 -> 0.6584507 | F4: =AV4 -> 29.5 | H4: =VLOOKUP(B4,'W01'!$A$3:$B$66,2, FALSE) -> 10.5 | I4: =VLOOKUP(B4,'W02'!$A$3:$B$66,2, FALSE) -> 10 | J4: =VLOOKUP(B4,'W03'!$A$3:$B$66,2, FALSE) -> 7 | K4: =VLOOKUP(B4,'W04'!$A$3:$B$66,2, FALSE) -> 11 | L4: =VLOOKUP(B4,'W05'!$A$3:$B$67,2, FALSE) -> 11 | M4: =VLOOKUP(B4,'W06'!$A$3:$B$67,2, FALSE) -> 6 | N4: =VLOOKUP(B4,'W07'!$A$3:$B$67,2, FALSE) -> 10 | O4: =VLOOKUP(B4,'W08'!$A$3:$B$67,2, FALSE) -> 10 | P4: =VLOOKUP(B4,'W09'!$A$3:$B$66,2, FALSE) -> 10 | Q4: =VLOOKUP(B4,'W10'!$A$3:$B$66,2, FALSE) -> 8 | R4: =VLOOKUP(B4,'W11'!$A$3:$B$66,2, FALSE) -> 8 | S4: =VLOOKUP(B4,'W12'!$A$3:$B$66,2, FALSE) -> 11 | T4: =VLOOKUP(B4,'W13'!$A$3:$B$66,2, FALSE) -> 11.5 | U4: =VLOOKUP(B4,'W14'!$A$3:$B$66,2, FALSE) -> 9 | V4: =VLOOKUP(B4,'W15'!$A$3:$B$66,2, FALSE) -> 12 | W4: =VLOOKUP(B4,'W16'!$A$3:$B$66,2, FALSE) -> 10 | X4: =VLOOKUP(B4,'W17'!$A$3:$B$66,2, FALSE) -> 11 | Y4: =VLOOKUP(B4,'W18'!$A$3:$B$66,2, FALSE) -> 13 | Z4: =VLOOKUP(B4,'W19'!$A$3:$B$65,2, FALSE) -> 8 | AA4: =SUM(H4:Z4) -> 187 | AC4: =VLOOKUP(B4,'W01'!$A$3:$C$66,3, FALSE) -> 0.5 | AD4: =VLOOKUP(B4,'W02'!$A$3:$C$66,3, FALSE) -> 1 | AE4: =VLOOKUP(B4,'W03'!$A$3:$C$66,3, FALSE) -> 0 | AF4: =VLOOKUP(B4,'W04'!$A$3:$C$66,3, FALSE) -> 2 | AG4: =VLOOKUP(B4,'W05'!$A$3:$C$67,3, FALSE) -> 1 | AH4: =VLOOKUP(B4,'W06'!$A$3:$C$67,3, FALSE) -> 2 | AI4: =VLOOKUP(B4,'W07'!$A$3:$C$67,3, FALSE) -> 0 | AJ4: =VLOOKUP(B4,'W08'!$A$3:$C$67,3, FALSE) -> 2 | AK4: =VLOOKUP(B4,'W09'!$A$3:$C$66,3, FALSE) -> 1 | AL4: =VLOOKUP(B4,'W10'!$A$3:$C$66,3, FALSE) -> 1 | AM4: =VLOOKUP(B4,'W11'!$A$3:$C$66,3, FALSE) -> 2 | AN4: =VLOOKUP(B4,'W12'!$A$3:$C$66,3, FALSE) -> 2 | AO4: =VLOOKUP(B4,'W13'!$A$3:$C$66,3, FALSE) -> 2 | AP4: =VLOOKUP(B4,'W14'!$A$3:$C$66,3, FALSE) -> 2 | AQ4: =VLOOKUP(B4,'W15'!$A$3:$C$66,3, FALSE) -> 2 | AR4: =VLOOKUP(B4,'W16'!$A$3:$C$66,3, FALSE) -> 2 | AS4: =VLOOKUP(B4,'W17'!$A$3:$C$66,3, FALSE) -> 2 | AT4: =VLOOKUP(B4,'W18'!$A$3:$C$66,3, FALSE) -> 2 | AU4: =VLOOKUP(B4,'W19'!$A$3:$C$65,3, FALSE) -> 3 | AV4: =SUM(AC4:AU4) -> 29.5
A5: 3 | B5: Seamands, Byron | C5: =AA5 -> 186 | D5: =$AA$69 -> 284 | E5: =C5/D5 -> 0.65492958 | F5: =AV5 -> 33.5 | H5: =VLOOKUP(B5,'W01'!$A$3:$B$66,2, FALSE) -> 8.5 | I5: =VLOOKUP(B5,'W02'!$A$3:$B$66,2, FALSE) -> 11 | J5: =VLOOKUP(B5,'W03'!$A$3:$B$66,2, FALSE) -> 9 | K5: =VLOOKUP(B5,'W04'!$A$3:$B$66,2, FALSE) -> 11 | L5: =VLOOKUP(B5,'W05'!$A$3:$B$67,2, FALSE) -> 11 | M5: =VLOOKUP(B5,'W06'!$A$3:$B$67,2, FALSE) -> 7 | N5: =VLOOKUP(B5,'W07'!$A$3:$B$67,2, FALSE) -> 9 | O5: =VLOOKUP(B5,'W08'!$A$3:$B$67,2, FALSE) -> 11 | P5: =VLOOKUP(B5,'W09'!$A$3:$B$66,2, FALSE) -> 9 | Q5: =VLOOKUP(B5,'W10'!$A$3:$B$66,2, FALSE) -> 6 | R5: =VLOOKUP(B5,'W11'!$A$3:$B$66,2, FALSE) -> 10 | S5: =VLOOKUP(B5,'W12'!$A$3:$B$66,2, FALSE) -> 11 | T5: =VLOOKUP(B5,'W13'!$A$3:$B$66,2, FALSE) -> 11.5 | U5: =VLOOKUP(B5,'W14'!$A$3:$B$66,2, FALSE) -> 7 | V5: =VLOOKUP(B5,'W15'!$A$3:$B$66,2, FALSE) -> 12 | W5: =VLOOKUP(B5,'W16'!$A$3:$B$66,2, FALSE) -> 9 | X5: =VLOOKUP(B5,'W17'!$A$3:$B$66,2, FALSE) -> 12 | Y5: =VLOOKUP(B5,'W18'!$A$3:$B$66,2, FALSE) -> 11 | Z5: =VLOOKUP(B5,'W19'!$A$3:$B$65,2, FALSE) -> 10 | AA5: =SUM(H5:Z5) -> 186 | AC5: =VLOOKUP(B5,'W01'!$A$3:$C$66,3, FALSE) -> 1.5 | AD5: =VLOOKUP(B5,'W02'!$A$3:$C$66,3, FALSE) -> 2 | AE5: =VLOOKUP(B5,'W03'!$A$3:$C$66,3, FALSE) -> 1 | AF5: =VLOOKUP(B5,'W04'!$A$3:$C$66,3, FALSE) -> 2 | AG5: =VLOOKUP(B5,'W05'!$A$3:$C$67,3, FALSE) -> 1 | AH5: =VLOOKUP(B5,'W06'!$A$3:$C$67,3, FALSE) -> 1 | AI5: =VLOOKUP(B5,'W07'!$A$3:$C$67,3, FALSE) -> 1 | AJ5: =VLOOKUP(B5,'W08'!$A$3:$C$67,3, FALSE) -> 2 | AK5: =VLOOKUP(B5,'W09'!$A$3:$C$66,3, FALSE) -> 2 | AL5: =VLOOKUP(B5,'W10'!$A$3:$C$66,3, FALSE) -> 0 | AM5: =VLOOKUP(B5,'W11'!$A$3:$C$66,3, FALSE) -> 2 | AN5: =VLOOKUP(B5,'W12'!$A$3:$C$66,3, FALSE) -> 2 | AO5: =VLOOKUP(B5,'W13'!$A$3:$C$66,3, FALSE) -> 2 | AP5: =VLOOKUP(B5,'W14'!$A$3:$C$66,3, FALSE) -> 2 | AQ5: =VLOOKUP(B5,'W15'!$A$3:$C$66,3, FALSE) -> 2 | AR5: =VLOOKUP(B5,'W16'!$A$3:$C$66,3, FALSE) -> 2 | AS5: =VLOOKUP(B5,'W17'!$A$3:$C$66,3, FALSE) -> 2 | AT5: =VLOOKUP(B5,'W18'!$A$3:$C$66,3, FALSE) -> 2 | AU5: =VLOOKUP(B5,'W19'!$A$3:$C$65,3, FALSE) -> 4 | AV5: =SUM(AC5:AU5) -> 33.5
A6: 4 | B6: Honeycutt, Wanda | C6: =AA6 -> 185 | D6: =$AA$69 -> 284 | E6: =C6/D6 -> 0.65140845 | F6: =AV6 -> 33 | H6: =VLOOKUP(B6,'W01'!$A$3:$B$66,2, FALSE) -> 9.5 | I6: =VLOOKUP(B6,'W02'!$A$3:$B$66,2, FALSE) -> 10 | J6: =VLOOKUP(B6,'W03'!$A$3:$B$66,2, FALSE) -> 7 | K6: =VLOOKUP(B6,'W04'!$A$3:$B$66,2, FALSE) -> 12 | L6: =VLOOKUP(B6,'W05'!$A$3:$B$67,2, FALSE) -> 10 | M6: =VLOOKUP(B6,'W06'!$A$3:$B$67,2, FALSE) -> 7 | N6: =VLOOKUP(B6,'W07'!$A$3:$B$67,2, FALSE) -> 10 | O6: =VLOOKUP(B6,'W08'!$A$3:$B$67,2, FALSE) -> 11 | P6: =VLOOKUP(B6,'W09'!$A$3:$B$66,2, FALSE) -> 11 | Q6: =VLOOKUP(B6,'W10'!$A$3:$B$66,2, FALSE) -> 5 | R6: =VLOOKUP(B6,'W11'!$A$3:$B$66,2, FALSE) -> 9 | S6: =VLOOKUP(B6,'W12'!$A$3:$B$66,2, FALSE) -> 10 | T6: =VLOOKUP(B6,'W13'!$A$3:$B$66,2, FALSE) -> 11.5 | U6: =VLOOKUP(B6,'W14'!$A$3:$B$66,2, FALSE) -> 7 | V6: =VLOOKUP(B6,'W15'!$A$3:$B$66,2, FALSE) -> 12 | W6: =VLOOKUP(B6,'W16'!$A$3:$B$66,2, FALSE) -> 11 | X6: =VLOOKUP(B6,'W17'!$A$3:$B$66,2, FALSE) -> 12 | Y6: =VLOOKUP(B6,'W18'!$A$3:$B$66,2, FALSE) -> 11 | Z6: =VLOOKUP(B6,'W19'!$A$3:$B$65,2, FALSE) -> 9 | AA6: =SUM(H6:Z6) -> 185 | AC6: =VLOOKUP(B6,'W01'!$A$3:$C$66,3, FALSE) -> 1 | AD6: =VLOOKUP(B6,'W02'!$A$3:$C$66,3, FALSE) -> 2 | AE6: =VLOOKUP(B6,'W03'!$A$3:$C$66,3, FALSE) -> 1 | AF6: =VLOOKUP(B6,'W04'!$A$3:$C$66,3, FALSE) -> 1 | AG6: =VLOOKUP(B6,'W05'!$A$3:$C$67,3, FALSE) -> 2 | AH6: =VLOOKUP(B6,'W06'!$A$3:$C$67,3, FALSE) -> 1 | AI6: =VLOOKUP(B6,'W07'!$A$3:$C$67,3, FALSE) -> 1 | AJ6: =VLOOKUP(B6,'W08'!$A$3:$C$67,3, FALSE) -> 2 | AK6: =VLOOKUP(B6,'W09'!$A$3:$C$66,3, FALSE) -> 2 | AL6: =VLOOKUP(B6,'W10'!$A$3:$C$66,3, FALSE) -> 1 | AM6: =VLOOKUP(B6,'W11'!$A$3:$C$66,3, FALSE) -> 2 | AN6: =VLOOKUP(B6,'W12'!$A$3:$C$66,3, FALSE) -> 2 | AO6: =VLOOKUP(B6,'W13'!$A$3:$C$66,3, FALSE) -> 2 | AP6: =VLOOKUP(B6,'W14'!$A$3:$C$66,3, FALSE) -> 2 | AQ6: =VLOOKUP(B6,'W15'!$A$3:$C$66,3, FALSE) -> 2 | AR6: =VLOOKUP(B6,'W16'!$A$3:$C$66,3, FALSE) -> 2 | AS6: =VLOOKUP(B6,'W17'!$A$3:$C$66,3, FALSE) -> 2 | AT6: =VLOOKUP(B6,'W18'!$A$3:$C$66,3, FALSE) -> 2 | AU6: =VLOOKUP(B6,'W19'!$A$3:$C$65,3, FALSE) -> 3 | AV6: =SUM(AC6:AU6) -> 33
A7: 5 | B7: Fortner, Glenn | C7: =AA7 -> 185 | D7: =$AA$69 -> 284 | E7: =C7/D7 -> 0.65140845 | F7: =AV7 -> 28 | H7: =VLOOKUP(B7,'W01'!$A$3:$B$66,2, FALSE) -> 10.5 | I7: =VLOOKUP(B7,'W02'!$A$3:$B$66,2, FALSE) -> 8 | J7: =VLOOKUP(B7,'W03'!$A$3:$B$66,2, FALSE) -> 11 | K7: =VLOOKUP(B7,'W04'!$A$3:$B$66,2, FALSE) -> 12 | L7: =VLOOKUP(B7,'W05'!$A$3:$B$67,2, FALSE) -> 11 | M7: =VLOOKUP(B7,'W06'!$A$3:$B$67,2, FALSE) -> 8 | N7: =VLOOKUP(B7,'W07'!$A$3:$B$67,2, FALSE) -> 9 | O7: =VLOOKUP(B7,'W08'!$A$3:$B$67,2, FALSE) -> 7 | P7: =VLOOKUP(B7,'W09'!$A$3:$B$66,2, FALSE) -> 9 | Q7: =VLOOKUP(B7,'W10'!$A$3:$B$66,2, FALSE) -> 8 | R7: =VLOOKUP(B7,'W11'!$A$3:$B$66,2, FALSE) -> 9 | S7: =VLOOKUP(B7,'W12'!$A$3:$B$66,2, FALSE) -> 10 | T7: =VLOOKUP(B7,'W13'!$A$3:$B$66,2, FALSE) -> 11.5 | U7: =VLOOKUP(B7,'W14'!$A$3:$B$66,2, FALSE) -> 7 | V7: =VLOOKUP(B7,'W15'!$A$3:$B$66,2, FALSE) -> 12 | W7: =VLOOKUP(B7,'W16'!$A$3:$B$66,2, FALSE) -> 11 | X7: =VLOOKUP(B7,'W17'!$A$3:$B$66,2, FALSE) -> 12 | Y7: =VLOOKUP(B7,'W18'!$A$3:$B$66,2, FALSE) -> 11 | Z7: =VLOOKUP(B7,'W19'!$A$3:$B$65,2, FALSE) -> 8 | AA7: =SUM(H7:Z7) -> 185 | AC7: =VLOOKUP(B7,'W01'!$A$3:$C$66,3, FALSE) -> 2 | AD7: =VLOOKUP(B7,'W02'!$A$3:$C$66,3, FALSE) -> 1 | AE7: =VLOOKUP(B7,'W03'!$A$3:$C$66,3, FALSE) -> 0 | AF7: =VLOOKUP(B7,'W04'!$A$3:$C$66,3, FALSE) -> 0 | AG7: =VLOOKUP(B7,'W05'!$A$3:$C$67,3, FALSE) -> 1 | AH7: =VLOOKUP(B7,'W06'!$A$3:$C$67,3, FALSE) -> 1 | AI7: =VLOOKUP(B7,'W07'!$A$3:$C$67,3, FALSE) -> 0 | AJ7: =VLOOKUP(B7,'W08'!$A$3:$C$67,3, FALSE) -> 2 | AK7: =VLOOKUP(B7,'W09'!$A$3:$C$66,3, FALSE) -> 1 | AL7: =VLOOKUP(B7,'W10'!$A$3:$C$66,3, FALSE) -> 1 | AM7: =VLOOKUP(B7,'W11'!$A$3:$C$66,3, FALSE) -> 2 | AN7: =VLOOKUP(B7,'W12'!$A$3:$C$66,3, FALSE) -> 2 | AO7: =VLOOKUP(B7,'W13'!$A$3:$C$66,3, FALSE) -> 2 | AP7: =VLOOKUP(B7,'W14'!$A$3:$C$66,3, FALSE) -> 2 | AQ7: =VLOOKUP(B7,'W15'!$A$3:$C$66,3, FALSE) -> 2 | AR7: =VLOOKUP(B7,'W16'!$A$3:$C$66,3, FALSE) -> 2 | AS7: =VLOOKUP(B7,'W17'!$A$3:$C$66,3, FALSE) -> 2 | AT7: =VLOOKUP(B7,'W18'!$A$3:$C$66,3, FALSE) -> 2 | AU7: =VLOOKUP(B7,'W19'!$A$3:$C$65,3, FALSE) -> 3 | AV7: =SUM(AC7:AU7) -> 28
A8: 6 | B8: Manuel, Greg | C8: =AA8 -> 184 | D8: =$AA$69 -> 284 | E8: =C8/D8 -> 0.64788732 | F8: =AV8 -> 28.5 | H8: =VLOOKUP(B8,'W01'!$A$3:$B$66,2, FALSE) -> 8.5 | I8: =VLOOKUP(B8,'W02'!$A$3:$B$66,2, FALSE) -> 9 | J8: =VLOOKUP(B8,'W03'!$A$3:$B$66,2, FALSE) -> 8 | K8: =VLOOKUP(B8,'W04'!$A$3:$B$66,2, FALSE) -> 10 | L8: =VLOOKUP(B8,'W05'!$A$3:$B$67,2, FALSE) -> 11 | M8: =VLOOKUP(B8,'W06'!$A$3:$B$67,2, FALSE) -> 7 | N8: =VLOOKUP(B8,'W07'!$A$3:$B$67,2, FALSE) -> 9 | O8: =VLOOKUP(B8,'W08'!$A$3:$B$67,2, FALSE) -> 11 | P8: =VLOOKUP(B8,'W09'!$A$3:$B$66,2, FALSE) -> 11 | Q8: =VLOOKUP(B8,'W10'!$A$3:$B$66,2, FALSE) -> 6 | R8: =VLOOKUP(B8,'W11'!$A$3:$B$66,2, FALSE) -> 10 | S8: =VLOOKUP(B8,'W12'!$A$3:$B$66,2, FALSE) -> 10 | T8: =VLOOKUP(B8,'W13'!$A$3:$B$66,2, FALSE) -> 12.5 | U8: =VLOOKUP(B8,'W14'!$A$3:$B$66,2, FALSE) -> 7 | V8: =VLOOKUP(B8,'W15'!$A$3:$B$66,2, FALSE) -> 12 | W8: =VLOOKUP(B8,'W16'!$A$3:$B$66,2, FALSE) -> 10 | X8: =VLOOKUP(B8,'W17'!$A$3:$B$66,2, FALSE) -> 12 | Y8: =VLOOKUP(B8,'W18'!$A$3:$B$66,2, FALSE) -> 11 | Z8: =VLOOKUP(B8,'W19'!$A$3:$B$65,2, FALSE) -> 9 | AA8: =SUM(H8:Z8) -> 184 | AC8: =VLOOKUP(B8,'W01'!$A$3:$C$66,3, FALSE) -> 0.5 | AD8: =VLOOKUP(B8,'W02'!$A$3:$C$66,3, FALSE) -> 1 | AE8: =VLOOKUP(B8,'W03'!$A$3:$C$66,3, FALSE) -> 0 | AF8: =VLOOKUP(B8,'W04'!$A$3:$C$66,3, FALSE) -> 2 | AG8: =VLOOKUP(B8,'W05'!$A$3:$C$67,3, FALSE) -> 2 | AH8: =VLOOKUP(B8,'W06'!$A$3:$C$67,3, FALSE) -> 1 | AI8: =VLOOKUP(B8,'W07'!$A$3:$C$67,3, FALSE) -> 1 | AJ8: =VLOOKUP(B8,'W08'!$A$3:$C$67,3, FALSE) -> 2 | AK8: =VLOOKUP(B8,'W09'!$A$3:$C$66,3, FALSE) -> 1 | AL8: =VLOOKUP(B8,'W10'!$A$3:$C$66,3, FALSE) -> 1 | AM8: =VLOOKUP(B8,'W11'!$A$3:$C$66,3, FALSE) -> 2 | AN8: =VLOOKUP(B8,'W12'!$A$3:$C$66,3, FALSE) -> 2 | AO8: =VLOOKUP(B8,'W13'!$A$3:$C$66,3, FALSE) -> 2 | AP8: =VLOOKUP(B8,'W14'!$A$3:$C$66,3, FALSE) -> 2 | AQ8: =VLOOKUP(B8,'W15'!$A$3:$C$66,3, FALSE) -> 2 | AR8: =VLOOKUP(B8,'W16'!$A$3:$C$66,3, FALSE) -> 1 | AS8: =VLOOKUP(B8,'W17'!$A$3:$C$66,3, FALSE) -> 2 | AT8: =VLOOKUP(B8,'W18'!$A$3:$C$66,3, FALSE) -> 1 | AU8: =VLOOKUP(B8,'W19'!$A$3:$C$65,3, FALSE) -> 3 | AV8: =SUM(AC8:AU8) -> 28.5
A9: 7 | B9: Alsobrook, Luke | C9: =AA9 -> 183 | D9: =$AA$69 -> 284 | E9: =C9/D9 -> 0.6443662 | F9: =AV9 -> 31 | H9: =VLOOKUP(B9,'W01'!$A$3:$B$66,2, FALSE) -> 6.5 | I9: =VLOOKUP(B9,'W02'!$A$3:$B$66,2, FALSE) -> 9 | J9: =VLOOKUP(B9,'W03'!$A$3:$B$66,2, FALSE) -> 9 | K9: =VLOOKUP(B9,'W04'!$A$3:$B$66,2, FALSE) -> 12 | L9: =VLOOKUP(B9,'W05'!$A$3:$B$67,2, FALSE) -> 10 | M9: =VLOOKUP(B9,'W06'!$A$3:$B$67,2, FALSE) -> 6 | N9: =VLOOKUP(B9,'W07'!$A$3:$B$67,2, FALSE) -> 8 | O9: =VLOOKUP(B9,'W08'!$A$3:$B$67,2, FALSE) -> 10 | P9: =VLOOKUP(B9,'W09'!$A$3:$B$66,2, FALSE) -> 10 | Q9: =VLOOKUP(B9,'W10'!$A$3:$B$66,2, FALSE) -> 6 | R9: =VLOOKUP(B9,'W11'!$A$3:$B$66,2, FALSE) -> 10 | S9: =VLOOKUP(B9,'W12'!$A$3:$B$66,2, FALSE) -> 11 | T9: =VLOOKUP(B9,'W13'!$A$3:$B$66,2, FALSE) -> 12.5 | U9: =VLOOKUP(B9,'W14'!$A$3:$B$66,2, FALSE) -> 6 | V9: =VLOOKUP(B9,'W15'!$A$3:$B$66,2, FALSE) -> 14 | W9: =VLOOKUP(B9,'W16'!$A$3:$B$66,2, FALSE) -> 12 | X9: =VLOOKUP(B9,'W17'!$A$3:$B$66,2, FALSE) -> 10 | Y9: =VLOOKUP(B9,'W18'!$A$3:$B$66,2, FALSE) -> 11 | Z9: =VLOOKUP(B9,'W19'!$A$3:$B$65,2, FALSE) -> 10 | AA9: =SUM(H9:Z9) -> 183 | AC9: =VLOOKUP(B9,'W01'!$A$3:$C$66,3, FALSE) -> 1 | AD9: =VLOOKUP(B9,'W02'!$A$3:$C$66,3, FALSE) -> 2 | AE9: =VLOOKUP(B9,'W03'!$A$3:$C$66,3, FALSE) -> 1 | AF9: =VLOOKUP(B9,'W04'!$A$3:$C$66,3, FALSE) -> 2 | AG9: =VLOOKUP(B9,'W05'!$A$3:$C$67,3, FALSE) -> 2 | AH9: =VLOOKUP(B9,'W06'!$A$3:$C$67,3, FALSE) -> 1 | AI9: =VLOOKUP(B9,'W07'!$A$3:$C$67,3, FALSE) -> 1 | AJ9: =VLOOKUP(B9,'W08'!$A$3:$C$67,3, FALSE) -> 2 | AK9: =VLOOKUP(B9,'W09'!$A$3:$C$66,3, FALSE) -> 1 | AL9: =VLOOKUP(B9,'W10'!$A$3:$C$66,3, FALSE) -> 1 | AM9: =VLOOKUP(B9,'W11'!$A$3:$C$66,3, FALSE) -> 2 | AN9: =VLOOKUP(B9,'W12'!$A$3:$C$66,3, FALSE) -> 2 | AO9: =VLOOKUP(B9,'W13'!$A$3:$C$66,3, FALSE) -> 2 | AP9: =VLOOKUP(B9,'W14'!$A$3:$C$66,3, FALSE) -> 1 | AQ9: =VLOOKUP(B9,'W15'!$A$3:$C$66,3, FALSE) -> 1 | AR9: =VLOOKUP(B9,'W16'!$A$3:$C$66,3, FALSE) -> 1 | AS9: =VLOOKUP(B9,'W17'!$A$3:$C$66,3, FALSE) -> 2 | AT9: =VLOOKUP(B9,'W18'!$A$3:$C$66,3, FALSE) -> 2 | AU9: =VLOOKUP(B9,'W19'!$A$3:$C$65,3, FALSE) -> 4 | AV9: =SUM(AC9:AU9) -> 31
A10: 8 | B10: Greenwood, Douglas | C10: =AA10 -> 183 | D10: =$AA$69 -> 284 | E10: =C10/D10 -> 0.6443662 | F10: =AV10 -> 30.5 | H10: =VLOOKUP(B10,'W01'!$A$3:$B$66,2, FALSE) -> 8.5 | I10: =VLOOKUP(B10,'W02'!$A$3:$B$66,2, FALSE) -> 10 | J10: =VLOOKUP(B10,'W03'!$A$3:$B$66,2, FALSE) -> 10 | K10: =VLOOKUP(B10,'W04'!$A$3:$B$66,2, FALSE) -> 9 | L10: =VLOOKUP(B10,'W05'!$A$3:$B$67,2, FALSE) -> 10 | M10: =VLOOKUP(B10,'W06'!$A$3:$B$67,2, FALSE) -> 6 | N10: =VLOOKUP(B10,'W07'!$A$3:$B$67,2, FALSE) -> 9 | O10: =VLOOKUP(B10,'W08'!$A$3:$B$67,2, FALSE) -> 13 | P10: =VLOOKUP(B10,'W09'!$A$3:$B$66,2, FALSE) -> 8 | Q10: =VLOOKUP(B10,'W10'!$A$3:$B$66,2, FALSE) -> 6 | R10: =VLOOKUP(B10,'W11'!$A$3:$B$66,2, FALSE) -> 10 | S10: =VLOOKUP(B10,'W12'!$A$3:$B$66,2, FALSE) -> 11 | T10: =VLOOKUP(B10,'W13'!$A$3:$B$66,2, FALSE) -> 11.5 | U10: =VLOOKUP(B10,'W14'!$A$3:$B$66,2, FALSE) -> 7 | V10: =VLOOKUP(B10,'W15'!$A$3:$B$66,2, FALSE) -> 12 | W10: =VLOOKUP(B10,'W16'!$A$3:$B$66,2, FALSE) -> 10 | X10: =VLOOKUP(B10,'W17'!$A$3:$B$66,2, FALSE) -> 11 | Y10: =VLOOKUP(B10,'W18'!$A$3:$B$66,2, FALSE) -> 11 | Z10: =VLOOKUP(B10,'W19'!$A$3:$B$65,2, FALSE) -> 10 | AA10: =SUM(H10:Z10) -> 183 | AC10: =VLOOKUP(B10,'W01'!$A$3:$C$66,3, FALSE) -> 1.5 | AD10: =VLOOKUP(B10,'W02'!$A$3:$C$66,3, FALSE) -> 2 | AE10: =VLOOKUP(B10,'W03'!$A$3:$C$66,3, FALSE) -> 0 | AF10: =VLOOKUP(B10,'W04'!$A$3:$C$66,3, FALSE) -> 2 | AG10: =VLOOKUP(B10,'W05'!$A$3:$C$67,3, FALSE) -> 2 | AH10: =VLOOKUP(B10,'W06'!$A$3:$C$67,3, FALSE) -> 1 | AI10: =VLOOKUP(B10,'W07'!$A$3:$C$67,3, FALSE) -> 1 | AJ10: =VLOOKUP(B10,'W08'!$A$3:$C$67,3, FALSE) -> 2 | AK10: =VLOOKUP(B10,'W09'!$A$3:$C$66,3, FALSE) -> 1 | AL10: =VLOOKUP(B10,'W10'!$A$3:$C$66,3, FALSE) -> 1 | AM10: =VLOOKUP(B10,'W11'!$A$3:$C$66,3, FALSE) -> 2 | AN10: =VLOOKUP(B10,'W12'!$A$3:$C$66,3, FALSE) -> 2 | AO10: =VLOOKUP(B10,'W13'!$A$3:$C$66,3, FALSE) -> 2 | AP10: =VLOOKUP(B10,'W14'!$A$3:$C$66,3, FALSE) -> 2 | AQ10: =VLOOKUP(B10,'W15'!$A$3:$C$66,3, FALSE) -> 2 | AR10: =VLOOKUP(B10,'W16'!$A$3:$C$66,3, FALSE) -> 1 | AS10: =VLOOKUP(B10,'W17'!$A$3:$C$66,3, FALSE) -> 1 | AT10: =VLOOKUP(B10,'W18'!$A$3:$C$66,3, FALSE) -> 2 | AU10: =VLOOKUP(B10,'W19'!$A$3:$C$65,3, FALSE) -> 3 | AV10: =SUM(AC10:AU10) -> 30.5
A11: 9 | B11: Middleton, Jason | C11: =AA11 -> 182 | D11: =$AA$69 -> 284 | E11: =C11/D11 -> 0.64084507 | F11: =AV11 -> 31.5 | H11: =VLOOKUP(B11,'W01'!$A$3:$B$66,2, FALSE) -> 8.5 | I11: =VLOOKUP(B11,'W02'!$A$3:$B$66,2, FALSE) -> 8 | J11: =VLOOKUP(B11,'W03'!$A$3:$B$66,2, FALSE) -> 9 | K11: =VLOOKUP(B11,'W04'!$A$3:$B$66,2, FALSE) -> 11 | L11: =VLOOKUP(B11,'W05'!$A$3:$B$67,2, FALSE) -> 10 | M11: =VLOOKUP(B11,'W06'!$A$3:$B$67,2, FALSE) -> 7 | N11: =VLOOKUP(B11,'W07'!$A$3:$B$67,2, FALSE) -> 9 | O11: =VLOOKUP(B11,'W08'!$A$3:$B$67,2, FALSE) -> 11 | P11: =VLOOKUP(B11,'W09'!$A$3:$B$66,2, FALSE) -> 7 | Q11: =VLOOKUP(B11,'W10'!$A$3:$B$66,2, FALSE) -> 8 | R11: =VLOOKUP(B11,'W11'!$A$3:$B$66,2, FALSE) -> 10 | S11: =VLOOKUP(B11,'W12'!$A$3:$B$66,2, FALSE) -> 12 | T11: =VLOOKUP(B11,'W13'!$A$3:$B$66,2, FALSE) -> 10.5 | U11: =VLOOKUP(B11,'W14'!$A$3:$B$66,2, FALSE) -> 9 | V11: =VLOOKUP(B11,'W15'!$A$3:$B$66,2, FALSE) -> 14 | W11: =VLOOKUP(B11,'W16'!$A$3:$B$66,2, FALSE) -> 10 | X11: =VLOOKUP(B11,'W17'!$A$3:$B$66,2, FALSE) -> 10 | Y11: =VLOOKUP(B11,'W18'!$A$3:$B$66,2, FALSE) -> 10 | Z11: =VLOOKUP(B11,'W19'!$A$3:$B$65,2, FALSE) -> 8 | AA11: =SUM(H11:Z11) -> 182 | AC11: =VLOOKUP(B11,'W01'!$A$3:$C$66,3, FALSE) -> 0.5 | AD11: =VLOOKUP(B11,'W02'!$A$3:$C$66,3, FALSE) -> 2 | AE11: =VLOOKUP(B11,'W03'!$A$3:$C$66,3, FALSE) -> 2 | AF11: =VLOOKUP(B11,'W04'!$A$3:$C$66,3, FALSE) -> 2 | AG11: =VLOOKUP(B11,'W05'!$A$3:$C$67,3, FALSE) -> 1 | AH11: =VLOOKUP(B11,'W06'!$A$3:$C$67,3, FALSE) -> 0 | AI11: =VLOOKUP(B11,'W07'!$A$3:$C$67,3, FALSE) -> 2 | AJ11: =VLOOKUP(B11,'W08'!$A$3:$C$67,3, FALSE) -> 1 | AK11: =VLOOKUP(B11,'W09'!$A$3:$C$66,3, FALSE) -> 2 | AL11: =VLOOKUP(B11,'W10'!$A$3:$C$66,3, FALSE) -> 1 | AM11: =VLOOKUP(B11,'W11'!$A$3:$C$66,3, FALSE) -> 2 | AN11: =VLOOKUP(B11,'W12'!$A$3:$C$66,3, FALSE) -> 2 | AO11: =VLOOKUP(B11,'W13'!$A$3:$C$66,3, FALSE) -> 2 | AP11: =VLOOKUP(B11,'W14'!$A$3:$C$66,3, FALSE) -> 2 | AQ11: =VLOOKUP(B11,'W15'!$A$3:$C$66,3, FALSE) -> 1 | AR11: =VLOOKUP(B11,'W16'!$A$3:$C$66,3, FALSE) -> 2 | AS11: =VLOOKUP(B11,'W17'!$A$3:$C$66,3, FALSE) -> 2 | AT11: =VLOOKUP(B11,'W18'!$A$3:$C$66,3, FALSE) -> 1 | AU11: =VLOOKUP(B11,'W19'!$A$3:$C$65,3, FALSE) -> 4 | AV11: =SUM(AC11:AU11) -> 31.5
A12: 10 | B12: Young, Michael | C12: =AA12 -> 181 | D12: =$AA$69 -> 284 | E12: =C12/D12 -> 0.63732394 | F12: =AV12 -> 33 | H12: =VLOOKUP(B12,'W01'!$A$3:$B$66,2, FALSE) -> 5.5 | I12: =VLOOKUP(B12,'W02'!$A$3:$B$66,2, FALSE) -> 9 | J12: =VLOOKUP(B12,'W03'!$A$3:$B$66,2, FALSE) -> 4 | K12: =VLOOKUP(B12,'W04'!$A$3:$B$66,2, FALSE) -> 9 | L12: =VLOOKUP(B12,'W05'!$A$3:$B$67,2, FALSE) -> 10 | M12: =VLOOKUP(B12,'W06'!$A$3:$B$67,2, FALSE) -> 5 | N12: =VLOOKUP(B12,'W07'!$A$3:$B$67,2, FALSE) -> 9 | O12: =VLOOKUP(B12,'W08'!$A$3:$B$67,2, FALSE) -> 12 | P12: =VLOOKUP(B12,'W09'!$A$3:$B$66,2, FALSE) -> 8 | Q12: =VLOOKUP(B12,'W10'!$A$3:$B$66,2, FALSE) -> 10 | R12: =VLOOKUP(B12,'W11'!$A$3:$B$66,2, FALSE) -> 13 | S12: =VLOOKUP(B12,'W12'!$A$3:$B$66,2, FALSE) -> 11 | T12: =VLOOKUP(B12,'W13'!$A$3:$B$66,2, FALSE) -> 12.5 | U12: =VLOOKUP(B12,'W14'!$A$3:$B$66,2, FALSE) -> 9 | V12: =VLOOKUP(B12,'W15'!$A$3:$B$66,2, FALSE) -> 10 | W12: =VLOOKUP(B12,'W16'!$A$3:$B$66,2, FALSE) -> 13 | X12: =VLOOKUP(B12,'W17'!$A$3:$B$66,2, FALSE) -> 12 | Y12: =VLOOKUP(B12,'W18'!$A$3:$B$66,2, FALSE) -> 11 | Z12: =VLOOKUP(B12,'W19'!$A$3:$B$65,2, FALSE) -> 8 | AA12: =SUM(H12:Z12) -> 181 | AC12: =VLOOKUP(B12,'W01'!$A$3:$C$66,3, FALSE) -> 2 | AD12: =VLOOKUP(B12,'W02'!$A$3:$C$66,3, FALSE) -> 2 | AE12: =VLOOKUP(B12,'W03'!$A$3:$C$66,3, FALSE) -> 0 | AF12: =VLOOKUP(B12,'W04'!$A$3:$C$66,3, FALSE) -> 2 | AG12: =VLOOKUP(B12,'W05'!$A$3:$C$67,3, FALSE) -> 2 | AH12: =VLOOKUP(B12,'W06'!$A$3:$C$67,3, FALSE) -> 1 | AI12: =VLOOKUP(B12,'W07'!$A$3:$C$67,3, FALSE) -> 0 | AJ12: =VLOOKUP(B12,'W08'!$A$3:$C$67,3, FALSE) -> 2 | AK12: =VLOOKUP(B12,'W09'!$A$3:$C$66,3, FALSE) -> 1 | AL12: =VLOOKUP(B12,'W10'!$A$3:$C$66,3, FALSE) -> 2 | AM12: =VLOOKUP(B12,'W11'!$A$3:$C$66,3, FALSE) -> 2 | AN12: =VLOOKUP(B12,'W12'!$A$3:$C$66,3, FALSE) -> 2 | AO12: =VLOOKUP(B12,'W13'!$A$3:$C$66,3, FALSE) -> 2 | AP12: =VLOOKUP(B12,'W14'!$A$3:$C$66,3, FALSE) -> 2 | AQ12: =VLOOKUP(B12,'W15'!$A$3:$C$66,3, FALSE) -> 1 | AR12: =VLOOKUP(B12,'W16'!$A$3:$C$66,3, FALSE) -> 2 | AS12: =VLOOKUP(B12,'W17'!$A$3:$C$66,3, FALSE) -> 2 | AT12: =VLOOKUP(B12,'W18'!$A$3:$C$66,3, FALSE) -> 2 | AU12: =VLOOKUP(B12,'W19'!$A$3:$C$65,3, FALSE) -> 4 | AV12: =SUM(AC12:AU12) -> 33
A13: 11 | B13: Seamands, Jorden | C13: =AA13 -> 180 | D13: =$AA$69 -> 284 | E13: =C13/D13 -> 0.63380282 | F13: =AV13 -> 34.5 | H13: =VLOOKUP(B13,'W01'!$A$3:$B$66,2, FALSE) -> 8.5 | I13: =VLOOKUP(B13,'W02'!$A$3:$B$66,2, FALSE) -> 10 | J13: =VLOOKUP(B13,'W03'!$A$3:$B$66,2, FALSE) -> 7 | K13: =VLOOKUP(B13,'W04'!$A$3:$B$66,2, FALSE) -> 11 | L13: =VLOOKUP(B13,'W05'!$A$3:$B$67,2, FALSE) -> 10 | M13: =VLOOKUP(B13,'W06'!$A$3:$B$67,2, FALSE) -> 6 | N13: =VLOOKUP(B13,'W07'!$A$3:$B$67,2, FALSE) -> 10 | O13: =VLOOKUP(B13,'W08'!$A$3:$B$67,2, FALSE) -> 10 | P13: =VLOOKUP(B13,'W09'!$A$3:$B$66,2, FALSE) -> 10 | Q13: =VLOOKUP(B13,'W10'!$A$3:$B$66,2, FALSE) -> 6 | R13: =VLOOKUP(B13,'W11'!$A$3:$B$66,2, FALSE) -> 10 | S13: =VLOOKUP(B13,'W12'!$A$3:$B$66,2, FALSE) -> 10 | T13: =VLOOKUP(B13,'W13'!$A$3:$B$66,2, FALSE) -> 11.5 | U13: =VLOOKUP(B13,'W14'!$A$3:$B$66,2, FALSE) -> 8 | V13: =VLOOKUP(B13,'W15'!$A$3:$B$66,2, FALSE) -> 11 | W13: =VLOOKUP(B13,'W16'!$A$3:$B$66,2, FALSE) -> 9 | X13: =VLOOKUP(B13,'W17'!$A$3:$B$66,2, FALSE) -> 11 | Y13: =VLOOKUP(B13,'W18'!$A$3:$B$66,2, FALSE) -> 12 | Z13: =VLOOKUP(B13,'W19'!$A$3:$B$65,2, FALSE) -> 9 | AA13: =SUM(H13:Z13) -> 180 | AC13: =VLOOKUP(B13,'W01'!$A$3:$C$66,3, FALSE) -> 1.5 | AD13: =VLOOKUP(B13,'W02'!$A$3:$C$66,3, FALSE) -> 2 | AE13: =VLOOKUP(B13,'W03'!$A$3:$C$66,3, FALSE) -> 1 | AF13: =VLOOKUP(B13,'W04'!$A$3:$C$66,3, FALSE) -> 2 | AG13: =VLOOKUP(B13,'W05'!$A$3:$C$67,3, FALSE) -> 2 | AH13: =VLOOKUP(B13,'W06'!$A$3:$C$67,3, FALSE) -> 1 | AI13: =VLOOKUP(B13,'W07'!$A$3:$C$67,3, FALSE) -> 1 | AJ13: =VLOOKUP(B13,'W08'!$A$3:$C$67,3, FALSE) -> 2 | AK13: =VLOOKUP(B13,'W09'!$A$3:$C$66,3, FALSE) -> 2 | AL13: =VLOOKUP(B13,'W10'!$A$3:$C$66,3, FALSE) -> 1 | AM13: =VLOOKUP(B13,'W11'!$A$3:$C$66,3, FALSE) -> 2 | AN13: =VLOOKUP(B13,'W12'!$A$3:$C$66,3, FALSE) -> 2 | AO13: =VLOOKUP(B13,'W13'!$A$3:$C$66,3, FALSE) -> 2 | AP13: =VLOOKUP(B13,'W14'!$A$3:$C$66,3, FALSE) -> 2 | AQ13: =VLOOKUP(B13,'W15'!$A$3:$C$66,3, FALSE) -> 2 | AR13: =VLOOKUP(B13,'W16'!$A$3:$C$66,3, FALSE) -> 2 | AS13: =VLOOKUP(B13,'W17'!$A$3:$C$66,3, FALSE) -> 2 | AT13: =VLOOKUP(B13,'W18'!$A$3:$C$66,3, FALSE) -> 2 | AU13: =VLOOKUP(B13,'W19'!$A$3:$C$65,3, FALSE) -> 3 | AV13: =SUM(AC13:AU13) -> 34.5
A14: 12 | B14: Skipper, Eric | C14: =AA14 -> 180 | D14: =$AA$69 -> 284 | E14: =C14/D14 -> 0.63380282 | F14: =AV14 -> 30 | H14: =VLOOKUP(B14,'W01'!$A$3:$B$66,2, FALSE) -> 8.5 | I14: =VLOOKUP(B14,'W02'!$A$3:$B$66,2, FALSE) -> 11 | J14: =VLOOKUP(B14,'W03'!$A$3:$B$66,2, FALSE) -> 8 | K14: =VLOOKUP(B14,'W04'!$A$3:$B$66,2, FALSE) -> 9 | L14: =VLOOKUP(B14,'W05'!$A$3:$B$67,2, FALSE) -> 11 | M14: =VLOOKUP(B14,'W06'!$A$3:$B$67,2, FALSE) -> 6 | N14: =VLOOKUP(B14,'W07'!$A$3:$B$67,2, FALSE) -> 10 | O14: =VLOOKUP(B14,'W08'!$A$3:$B$67,2, FALSE) -> 6 | P14: =VLOOKUP(B14,'W09'!$A$3:$B$66,2, FALSE) -> 9 | Q14: =VLOOKUP(B14,'W10'!$A$3:$B$66,2, FALSE) -> 8 | R14: =VLOOKUP(B14,'W11'!$A$3:$B$66,2, FALSE) -> 11 | S14: =VLOOKUP(B14,'W12'!$A$3:$B$66,2, FALSE) -> 12 | T14: =VLOOKUP(B14,'W13'!$A$3:$B$66,2, FALSE) -> 12.5 | U14: =VLOOKUP(B14,'W14'!$A$3:$B$66,2, FALSE) -> 7 | V14: =VLOOKUP(B14,'W15'!$A$3:$B$66,2, FALSE) -> 11 | W14: =VLOOKUP(B14,'W16'!$A$3:$B$66,2, FALSE) -> 10 | X14: =VLOOKUP(B14,'W17'!$A$3:$B$66,2, FALSE) -> 12 | Y14: =VLOOKUP(B14,'W18'!$A$3:$B$66,2, FALSE) -> 10 | Z14: =VLOOKUP(B14,'W19'!$A$3:$B$65,2, FALSE) -> 8 | AA14: =SUM(H14:Z14) -> 180 | AC14: =VLOOKUP(B14,'W01'!$A$3:$C$66,3, FALSE) -> 1 | AD14: =VLOOKUP(B14,'W02'!$A$3:$C$66,3, FALSE) -> 2 | AE14: =VLOOKUP(B14,'W03'!$A$3:$C$66,3, FALSE) -> 1 | AF14: =VLOOKUP(B14,'W04'!$A$3:$C$66,3, FALSE) -> 2 | AG14: =VLOOKUP(B14,'W05'!$A$3:$C$67,3, FALSE) -> 2 | AH14: =VLOOKUP(B14,'W06'!$A$3:$C$67,3, FALSE) -> 1 | AI14: =VLOOKUP(B14,'W07'!$A$3:$C$67,3, FALSE) -> 1 | AJ14: =VLOOKUP(B14,'W08'!$A$3:$C$67,3, FALSE) -> 0 | AK14: =VLOOKUP(B14,'W09'!$A$3:$C$66,3, FALSE) -> 1 | AL14: =VLOOKUP(B14,'W10'!$A$3:$C$66,3, FALSE) -> 1 | AM14: =VLOOKUP(B14,'W11'!$A$3:$C$66,3, FALSE) -> 1 | AN14: =VLOOKUP(B14,'W12'!$A$3:$C$66,3, FALSE) -> 2 | AO14: =VLOOKUP(B14,'W13'!$A$3:$C$66,3, FALSE) -> 2 | AP14: =VLOOKUP(B14,'W14'!$A$3:$C$66,3, FALSE) -> 2 | AQ14: =VLOOKUP(B14,'W15'!$A$3:$C$66,3, FALSE) -> 2 | AR14: =VLOOKUP(B14,'W16'!$A$3:$C$66,3, FALSE) -> 2 | AS14: =VLOOKUP(B14,'W17'!$A$3:$C$66,3, FALSE) -> 2 | AT14: =VLOOKUP(B14,'W18'!$A$3:$C$66,3, FALSE) -> 2 | AU14: =VLOOKUP(B14,'W19'!$A$3:$C$65,3, FALSE) -> 3 | AV14: =SUM(AC14:AU14) -> 30
A15: 13 | B15: Howard, Bill | C15: =AA15 -> 180 | D15: =$AA$69 -> 284 | E15: =C15/D15 -> 0.63380282 | F15: 29, 17-12-9 | H15: =VLOOKUP(B15,'W01'!$A$3:$B$66,2, FALSE) -> 8.5 | I15: =VLOOKUP(B15,'W02'!$A$3:$B$66,2, FALSE) -> 9 | J15: =VLOOKUP(B15,'W03'!$A$3:$B$66,2, FALSE) -> 10 | K15: =VLOOKUP(B15,'W04'!$A$3:$B$66,2, FALSE) -> 7 | L15: =VLOOKUP(B15,'W05'!$A$3:$B$67,2, FALSE) -> 11 | M15: =VLOOKUP(B15,'W06'!$A$3:$B$67,2, FALSE) -> 9 | N15: =VLOOKUP(B15,'W07'!$A$3:$B$67,2, FALSE) -> 9 | O15: =VLOOKUP(B15,'W08'!$A$3:$B$67,2, FALSE) -> 10 | P15: =VLOOKUP(B15,'W09'!$A$3:$B$66,2, FALSE) -> 9 | Q15: =VLOOKUP(B15,'W10'!$A$3:$B$66,2, FALSE) -> 8 | R15: =VLOOKUP(B15,'W11'!$A$3:$B$66,2, FALSE) -> 11 | S15: =VLOOKUP(B15,'W12'!$A$3:$B$66,2, FALSE) -> 10 | T15: =VLOOKUP(B15,'W13'!$A$3:$B$66,2, FALSE) -> 11.5 | U15: =VLOOKUP(B15,'W14'!$A$3:$B$66,2, FALSE) -> 7 | V15: =VLOOKUP(B15,'W15'!$A$3:$B$66,2, FALSE) -> 9 | W15: =VLOOKUP(B15,'W16'!$A$3:$B$66,2, FALSE) -> 12 | X15: =VLOOKUP(B15,'W17'!$A$3:$B$66,2, FALSE) -> 11 | Y15: =VLOOKUP(B15,'W18'!$A$3:$B$66,2, FALSE) -> 9 | Z15: =VLOOKUP(B15,'W19'!$A$3:$B$65,2, FALSE) -> 9 | AA15: =SUM(H15:Z15) -> 180 | AC15: =VLOOKUP(B15,'W01'!$A$3:$C$66,3, FALSE) -> 0 | AD15: =VLOOKUP(B15,'W02'!$A$3:$C$66,3, FALSE) -> 2 | AE15: =VLOOKUP(B15,'W03'!$A$3:$C$66,3, FALSE) -> 1 | AF15: =VLOOKUP(B15,'W04'!$A$3:$C$66,3, FALSE) -> 2 | AG15: =VLOOKUP(B15,'W05'!$A$3:$C$67,3, FALSE) -> 1 | AH15: =VLOOKUP(B15,'W06'!$A$3:$C$67,3, FALSE) -> 1 | AI15: =VLOOKUP(B15,'W07'!$A$3:$C$67,3, FALSE) -> 1 | AJ15: =VLOOKUP(B15,'W08'!$A$3:$C$67,3, FALSE) -> 2 | AK15: =VLOOKUP(B15,'W09'!$A$3:$C$66,3, FALSE) -> 2 | AL15: =VLOOKUP(B15,'W10'!$A$3:$C$66,3, FALSE) -> 1 | AM15: =VLOOKUP(B15,'W11'!$A$3:$C$66,3, FALSE) -> 1 | AN15: =VLOOKUP(B15,'W12'!$A$3:$C$66,3, FALSE) -> 2 | AO15: =VLOOKUP(B15,'W13'!$A$3:$C$66,3, FALSE) -> 2 | AP15: =VLOOKUP(B15,'W14'!$A$3:$C$66,3, FALSE) -> 2 | AQ15: =VLOOKUP(B15,'W15'!$A$3:$C$66,3, FALSE) -> 2 | AR15: =VLOOKUP(B15,'W16'!$A$3:$C$66,3, FALSE) -> 1 | AS15: =VLOOKUP(B15,'W17'!$A$3:$C$66,3, FALSE) -> 1 | AT15: =VLOOKUP(B15,'W18'!$A$3:$C$66,3, FALSE) -> 1 | AU15: =VLOOKUP(B15,'W19'!$A$3:$C$65,3, FALSE) -> 4 | AV15: =SUM(AC15:AU15) -> 29
A16: 14 | B16: Honeycutt, Terry | C16: =AA16 -> 180 | D16: =$AA$69 -> 284 | E16: =C16/D16 -> 0.63380282 | F16: 29, 16-14-8 | H16: =VLOOKUP(B16,'W01'!$A$3:$B$66,2, FALSE) -> 9.5 | I16: =VLOOKUP(B16,'W02'!$A$3:$B$66,2, FALSE) -> 10 | J16: =VLOOKUP(B16,'W03'!$A$3:$B$66,2, FALSE) -> 8 | K16: =VLOOKUP(B16,'W04'!$A$3:$B$66,2, FALSE) -> 10 | L16: =VLOOKUP(B16,'W05'!$A$3:$B$67,2, FALSE) -> 9 | M16: =VLOOKUP(B16,'W06'!$A$3:$B$67,2, FALSE) -> 8 | N16: =VLOOKUP(B16,'W07'!$A$3:$B$67,2, FALSE) -> 10 | O16: =VLOOKUP(B16,'W08'!$A$3:$B$67,2, FALSE) -> 11 | P16: =VLOOKUP(B16,'W09'!$A$3:$B$66,2, FALSE) -> 8 | Q16: =VLOOKUP(B16,'W10'!$A$3:$B$66,2, FALSE) -> 5 | R16: =VLOOKUP(B16,'W11'!$A$3:$B$66,2, FALSE) -> 9 | S16: =VLOOKUP(B16,'W12'!$A$3:$B$66,2, FALSE) -> 10 | T16: =VLOOKUP(B16,'W13'!$A$3:$B$66,2, FALSE) -> 13.5 | U16: =VLOOKUP(B16,'W14'!$A$3:$B$66,2, FALSE) -> 6 | V16: =VLOOKUP(B16,'W15'!$A$3:$B$66,2, FALSE) -> 12 | W16: =VLOOKUP(B16,'W16'!$A$3:$B$66,2, FALSE) -> 12 | X16: =VLOOKUP(B16,'W17'!$A$3:$B$66,2, FALSE) -> 12 | Y16: =VLOOKUP(B16,'W18'!$A$3:$B$66,2, FALSE) -> 9 | Z16: =VLOOKUP(B16,'W19'!$A$3:$B$65,2, FALSE) -> 8 | AA16: =SUM(H16:Z16) -> 180 | AC16: =VLOOKUP(B16,'W01'!$A$3:$C$66,3, FALSE) -> 1 | AD16: =VLOOKUP(B16,'W02'!$A$3:$C$66,3, FALSE) -> 2 | AE16: =VLOOKUP(B16,'W03'!$A$3:$C$66,3, FALSE) -> 0 | AF16: =VLOOKUP(B16,'W04'!$A$3:$C$66,3, FALSE) -> 2 | AG16: =VLOOKUP(B16,'W05'!$A$3:$C$67,3, FALSE) -> 1 | AH16: =VLOOKUP(B16,'W06'!$A$3:$C$67,3, FALSE) -> 0 | AI16: =VLOOKUP(B16,'W07'!$A$3:$C$67,3, FALSE) -> 1 | AJ16: =VLOOKUP(B16,'W08'!$A$3:$C$67,3, FALSE) -> 2 | AK16: =VLOOKUP(B16,'W09'!$A$3:$C$66,3, FALSE) -> 1 | AL16: =VLOOKUP(B16,'W10'!$A$3:$C$66,3, FALSE) -> 1 | AM16: =VLOOKUP(B16,'W11'!$A$3:$C$66,3, FALSE) -> 2 | AN16: =VLOOKUP(B16,'W12'!$A$3:$C$66,3, FALSE) -> 2 | AO16: =VLOOKUP(B16,'W13'!$A$3:$C$66,3, FALSE) -> 2 | AP16: =VLOOKUP(B16,'W14'!$A$3:$C$66,3, FALSE) -> 2 | AQ16: =VLOOKUP(B16,'W15'!$A$3:$C$66,3, FALSE) -> 2 | AR16: =VLOOKUP(B16,'W16'!$A$3:$C$66,3, FALSE) -> 2 | AS16: =VLOOKUP(B16,'W17'!$A$3:$C$66,3, FALSE) -> 2 | AT16: =VLOOKUP(B16,'W18'!$A$3:$C$66,3, FALSE) -> 2 | AU16: =VLOOKUP(B16,'W19'!$A$3:$C$65,3, FALSE) -> 2 | AV16: =SUM(AC16:AU16) -> 29
A17: 15 | B17: Ardill, Scott | C17: =AA17 -> 180 | D17: =$AA$69 -> 284 | E17: =C17/D17 -> 0.63380282 | F17: 29, 10-17-11 | H17: =VLOOKUP(B17,'W01'!$A$3:$B$66,2, FALSE) -> 10.5 | I17: =VLOOKUP(B17,'W02'!$A$3:$B$66,2, FALSE) -> 8 | J17: =VLOOKUP(B17,'W03'!$A$3:$B$66,2, FALSE) -> 8 | K17: =VLOOKUP(B17,'W04'!$A$3:$B$66,2, FALSE) -> 12 | L17: =VLOOKUP(B17,'W05'!$A$3:$B$67,2, FALSE) -> 11 | M17: =VLOOKUP(B17,'W06'!$A$3:$B$67,2, FALSE) -> 7 | N17: =VLOOKUP(B17,'W07'!$A$3:$B$67,2, FALSE) -> 8 | O17: =VLOOKUP(B17,'W08'!$A$3:$B$67,2, FALSE) -> 10 | P17: =VLOOKUP(B17,'W09'!$A$3:$B$66,2, FALSE) -> 9 | Q17: =VLOOKUP(B17,'W10'!$A$3:$B$66,2, FALSE) -> 5 | R17: =VLOOKUP(B17,'W11'!$A$3:$B$66,2, FALSE) -> 9 | S17: =VLOOKUP(B17,'W12'!$A$3:$B$66,2, FALSE) -> 10 | T17: =VLOOKUP(B17,'W13'!$A$3:$B$66,2, FALSE) -> 11.5 | U17: =VLOOKUP(B17,'W14'!$A$3:$B$66,2, FALSE) -> 6 | V17: =VLOOKUP(B17,'W15'!$A$3:$B$66,2, FALSE) -> 14 | W17: =VLOOKUP(B17,'W16'!$A$3:$B$66,2, FALSE) -> 11 | X17: =VLOOKUP(B17,'W17'!$A$3:$B$66,2, FALSE) -> 11 | Y17: =VLOOKUP(B17,'W18'!$A$3:$B$66,2, FALSE) -> 12 | Z17: =VLOOKUP(B17,'W19'!$A$3:$B$65,2, FALSE) -> 7 | AA17: =SUM(H17:Z17) -> 180 | AC17: =VLOOKUP(B17,'W01'!$A$3:$C$66,3, FALSE) -> 0 | AD17: =VLOOKUP(B17,'W02'!$A$3:$C$66,3, FALSE) -> 1 | AE17: =VLOOKUP(B17,'W03'!$A$3:$C$66,3, FALSE) -> 0 | AF17: =VLOOKUP(B17,'W04'!$A$3:$C$66,3, FALSE) -> 2 | AG17: =VLOOKUP(B17,'W05'!$A$3:$C$67,3, FALSE) -> 2 | AH17: =VLOOKUP(B17,'W06'!$A$3:$C$67,3, FALSE) -> 1 | AI17: =VLOOKUP(B17,'W07'!$A$3:$C$67,3, FALSE) -> 1 | AJ17: =VLOOKUP(B17,'W08'!$A$3:$C$67,3, FALSE) -> 2 | AK17: =VLOOKUP(B17,'W09'!$A$3:$C$66,3, FALSE) -> 1 | AL17: =VLOOKUP(B17,'W10'!$A$3:$C$66,3, FALSE) -> 1 | AM17: =VLOOKUP(B17,'W11'!$A$3:$C$66,3, FALSE) -> 2 | AN17: =VLOOKUP(B17,'W12'!$A$3:$C$66,3, FALSE) -> 2 | AO17: =VLOOKUP(B17,'W13'!$A$3:$C$66,3, FALSE) -> 2 | AP17: =VLOOKUP(B17,'W14'!$A$3:$C$66,3, FALSE) -> 2 | AQ17: =VLOOKUP(B17,'W15'!$A$3:$C$66,3, FALSE) -> 2 | AR17: =VLOOKUP(B17,'W16'!$A$3:$C$66,3, FALSE) -> 2 | AS17: =VLOOKUP(B17,'W17'!$A$3:$C$66,3, FALSE) -> 2 | AT17: =VLOOKUP(B17,'W18'!$A$3:$C$66,3, FALSE) -> 1 | AU17: =VLOOKUP(B17,'W19'!$A$3:$C$65,3, FALSE) -> 3 | AV17: =SUM(AC17:AU17) -> 29
A18: 16 | B18: Seamands, Mike | C18: =AA18 -> 180 | D18: =$AA$69 -> 284 | E18: =C18/D18 -> 0.63380282 | F18: =AV18 -> 25 | H18: =VLOOKUP(B18,'W01'!$A$3:$B$66,2, FALSE) -> 8.5 | I18: =VLOOKUP(B18,'W02'!$A$3:$B$66,2, FALSE) -> 11 | J18: =VLOOKUP(B18,'W03'!$A$3:$B$66,2, FALSE) -> 8 | K18: =VLOOKUP(B18,'W04'!$A$3:$B$66,2, FALSE) -> 11 | L18: =VLOOKUP(B18,'W05'!$A$3:$B$67,2, FALSE) -> 8 | M18: =VLOOKUP(B18,'W06'!$A$3:$B$67,2, FALSE) -> 6 | N18: =VLOOKUP(B18,'W07'!$A$3:$B$67,2, FALSE) -> 10 | O18: =VLOOKUP(B18,'W08'!$A$3:$B$67,2, FALSE) -> 9 | P18: =VLOOKUP(B18,'W09'!$A$3:$B$66,2, FALSE) -> 10 | Q18: =VLOOKUP(B18,'W10'!$A$3:$B$66,2, FALSE) -> 6 | R18: =VLOOKUP(B18,'W11'!$A$3:$B$66,2, FALSE) -> 8 | S18: =VLOOKUP(B18,'W12'!$A$3:$B$66,2, FALSE) -> 12 | T18: =VLOOKUP(B18,'W13'!$A$3:$B$66,2, FALSE) -> 12.5 | U18: =VLOOKUP(B18,'W14'!$A$3:$B$66,2, FALSE) -> 10 | V18: =VLOOKUP(B18,'W15'!$A$3:$B$66,2, FALSE) -> 12 | W18: =VLOOKUP(B18,'W16'!$A$3:$B$66,2, FALSE) -> 9 | X18: =VLOOKUP(B18,'W17'!$A$3:$B$66,2, FALSE) -> 10 | Y18: =VLOOKUP(B18,'W18'!$A$3:$B$66,2, FALSE) -> 9 | Z18: =VLOOKUP(B18,'W19'!$A$3:$B$65,2, FALSE) -> 10 | AA18: =SUM(H18:Z18) -> 180 | AC18: =VLOOKUP(B18,'W01'!$A$3:$C$66,3, FALSE) -> 1 | AD18: =VLOOKUP(B18,'W02'!$A$3:$C$66,3, FALSE) -> 2 | AE18: =VLOOKUP(B18,'W03'!$A$3:$C$66,3, FALSE) -> 0 | AF18: =VLOOKUP(B18,'W04'!$A$3:$C$66,3, FALSE) -> 1 | AG18: =VLOOKUP(B18,'W05'!$A$3:$C$67,3, FALSE) -> 2 | AH18: =VLOOKUP(B18,'W06'!$A$3:$C$67,3, FALSE) -> 1 | AI18: =VLOOKUP(B18,'W07'!$A$3:$C$67,3, FALSE) -> 1 | AJ18: =VLOOKUP(B18,'W08'!$A$3:$C$67,3, FALSE) -> 2 | AK18: =VLOOKUP(B18,'W09'!$A$3:$C$66,3, FALSE) -> 1 | AL18: =VLOOKUP(B18,'W10'!$A$3:$C$66,3, FALSE) -> 0 | AM18: =VLOOKUP(B18,'W11'!$A$3:$C$66,3, FALSE) -> 2 | AN18: =VLOOKUP(B18,'W12'!$A$3:$C$66,3, FALSE) -> 1 | AO18: =VLOOKUP(B18,'W13'!$A$3:$C$66,3, FALSE) -> 2 | AP18: =VLOOKUP(B18,'W14'!$A$3:$C$66,3, FALSE) -> 1 | AQ18: =VLOOKUP(B18,'W15'!$A$3:$C$66,3, FALSE) -> 2 | AR18: =VLOOKUP(B18,'W16'!$A$3:$C$66,3, FALSE) -> 0 | AS18: =VLOOKUP(B18,'W17'!$A$3:$C$66,3, FALSE) -> 2 | AT18: =VLOOKUP(B18,'W18'!$A$3:$C$66,3, FALSE) -> 1 | AU18: =VLOOKUP(B18,'W19'!$A$3:$C$65,3, FALSE) -> 3 | AV18: =SUM(AC18:AU18) -> 25
A19: 17 | B19: Seamands, Natalie | C19: =AA19 -> 178 | D19: =$AA$69 -> 284 | E19: =C19/D19 -> 0.62676056 | F19: =AV19 -> 27.5 | H19: =VLOOKUP(B19,'W01'!$A$3:$B$66,2, FALSE) -> 10.5 | I19: =VLOOKUP(B19,'W02'!$A$3:$B$66,2, FALSE) -> 7 | J19: =VLOOKUP(B19,'W03'!$A$3:$B$66,2, FALSE) -> 6 | K19: =VLOOKUP(B19,'W04'!$A$3:$B$66,2, FALSE) -> 11 | L19: =VLOOKUP(B19,'W05'!$A$3:$B$67,2, FALSE) -> 9 | M19: =VLOOKUP(B19,'W06'!$A$3:$B$67,2, FALSE) -> 6 | N19: =VLOOKUP(B19,'W07'!$A$3:$B$67,2, FALSE) -> 10 | O19: =VLOOKUP(B19,'W08'!$A$3:$B$67,2, FALSE) -> 9 | P19: =VLOOKUP(B19,'W09'!$A$3:$B$66,2, FALSE) -> 9 | Q19: =VLOOKUP(B19,'W10'!$A$3:$B$66,2, FALSE) -> 6 | R19: =VLOOKUP(B19,'W11'!$A$3:$B$66,2, FALSE) -> 11 | S19: =VLOOKUP(B19,'W12'!$A$3:$B$66,2, FALSE) -> 10 | T19: =VLOOKUP(B19,'W13'!$A$3:$B$66,2, FALSE) -> 12.5 | U19: =VLOOKUP(B19,'W14'!$A$3:$B$66,2, FALSE) -> 8 | V19: =VLOOKUP(B19,'W15'!$A$3:$B$66,2, FALSE) -> 11 | W19: =VLOOKUP(B19,'W16'!$A$3:$B$66,2, FALSE) -> 9 | X19: =VLOOKUP(B19,'W17'!$A$3:$B$66,2, FALSE) -> 11 | Y19: =VLOOKUP(B19,'W18'!$A$3:$B$66,2, FALSE) -> 11 | Z19: =VLOOKUP(B19,'W19'!$A$3:$B$65,2, FALSE) -> 11 | AA19: =SUM(H19:Z19) -> 178 | AC19: =VLOOKUP(B19,'W01'!$A$3:$C$66,3, FALSE) -> 1.5 | AD19: =VLOOKUP(B19,'W02'!$A$3:$C$66,3, FALSE) -> 0 | AE19: =VLOOKUP(B19,'W03'!$A$3:$C$66,3, FALSE) -> 1 | AF19: =VLOOKUP(B19,'W04'!$A$3:$C$66,3, FALSE) -> 1 | AG19: =VLOOKUP(B19,'W05'!$A$3:$C$67,3, FALSE) -> 2 | AH19: =VLOOKUP(B19,'W06'!$A$3:$C$67,3, FALSE) -> 0 | AI19: =VLOOKUP(B19,'W07'!$A$3:$C$67,3, FALSE) -> 1 | AJ19: =VLOOKUP(B19,'W08'!$A$3:$C$67,3, FALSE) -> 2 | AK19: =VLOOKUP(B19,'W09'!$A$3:$C$66,3, FALSE) -> 2 | AL19: =VLOOKUP(B19,'W10'!$A$3:$C$66,3, FALSE) -> 1 | AM19: =VLOOKUP(B19,'W11'!$A$3:$C$66,3, FALSE) -> 2 | AN19: =VLOOKUP(B19,'W12'!$A$3:$C$66,3, FALSE) -> 2 | AO19: =VLOOKUP(B19,'W13'!$A$3:$C$66,3, FALSE) -> 1 | AP19: =VLOOKUP(B19,'W14'!$A$3:$C$66,3, FALSE) -> 2 | AQ19: =VLOOKUP(B19,'W15'!$A$3:$C$66,3, FALSE) -> 2 | AR19: =VLOOKUP(B19,'W16'!$A$3:$C$66,3, FALSE) -> 1 | AS19: =VLOOKUP(B19,'W17'!$A$3:$C$66,3, FALSE) -> 1 | AT19: =VLOOKUP(B19,'W18'!$A$3:$C$66,3, FALSE) -> 3 | AU19: =VLOOKUP(B19,'W19'!$A$3:$C$65,3, FALSE) -> 2 | AV19: =SUM(AC19:AU19) -> 27.5
A20: 18 | B20: Meyer, Pat | C20: =AA20 -> 177 | D20: =$AA$69 -> 284 | E20: =C20/D20 -> 0.62323944 | F20: 31, 7-6-6 | H20: =VLOOKUP(B20,'W01'!$A$3:$B$66,2, FALSE) -> 10.5 | I20: =VLOOKUP(B20,'W02'!$A$3:$B$66,2, FALSE) -> 10 | J20: =VLOOKUP(B20,'W03'!$A$3:$B$66,2, FALSE) -> 8 | K20: =VLOOKUP(B20,'W04'!$A$3:$B$66,2, FALSE) -> 9 | L20: =VLOOKUP(B20,'W05'!$A$3:$B$67,2, FALSE) -> 10 | M20: =VLOOKUP(B20,'W06'!$A$3:$B$67,2, FALSE) -> 7 | N20: =VLOOKUP(B20,'W07'!$A$3:$B$67,2, FALSE) -> 10 | O20: =VLOOKUP(B20,'W08'!$A$3:$B$67,2, FALSE) -> 9 | P20: =VLOOKUP(B20,'W09'!$A$3:$B$66,2, FALSE) -> 10 | Q20: =VLOOKUP(B20,'W10'!$A$3:$B$66,2, FALSE) -> 6 | R20: =VLOOKUP(B20,'W11'!$A$3:$B$66,2, FALSE) -> 10 | S20: =VLOOKUP(B20,'W12'!$A$3:$B$66,2, FALSE) -> 11 | T20: =VLOOKUP(B20,'W13'!$A$3:$B$66,2, FALSE) -> 11.5 | U20: =VLOOKUP(B20,'W14'!$A$3:$B$66,2, FALSE) -> 6 | V20: =VLOOKUP(B20,'W15'!$A$3:$B$66,2, FALSE) -> 9 | W20: =VLOOKUP(B20,'W16'!$A$3:$B$66,2, FALSE) -> 9 | X20: =VLOOKUP(B20,'W17'!$A$3:$B$66,2, FALSE) -> 11 | Y20: =VLOOKUP(B20,'W18'!$A$3:$B$66,2, FALSE) -> 11 | Z20: =VLOOKUP(B20,'W19'!$A$3:$B$65,2, FALSE) -> 9 | AA20: =SUM(H20:Z20) -> 177 | AC20: =VLOOKUP(B20,'W01'!$A$3:$C$66,3, FALSE) -> 0 | AD20: =VLOOKUP(B20,'W02'!$A$3:$C$66,3, FALSE) -> 2 | AE20: =VLOOKUP(B20,'W03'!$A$3:$C$66,3, FALSE) -> 1 | AF20: =VLOOKUP(B20,'W04'!$A$3:$C$66,3, FALSE) -> 2 | AG20: =VLOOKUP(B20,'W05'!$A$3:$C$67,3, FALSE) -> 2 | AH20: =VLOOKUP(B20,'W06'!$A$3:$C$67,3, FALSE) -> 1 | AI20: =VLOOKUP(B20,'W07'!$A$3:$C$67,3, FALSE) -> 0 | AJ20: =VLOOKUP(B20,'W08'!$A$3:$C$67,3, FALSE) -> 2 | AK20: =VLOOKUP(B20,'W09'!$A$3:$C$66,3, FALSE) -> 2 | AL20: =VLOOKUP(B20,'W10'!$A$3:$C$66,3, FALSE) -> 1 | AM20: =VLOOKUP(B20,'W11'!$A$3:$C$66,3, FALSE) -> 2 | AN20: =VLOOKUP(B20,'W12'!$A$3:$C$66,3, FALSE) -> 2 | AO20: =VLOOKUP(B20,'W13'!$A$3:$C$66,3, FALSE) -> 2 | AP20: =VLOOKUP(B20,'W14'!$A$3:$C$66,3, FALSE) -> 2 | AQ20: =VLOOKUP(B20,'W15'!$A$3:$C$66,3, FALSE) -> 1 | AR20: =VLOOKUP(B20,'W16'!$A$3:$C$66,3, FALSE) -> 2 | AS20: =VLOOKUP(B20,'W17'!$A$3:$C$66,3, FALSE) -> 2 | AT20: =VLOOKUP(B20,'W18'!$A$3:$C$66,3, FALSE) -> 2 | AU20: =VLOOKUP(B20,'W19'!$A$3:$C$65,3, FALSE) -> 3 | AV20: =SUM(AC20:AU20) -> 31
A21: 19 | B21: Ray, Bobby | C21: =AA21 -> 177 | D21: =$AA$69 -> 284 | E21: =C21/D21 -> 0.62323944 | F21: 31, 6-7-6 | H21: =VLOOKUP(B21,'W01'!$A$3:$B$66,2, FALSE) -> 7.5 | I21: =VLOOKUP(B21,'W02'!$A$3:$B$66,2, FALSE) -> 10 | J21: =VLOOKUP(B21,'W03'!$A$3:$B$66,2, FALSE) -> 9 | K21: =VLOOKUP(B21,'W04'!$A$3:$B$66,2, FALSE) -> 11 | L21: =VLOOKUP(B21,'W05'!$A$3:$B$67,2, FALSE) -> 10 | M21: =VLOOKUP(B21,'W06'!$A$3:$B$67,2, FALSE) -> 7 | N21: =VLOOKUP(B21,'W07'!$A$3:$B$67,2, FALSE) -> 9 | O21: =VLOOKUP(B21,'W08'!$A$3:$B$67,2, FALSE) -> 10 | P21: =VLOOKUP(B21,'W09'!$A$3:$B$66,2, FALSE) -> 8 | Q21: =VLOOKUP(B21,'W10'!$A$3:$B$66,2, FALSE) -> 6 | R21: =VLOOKUP(B21,'W11'!$A$3:$B$66,2, FALSE) -> 10 | S21: =VLOOKUP(B21,'W12'!$A$3:$B$66,2, FALSE) -> 14 | T21: =VLOOKUP(B21,'W13'!$A$3:$B$66,2, FALSE) -> 10.5 | U21: =VLOOKUP(B21,'W14'!$A$3:$B$66,2, FALSE) -> 6 | V21: =VLOOKUP(B21,'W15'!$A$3:$B$66,2, FALSE) -> 12 | W21: =VLOOKUP(B21,'W16'!$A$3:$B$66,2, FALSE) -> 10 | X21: =VLOOKUP(B21,'W17'!$A$3:$B$66,2, FALSE) -> 9 | Y21: =VLOOKUP(B21,'W18'!$A$3:$B$66,2, FALSE) -> 10 | Z21: =VLOOKUP(B21,'W19'!$A$3:$B$65,2, FALSE) -> 8 | AA21: =SUM(H21:Z21) -> 177 | AC21: =VLOOKUP(B21,'W01'!$A$3:$C$66,3, FALSE) -> 1 | AD21: =VLOOKUP(B21,'W02'!$A$3:$C$66,3, FALSE) -> 2 | AE21: =VLOOKUP(B21,'W03'!$A$3:$C$66,3, FALSE) -> 2 | AF21: =VLOOKUP(B21,'W04'!$A$3:$C$66,3, FALSE) -> 2 | AG21: =VLOOKUP(B21,'W05'!$A$3:$C$67,3, FALSE) -> 2 | AH21: =VLOOKUP(B21,'W06'!$A$3:$C$67,3, FALSE) -> 1 | AI21: =VLOOKUP(B21,'W07'!$A$3:$C$67,3, FALSE) -> 1 | AJ21: =VLOOKUP(B21,'W08'!$A$3:$C$67,3, FALSE) -> 2 | AK21: =VLOOKUP(B21,'W09'!$A$3:$C$66,3, FALSE) -> 1 | AL21: =VLOOKUP(B21,'W10'!$A$3:$C$66,3, FALSE) -> 1 | AM21: =VLOOKUP(B21,'W11'!$A$3:$C$66,3, FALSE) -> 2 | AN21: =VLOOKUP(B21,'W12'!$A$3:$C$66,3, FALSE) -> 2 | AO21: =VLOOKUP(B21,'W13'!$A$3:$C$66,3, FALSE) -> 2 | AP21: =VLOOKUP(B21,'W14'!$A$3:$C$66,3, FALSE) -> 2 | AQ21: =VLOOKUP(B21,'W15'!$A$3:$C$66,3, FALSE) -> 2 | AR21: =VLOOKUP(B21,'W16'!$A$3:$C$66,3, FALSE) -> 2 | AS21: =VLOOKUP(B21,'W17'!$A$3:$C$66,3, FALSE) -> 2 | AT21: =VLOOKUP(B21,'W18'!$A$3:$C$66,3, FALSE) -> 0 | AU21: =VLOOKUP(B21,'W19'!$A$3:$C$65,3, FALSE) -> 2 | AV21: =SUM(AC21:AU21) -> 31
A22: 20 | B22: McElfish, John | C22: =AA22 -> 177 | D22: =$AA$69 -> 284 | E22: =C22/D22 -> 0.62323944 | F22: =AV22 -> 30.5 | H22: =VLOOKUP(B22,'W01'!$A$3:$B$66,2, FALSE) -> 9.5 | I22: =VLOOKUP(B22,'W02'!$A$3:$B$66,2, FALSE) -> 8 | J22: =VLOOKUP(B22,'W03'!$A$3:$B$66,2, FALSE) -> 9 | K22: =VLOOKUP(B22,'W04'!$A$3:$B$66,2, FALSE) -> 11 | L22: =VLOOKUP(B22,'W05'!$A$3:$B$67,2, FALSE) -> 11 | M22: =VLOOKUP(B22,'W06'!$A$3:$B$67,2, FALSE) -> 7 | N22: =VLOOKUP(B22,'W07'!$A$3:$B$67,2, FALSE) -> 9 | O22: =VLOOKUP(B22,'W08'!$A$3:$B$67,2, FALSE) -> 11 | P22: =VLOOKUP(B22,'W09'!$A$3:$B$66,2, FALSE) -> 10 | Q22: =VLOOKUP(B22,'W10'!$A$3:$B$66,2, FALSE) -> 5 | R22: =VLOOKUP(B22,'W11'!$A$3:$B$66,2, FALSE) -> 10 | S22: =VLOOKUP(B22,'W12'!$A$3:$B$66,2, FALSE) -> 8 | T22: =VLOOKUP(B22,'W13'!$A$3:$B$66,2, FALSE) -> 10.5 | U22: =VLOOKUP(B22,'W14'!$A$3:$B$66,2, FALSE) -> 7 | V22: =VLOOKUP(B22,'W15'!$A$3:$B$66,2, FALSE) -> 13 | W22: =VLOOKUP(B22,'W16'!$A$3:$B$66,2, FALSE) -> 8 | X22: =VLOOKUP(B22,'W17'!$A$3:$B$66,2, FALSE) -> 12 | Y22: =VLOOKUP(B22,'W18'!$A$3:$B$66,2, FALSE) -> 8 | Z22: =VLOOKUP(B22,'W19'!$A$3:$B$65,2, FALSE) -> 10 | AA22: =SUM(H22:Z22) -> 177 | AC22: =VLOOKUP(B22,'W01'!$A$3:$C$66,3, FALSE) -> 1.5 | AD22: =VLOOKUP(B22,'W02'!$A$3:$C$66,3, FALSE) -> 1 | AE22: =VLOOKUP(B22,'W03'!$A$3:$C$66,3, FALSE) -> 2 | AF22: =VLOOKUP(B22,'W04'!$A$3:$C$66,3, FALSE) -> 1 | AG22: =VLOOKUP(B22,'W05'!$A$3:$C$67,3, FALSE) -> 1 | AH22: =VLOOKUP(B22,'W06'!$A$3:$C$67,3, FALSE) -> 0 | AI22: =VLOOKUP(B22,'W07'!$A$3:$C$67,3, FALSE) -> 1 | AJ22: =VLOOKUP(B22,'W08'!$A$3:$C$67,3, FALSE) -> 2 | AK22: =VLOOKUP(B22,'W09'!$A$3:$C$66,3, FALSE) -> 2 | AL22: =VLOOKUP(B22,'W10'!$A$3:$C$66,3, FALSE) -> 1 | AM22: =VLOOKUP(B22,'W11'!$A$3:$C$66,3, FALSE) -> 1 | AN22: =VLOOKUP(B22,'W12'!$A$3:$C$66,3, FALSE) -> 2 | AO22: =VLOOKUP(B22,'W13'!$A$3:$C$66,3, FALSE) -> 2 | AP22: =VLOOKUP(B22,'W14'!$A$3:$C$66,3, FALSE) -> 2 | AQ22: =VLOOKUP(B22,'W15'!$A$3:$C$66,3, FALSE) -> 1 | AR22: =VLOOKUP(B22,'W16'!$A$3:$C$66,3, FALSE) -> 2 | AS22: =VLOOKUP(B22,'W17'!$A$3:$C$66,3, FALSE) -> 2 | AT22: =VLOOKUP(B22,'W18'!$A$3:$C$66,3, FALSE) -> 2 | AU22: =VLOOKUP(B22,'W19'!$A$3:$C$65,3, FALSE) -> 4 | AV22: =SUM(AC22:AU22) -> 30.5
A23: 21 | B23: Hyde, Todd | C23: =AA23 -> 176 | D23: =$AA$69 -> 284 | E23: =C23/D23 -> 0.61971831 | F23: =AV23 -> 32 | H23: =VLOOKUP(B23,'W01'!$A$3:$B$66,2, FALSE) -> 9.5 | I23: =VLOOKUP(B23,'W02'!$A$3:$B$66,2, FALSE) -> 9 | J23: =VLOOKUP(B23,'W03'!$A$3:$B$66,2, FALSE) -> 5 | K23: =VLOOKUP(B23,'W04'!$A$3:$B$66,2, FALSE) -> 10 | L23: =VLOOKUP(B23,'W05'!$A$3:$B$67,2, FALSE) -> 10 | M23: =VLOOKUP(B23,'W06'!$A$3:$B$67,2, FALSE) -> 6 | N23: =VLOOKUP(B23,'W07'!$A$3:$B$67,2, FALSE) -> 8 | O23: =VLOOKUP(B23,'W08'!$A$3:$B$67,2, FALSE) -> 11 | P23: =VLOOKUP(B23,'W09'!$A$3:$B$66,2, FALSE) -> 9 | Q23: =VLOOKUP(B23,'W10'!$A$3:$B$66,2, FALSE) -> 7 | R23: =VLOOKUP(B23,'W11'!$A$3:$B$66,2, FALSE) -> 11 | S23: =VLOOKUP(B23,'W12'!$A$3:$B$66,2, FALSE) -> 10 | T23: =VLOOKUP(B23,'W13'!$A$3:$B$66,2, FALSE) -> 10.5 | U23: =VLOOKUP(B23,'W14'!$A$3:$B$66,2, FALSE) -> 5 | V23: =VLOOKUP(B23,'W15'!$A$3:$B$66,2, FALSE) -> 12 | W23: =VLOOKUP(B23,'W16'!$A$3:$B$66,2, FALSE) -> 11 | X23: =VLOOKUP(B23,'W17'!$A$3:$B$66,2, FALSE) -> 12 | Y23: =VLOOKUP(B23,'W18'!$A$3:$B$66,2, FALSE) -> 11 | Z23: =VLOOKUP(B23,'W19'!$A$3:$B$65,2, FALSE) -> 9 | AA23: =SUM(H23:Z23) -> 176 | AC23: =VLOOKUP(B23,'W01'!$A$3:$C$66,3, FALSE) -> 2 | AD23: =VLOOKUP(B23,'W02'!$A$3:$C$66,3, FALSE) -> 1 | AE23: =VLOOKUP(B23,'W03'!$A$3:$C$66,3, FALSE) -> 1 | AF23: =VLOOKUP(B23,'W04'!$A$3:$C$66,3, FALSE) -> 2 | AG23: =VLOOKUP(B23,'W05'!$A$3:$C$67,3, FALSE) -> 2 | AH23: =VLOOKUP(B23,'W06'!$A$3:$C$67,3, FALSE) -> 1 | AI23: =VLOOKUP(B23,'W07'!$A$3:$C$67,3, FALSE) -> 0 | AJ23: =VLOOKUP(B23,'W08'!$A$3:$C$67,3, FALSE) -> 2 | AK23: =VLOOKUP(B23,'W09'!$A$3:$C$66,3, FALSE) -> 1 | AL23: =VLOOKUP(B23,'W10'!$A$3:$C$66,3, FALSE) -> 1 | AM23: =VLOOKUP(B23,'W11'!$A$3:$C$66,3, FALSE) -> 2 | AN23: =VLOOKUP(B23,'W12'!$A$3:$C$66,3, FALSE) -> 2 | AO23: =VLOOKUP(B23,'W13'!$A$3:$C$66,3, FALSE) -> 2 | AP23: =VLOOKUP(B23,'W14'!$A$3:$C$66,3, FALSE) -> 2 | AQ23: =VLOOKUP(B23,'W15'!$A$3:$C$66,3, FALSE) -> 2 | AR23: =VLOOKUP(B23,'W16'!$A$3:$C$66,3, FALSE) -> 2 | AS23: =VLOOKUP(B23,'W17'!$A$3:$C$66,3, FALSE) -> 2 | AT23: =VLOOKUP(B23,'W18'!$A$3:$C$66,3, FALSE) -> 2 | AU23: =VLOOKUP(B23,'W19'!$A$3:$C$65,3, FALSE) -> 3 | AV23: =SUM(AC23:AU23) -> 32
A24: 22 | B24: Clarke, Benjamin | C24: =AA24 -> 175 | D24: =$AA$69 -> 284 | E24: =C24/D24 -> 0.61619718 | F24: 33, 9-9-1, 0.07 | H24: =VLOOKUP(B24,'W01'!$A$3:$B$66,2, FALSE) -> 8.5 | I24: =VLOOKUP(B24,'W02'!$A$3:$B$66,2, FALSE) -> 7 | J24: =VLOOKUP(B24,'W03'!$A$3:$B$66,2, FALSE) -> 8 | K24: =VLOOKUP(B24,'W04'!$A$3:$B$66,2, FALSE) -> 10 | L24: =VLOOKUP(B24,'W05'!$A$3:$B$67,2, FALSE) -> 11 | M24: =VLOOKUP(B24,'W06'!$A$3:$B$67,2, FALSE) -> 5 | N24: =VLOOKUP(B24,'W07'!$A$3:$B$67,2, FALSE) -> 7 | O24: =VLOOKUP(B24,'W08'!$A$3:$B$67,2, FALSE) -> 11 | P24: =VLOOKUP(B24,'W09'!$A$3:$B$66,2, FALSE) -> 8 | Q24: =VLOOKUP(B24,'W10'!$A$3:$B$66,2, FALSE) -> 8 | R24: =VLOOKUP(B24,'W11'!$A$3:$B$66,2, FALSE) -> 10 | S24: =VLOOKUP(B24,'W12'!$A$3:$B$66,2, FALSE) -> 12 | T24: =VLOOKUP(B24,'W13'!$A$3:$B$66,2, FALSE) -> 11.5 | U24: =VLOOKUP(B24,'W14'!$A$3:$B$66,2, FALSE) -> 5 | V24: =VLOOKUP(B24,'W15'!$A$3:$B$66,2, FALSE) -> 13 | W24: =VLOOKUP(B24,'W16'!$A$3:$B$66,2, FALSE) -> 10 | X24: =VLOOKUP(B24,'W17'!$A$3:$B$66,2, FALSE) -> 12 | Y24: =VLOOKUP(B24,'W18'!$A$3:$B$66,2, FALSE) -> 11 | Z24: =VLOOKUP(B24,'W19'!$A$3:$B$65,2, FALSE) -> 7 | AA24: =SUM(H24:Z24) -> 175 | AC24: =VLOOKUP(B24,'W01'!$A$3:$C$66,3, FALSE) -> 1 | AD24: =VLOOKUP(B24,'W02'!$A$3:$C$66,3, FALSE) -> 1 | AE24: =VLOOKUP(B24,'W03'!$A$3:$C$66,3, FALSE) -> 2 | AF24: =VLOOKUP(B24,'W04'!$A$3:$C$66,3, FALSE) -> 2 | AG24: =VLOOKUP(B24,'W05'!$A$3:$C$67,3, FALSE) -> 2 | AH24: =VLOOKUP(B24,'W06'!$A$3:$C$67,3, FALSE) -> 2 | AI24: =VLOOKUP(B24,'W07'!$A$3:$C$67,3, FALSE) -> 1 | AJ24: =VLOOKUP(B24,'W08'!$A$3:$C$67,3, FALSE) -> 2 | AK24: =VLOOKUP(B24,'W09'!$A$3:$C$66,3, FALSE) -> 2 | AL24: =VLOOKUP(B24,'W10'!$A$3:$C$66,3, FALSE) -> 1 | AM24: =VLOOKUP(B24,'W11'!$A$3:$C$66,3, FALSE) -> 2 | AN24: =VLOOKUP(B24,'W12'!$A$3:$C$66,3, FALSE) -> 2 | AO24: =VLOOKUP(B24,'W13'!$A$3:$C$66,3, FALSE) -> 2 | AP24: =VLOOKUP(B24,'W14'!$A$3:$C$66,3, FALSE) -> 2 | AQ24: =VLOOKUP(B24,'W15'!$A$3:$C$66,3, FALSE) -> 2 | AR24: =VLOOKUP(B24,'W16'!$A$3:$C$66,3, FALSE) -> 1 | AS24: =VLOOKUP(B24,'W17'!$A$3:$C$66,3, FALSE) -> 2 | AT24: =VLOOKUP(B24,'W18'!$A$3:$C$66,3, FALSE) -> 2 | AU24: =VLOOKUP(B24,'W19'!$A$3:$C$65,3, FALSE) -> 2 | AV24: =SUM(AC24:AU24) -> 33
A25: 23 | B25: John, Thunder | C25: =AA25 -> 175 | D25: =$AA$69 -> 284 | E25: =C25/D25 -> 0.61619718 | F25: 33, 9-9-1, 0.00 | H25: =VLOOKUP(B25,'W01'!$A$3:$B$66,2, FALSE) -> 7.5 | I25: =VLOOKUP(B25,'W02'!$A$3:$B$66,2, FALSE) -> 9 | J25: =VLOOKUP(B25,'W03'!$A$3:$B$66,2, FALSE) -> 9 | K25: =VLOOKUP(B25,'W04'!$A$3:$B$66,2, FALSE) -> 12 | L25: =VLOOKUP(B25,'W05'!$A$3:$B$67,2, FALSE) -> 10 | M25: =VLOOKUP(B25,'W06'!$A$3:$B$67,2, FALSE) -> 6 | N25: =VLOOKUP(B25,'W07'!$A$3:$B$67,2, FALSE) -> 10 | O25: =VLOOKUP(B25,'W08'!$A$3:$B$67,2, FALSE) -> 12 | P25: =VLOOKUP(B25,'W09'!$A$3:$B$66,2, FALSE) -> 8 | Q25: =VLOOKUP(B25,'W10'!$A$3:$B$66,2, FALSE) -> 7 | R25: =VLOOKUP(B25,'W11'!$A$3:$B$66,2, FALSE) -> 8 | S25: =VLOOKUP(B25,'W12'!$A$3:$B$66,2, FALSE) -> 10 | T25: =VLOOKUP(B25,'W13'!$A$3:$B$66,2, FALSE) -> 9.5 | U25: =VLOOKUP(B25,'W14'!$A$3:$B$66,2, FALSE) -> 7 | V25: =VLOOKUP(B25,'W15'!$A$3:$B$66,2, FALSE) -> 9 | W25: =VLOOKUP(B25,'W16'!$A$3:$B$66,2, FALSE) -> 11 | X25: =VLOOKUP(B25,'W17'!$A$3:$B$66,2, FALSE) -> 11 | Y25: =VLOOKUP(B25,'W18'!$A$3:$B$66,2, FALSE) -> 9 | Z25: =VLOOKUP(B25,'W19'!$A$3:$B$65,2, FALSE) -> 10 | AA25: =SUM(H25:Z25) -> 175 | AC25: =VLOOKUP(B25,'W01'!$A$3:$C$66,3, FALSE) -> 2 | AD25: =VLOOKUP(B25,'W02'!$A$3:$C$66,3, FALSE) -> 1 | AE25: =VLOOKUP(B25,'W03'!$A$3:$C$66,3, FALSE) -> 0 | AF25: =VLOOKUP(B25,'W04'!$A$3:$C$66,3, FALSE) -> 2 | AG25: =VLOOKUP(B25,'W05'!$A$3:$C$67,3, FALSE) -> 2 | AH25: =VLOOKUP(B25,'W06'!$A$3:$C$67,3, FALSE) -> 0 | AI25: =VLOOKUP(B25,'W07'!$A$3:$C$67,3, FALSE) -> 2 | AJ25: =VLOOKUP(B25,'W08'!$A$3:$C$67,3, FALSE) -> 2 | AK25: =VLOOKUP(B25,'W09'!$A$3:$C$66,3, FALSE) -> 1 | AL25: =VLOOKUP(B25,'W10'!$A$3:$C$66,3, FALSE) -> 1 | AM25: =VLOOKUP(B25,'W11'!$A$3:$C$66,3, FALSE) -> 2 | AN25: =VLOOKUP(B25,'W12'!$A$3:$C$66,3, FALSE) -> 2 | AO25: =VLOOKUP(B25,'W13'!$A$3:$C$66,3, FALSE) -> 2 | AP25: =VLOOKUP(B25,'W14'!$A$3:$C$66,3, FALSE) -> 2 | AQ25: =VLOOKUP(B25,'W15'!$A$3:$C$66,3, FALSE) -> 2 | AR25: =VLOOKUP(B25,'W16'!$A$3:$C$66,3, FALSE) -> 2 | AS25: =VLOOKUP(B25,'W17'!$A$3:$C$66,3, FALSE) -> 2 | AT25: =VLOOKUP(B25,'W18'!$A$3:$C$66,3, FALSE) -> 2 | AU25: =VLOOKUP(B25,'W19'!$A$3:$C$65,3, FALSE) -> 4 | AV25: =SUM(AC25:AU25) -> 33
A26: 24 | B26: Smith, Brad | C26: =AA26 -> 175 | D26: =$AA$69 -> 284 | E26: =C26/D26 -> 0.61619718 | F26: =AV26 -> 30 | H26: =VLOOKUP(B26,'W01'!$A$3:$B$66,2, FALSE) -> 7.5 | I26: =VLOOKUP(B26,'W02'!$A$3:$B$66,2, FALSE) -> 10 | J26: =VLOOKUP(B26,'W03'!$A$3:$B$66,2, FALSE) -> 9 | K26: =VLOOKUP(B26,'W04'!$A$3:$B$66,2, FALSE) -> 10 | L26: =VLOOKUP(B26,'W05'!$A$3:$B$67,2, FALSE) -> 11 | M26: =VLOOKUP(B26,'W06'!$A$3:$B$67,2, FALSE) -> 7 | N26: =VLOOKUP(B26,'W07'!$A$3:$B$67,2, FALSE) -> 10 | O26: =VLOOKUP(B26,'W08'!$A$3:$B$67,2, FALSE) -> 11 | P26: =VLOOKUP(B26,'W09'!$A$3:$B$66,2, FALSE) -> 9 | Q26: =VLOOKUP(B26,'W10'!$A$3:$B$66,2, FALSE) -> 6 | R26: =VLOOKUP(B26,'W11'!$A$3:$B$66,2, FALSE) -> 8 | S26: =VLOOKUP(B26,'W12'!$A$3:$B$66,2, FALSE) -> 11 | T26: =VLOOKUP(B26,'W13'!$A$3:$B$66,2, FALSE) -> 10.5 | U26: =VLOOKUP(B26,'W14'!$A$3:$B$66,2, FALSE) -> 7 | V26: =VLOOKUP(B26,'W15'!$A$3:$B$66,2, FALSE) -> 9 | W26: =VLOOKUP(B26,'W16'!$A$3:$B$66,2, FALSE) -> 11 | X26: =VLOOKUP(B26,'W17'!$A$3:$B$66,2, FALSE) -> 12 | Y26: =VLOOKUP(B26,'W18'!$A$3:$B$66,2, FALSE) -> 9 | Z26: =VLOOKUP(B26,'W19'!$A$3:$B$65,2, FALSE) -> 7 | AA26: =SUM(H26:Z26) -> 175 | AC26: =VLOOKUP(B26,'W01'!$A$3:$C$66,3, FALSE) -> 2 | AD26: =VLOOKUP(B26,'W02'!$A$3:$C$66,3, FALSE) -> 1 | AE26: =VLOOKUP(B26,'W03'!$A$3:$C$66,3, FALSE) -> 1 | AF26: =VLOOKUP(B26,'W04'!$A$3:$C$66,3, FALSE) -> 1 | AG26: =VLOOKUP(B26,'W05'!$A$3:$C$67,3, FALSE) -> 1 | AH26: =VLOOKUP(B26,'W06'!$A$3:$C$67,3, FALSE) -> 1 | AI26: =VLOOKUP(B26,'W07'!$A$3:$C$67,3, FALSE) -> 1 | AJ26: =VLOOKUP(B26,'W08'!$A$3:$C$67,3, FALSE) -> 2 | AK26: =VLOOKUP(B26,'W09'!$A$3:$C$66,3, FALSE) -> 2 | AL26: =VLOOKUP(B26,'W10'!$A$3:$C$66,3, FALSE) -> 1 | AM26: =VLOOKUP(B26,'W11'!$A$3:$C$66,3, FALSE) -> 1 | AN26: =VLOOKUP(B26,'W12'!$A$3:$C$66,3, FALSE) -> 2 | AO26: =VLOOKUP(B26,'W13'!$A$3:$C$66,3, FALSE) -> 2 | AP26: =VLOOKUP(B26,'W14'!$A$3:$C$66,3, FALSE) -> 2 | AQ26: =VLOOKUP(B26,'W15'!$A$3:$C$66,3, FALSE) -> 2 | AR26: =VLOOKUP(B26,'W16'!$A$3:$C$66,3, FALSE) -> 1 | AS26: =VLOOKUP(B26,'W17'!$A$3:$C$66,3, FALSE) -> 2 | AT26: =VLOOKUP(B26,'W18'!$A$3:$C$66,3, FALSE) -> 2 | AU26: =VLOOKUP(B26,'W19'!$A$3:$C$65,3, FALSE) -> 3 | AV26: =SUM(AC26:AU26) -> 30
A27: 25 | B27: Brossett, Chase | C27: =AA27 -> 174 | D27: =$AA$69 -> 284 | E27: =C27/D27 -> 0.61267606 | F27: =AV27 -> 32 | H27: =VLOOKUP(B27,'W01'!$A$3:$B$66,2, FALSE) -> 7.5 | I27: =VLOOKUP(B27,'W02'!$A$3:$B$66,2, FALSE) -> 6 | J27: =VLOOKUP(B27,'W03'!$A$3:$B$66,2, FALSE) -> 8 | K27: =VLOOKUP(B27,'W04'!$A$3:$B$66,2, FALSE) -> 11 | L27: =VLOOKUP(B27,'W05'!$A$3:$B$67,2, FALSE) -> 8 | M27: =VLOOKUP(B27,'W06'!$A$3:$B$67,2, FALSE) -> 6 | N27: =VLOOKUP(B27,'W07'!$A$3:$B$67,2, FALSE) -> 10 | O27: =VLOOKUP(B27,'W08'!$A$3:$B$67,2, FALSE) -> 11 | P27: =VLOOKUP(B27,'W09'!$A$3:$B$66,2, FALSE) -> 10 | Q27: =VLOOKUP(B27,'W10'!$A$3:$B$66,2, FALSE) -> 8 | R27: =VLOOKUP(B27,'W11'!$A$3:$B$66,2, FALSE) -> 10 | S27: =VLOOKUP(B27,'W12'!$A$3:$B$66,2, FALSE) -> 10 | T27: =VLOOKUP(B27,'W13'!$A$3:$B$66,2, FALSE) -> 11.5 | U27: =VLOOKUP(B27,'W14'!$A$3:$B$66,2, FALSE) -> 7 | V27: =VLOOKUP(B27,'W15'!$A$3:$B$66,2, FALSE) -> 9 | W27: =VLOOKUP(B27,'W16'!$A$3:$B$66,2, FALSE) -> 12 | X27: =VLOOKUP(B27,'W17'!$A$3:$B$66,2, FALSE) -> 11 | Y27: =VLOOKUP(B27,'W18'!$A$3:$B$66,2, FALSE) -> 10 | Z27: =VLOOKUP(B27,'W19'!$A$3:$B$65,2, FALSE) -> 8 | AA27: =SUM(H27:Z27) -> 174 | AC27: =VLOOKUP(B27,'W01'!$A$3:$C$66,3, FALSE) -> 2 | AD27: =VLOOKUP(B27,'W02'!$A$3:$C$66,3, FALSE) -> 2 | AE27: =VLOOKUP(B27,'W03'!$A$3:$C$66,3, FALSE) -> 1 | AF27: =VLOOKUP(B27,'W04'!$A$3:$C$66,3, FALSE) -> 1 | AG27: =VLOOKUP(B27,'W05'!$A$3:$C$67,3, FALSE) -> 2 | AH27: =VLOOKUP(B27,'W06'!$A$3:$C$67,3, FALSE) -> 0 | AI27: =VLOOKUP(B27,'W07'!$A$3:$C$67,3, FALSE) -> 1 | AJ27: =VLOOKUP(B27,'W08'!$A$3:$C$67,3, FALSE) -> 2 | AK27: =VLOOKUP(B27,'W09'!$A$3:$C$66,3, FALSE) -> 2 | AL27: =VLOOKUP(B27,'W10'!$A$3:$C$66,3, FALSE) -> 1 | AM27: =VLOOKUP(B27,'W11'!$A$3:$C$66,3, FALSE) -> 2 | AN27: =VLOOKUP(B27,'W12'!$A$3:$C$66,3, FALSE) -> 2 | AO27: =VLOOKUP(B27,'W13'!$A$3:$C$66,3, FALSE) -> 2 | AP27: =VLOOKUP(B27,'W14'!$A$3:$C$66,3, FALSE) -> 2 | AQ27: =VLOOKUP(B27,'W15'!$A$3:$C$66,3, FALSE) -> 2 | AR27: =VLOOKUP(B27,'W16'!$A$3:$C$66,3, FALSE) -> 2 | AS27: =VLOOKUP(B27,'W17'!$A$3:$C$66,3, FALSE) -> 2 | AT27: =VLOOKUP(B27,'W18'!$A$3:$C$66,3, FALSE) -> 2 | AU27: =VLOOKUP(B27,'W19'!$A$3:$C$65,3, FALSE) -> 2 | AV27: =SUM(AC27:AU27) -> 32
A28: 26 | B28: Vance, Jeremy | C28: =AA28 -> 173 | D28: =$AA$69 -> 284 | E28: =C28/D28 -> 0.60915493 | F28: =AV28 -> 29 | H28: =VLOOKUP(B28,'W01'!$A$3:$B$66,2, FALSE) -> 9.5 | I28: =VLOOKUP(B28,'W02'!$A$3:$B$66,2, FALSE) -> 7 | J28: =VLOOKUP(B28,'W03'!$A$3:$B$66,2, FALSE) -> 6 | K28: =VLOOKUP(B28,'W04'!$A$3:$B$66,2, FALSE) -> 10 | L28: =VLOOKUP(B28,'W05'!$A$3:$B$67,2, FALSE) -> 11 | M28: =VLOOKUP(B28,'W06'!$A$3:$B$67,2, FALSE) -> 9 | N28: =VLOOKUP(B28,'W07'!$A$3:$B$67,2, FALSE) -> 9 | O28: =VLOOKUP(B28,'W08'!$A$3:$B$67,2, FALSE) -> 9 | P28: =VLOOKUP(B28,'W09'!$A$3:$B$66,2, FALSE) -> 11 | Q28: =VLOOKUP(B28,'W10'!$A$3:$B$66,2, FALSE) -> 6 | R28: =VLOOKUP(B28,'W11'!$A$3:$B$66,2, FALSE) -> 10 | S28: =VLOOKUP(B28,'W12'!$A$3:$B$66,2, FALSE) -> 9 | T28: =VLOOKUP(B28,'W13'!$A$3:$B$66,2, FALSE) -> 10.5 | U28: =VLOOKUP(B28,'W14'!$A$3:$B$66,2, FALSE) -> 7 | V28: =VLOOKUP(B28,'W15'!$A$3:$B$66,2, FALSE) -> 10 | W28: =VLOOKUP(B28,'W16'!$A$3:$B$66,2, FALSE) -> 11 | X28: =VLOOKUP(B28,'W17'!$A$3:$B$66,2, FALSE) -> 10 | Y28: =VLOOKUP(B28,'W18'!$A$3:$B$66,2, FALSE) -> 9 | Z28: =VLOOKUP(B28,'W19'!$A$3:$B$65,2, FALSE) -> 9 | AA28: =SUM(H28:Z28) -> 173 | AC28: =VLOOKUP(B28,'W01'!$A$3:$C$66,3, FALSE) -> 1 | AD28: =VLOOKUP(B28,'W02'!$A$3:$C$66,3, FALSE) -> 1 | AE28: =VLOOKUP(B28,'W03'!$A$3:$C$66,3, FALSE) -> 1 | AF28: =VLOOKUP(B28,'W04'!$A$3:$C$66,3, FALSE) -> 1 | AG28: =VLOOKUP(B28,'W05'!$A$3:$C$67,3, FALSE) -> 2 | AH28: =VLOOKUP(B28,'W06'!$A$3:$C$67,3, FALSE) -> 1 | AI28: =VLOOKUP(B28,'W07'!$A$3:$C$67,3, FALSE) -> 1 | AJ28: =VLOOKUP(B28,'W08'!$A$3:$C$67,3, FALSE) -> 2 | AK28: =VLOOKUP(B28,'W09'!$A$3:$C$66,3, FALSE) -> 1 | AL28: =VLOOKUP(B28,'W10'!$A$3:$C$66,3, FALSE) -> 2 | AM28: =VLOOKUP(B28,'W11'!$A$3:$C$66,3, FALSE) -> 2 | AN28: =VLOOKUP(B28,'W12'!$A$3:$C$66,3, FALSE) -> 2 | AO28: =VLOOKUP(B28,'W13'!$A$3:$C$66,3, FALSE) -> 2 | AP28: =VLOOKUP(B28,'W14'!$A$3:$C$66,3, FALSE) -> 1 | AQ28: =VLOOKUP(B28,'W15'!$A$3:$C$66,3, FALSE) -> 2 | AR28: =VLOOKUP(B28,'W16'!$A$3:$C$66,3, FALSE) -> 0 | AS28: =VLOOKUP(B28,'W17'!$A$3:$C$66,3, FALSE) -> 2 | AT28: =VLOOKUP(B28,'W18'!$A$3:$C$66,3, FALSE) -> 2 | AU28: =VLOOKUP(B28,'W19'!$A$3:$C$65,3, FALSE) -> 3 | AV28: =SUM(AC28:AU28) -> 29
A29: 27 | B29: Rapisand, Ryan | C29: =AA29 -> 172 | D29: =$AA$69 -> 284 | E29: =C29/D29 -> 0.6056338 | F29: =AV29 -> 32 | H29: =VLOOKUP(B29,'W01'!$A$3:$B$66,2, FALSE) -> 8.5 | I29: =VLOOKUP(B29,'W02'!$A$3:$B$66,2, FALSE) -> 10 | J29: =VLOOKUP(B29,'W03'!$A$3:$B$66,2, FALSE) -> 9 | K29: =VLOOKUP(B29,'W04'!$A$3:$B$66,2, FALSE) -> 8 | L29: =VLOOKUP(B29,'W05'!$A$3:$B$67,2, FALSE) -> 11 | M29: =VLOOKUP(B29,'W06'!$A$3:$B$67,2, FALSE) -> 6 | N29: =VLOOKUP(B29,'W07'!$A$3:$B$67,2, FALSE) -> 10 | O29: =VLOOKUP(B29,'W08'!$A$3:$B$67,2, FALSE) -> 8 | P29: =VLOOKUP(B29,'W09'!$A$3:$B$66,2, FALSE) -> 10 | Q29: =VLOOKUP(B29,'W10'!$A$3:$B$66,2, FALSE) -> 5 | R29: =VLOOKUP(B29,'W11'!$A$3:$B$66,2, FALSE) -> 10 | S29: =VLOOKUP(B29,'W12'!$A$3:$B$66,2, FALSE) -> 9 | T29: =VLOOKUP(B29,'W13'!$A$3:$B$66,2, FALSE) -> 11.5 | U29: =VLOOKUP(B29,'W14'!$A$3:$B$66,2, FALSE) -> 6 | V29: =VLOOKUP(B29,'W15'!$A$3:$B$66,2, FALSE) -> 10 | W29: =VLOOKUP(B29,'W16'!$A$3:$B$66,2, FALSE) -> 10 | X29: =VLOOKUP(B29,'W17'!$A$3:$B$66,2, FALSE) -> 9 | Y29: =VLOOKUP(B29,'W18'!$A$3:$B$66,2, FALSE) -> 11 | Z29: =VLOOKUP(B29,'W19'!$A$3:$B$65,2, FALSE) -> 10 | AA29: =SUM(H29:Z29) -> 172 | AC29: =VLOOKUP(B29,'W01'!$A$3:$C$66,3, FALSE) -> 1 | AD29: =VLOOKUP(B29,'W02'!$A$3:$C$66,3, FALSE) -> 1 | AE29: =VLOOKUP(B29,'W03'!$A$3:$C$66,3, FALSE) -> 1 | AF29: =VLOOKUP(B29,'W04'!$A$3:$C$66,3, FALSE) -> 2 | AG29: =VLOOKUP(B29,'W05'!$A$3:$C$67,3, FALSE) -> 1 | AH29: =VLOOKUP(B29,'W06'!$A$3:$C$67,3, FALSE) -> 1 | AI29: =VLOOKUP(B29,'W07'!$A$3:$C$67,3, FALSE) -> 2 | AJ29: =VLOOKUP(B29,'W08'!$A$3:$C$67,3, FALSE) -> 2 | AK29: =VLOOKUP(B29,'W09'!$A$3:$C$66,3, FALSE) -> 1 | AL29: =VLOOKUP(B29,'W10'!$A$3:$C$66,3, FALSE) -> 2 | AM29: =VLOOKUP(B29,'W11'!$A$3:$C$66,3, FALSE) -> 2 | AN29: =VLOOKUP(B29,'W12'!$A$3:$C$66,3, FALSE) -> 2 | AO29: =VLOOKUP(B29,'W13'!$A$3:$C$66,3, FALSE) -> 2 | AP29: =VLOOKUP(B29,'W14'!$A$3:$C$66,3, FALSE) -> 2 | AQ29: =VLOOKUP(B29,'W15'!$A$3:$C$66,3, FALSE) -> 1 | AR29: =VLOOKUP(B29,'W16'!$A$3:$C$66,3, FALSE) -> 1 | AS29: =VLOOKUP(B29,'W17'!$A$3:$C$66,3, FALSE) -> 2 | AT29: =VLOOKUP(B29,'W18'!$A$3:$C$66,3, FALSE) -> 2 | AU29: =VLOOKUP(B29,'W19'!$A$3:$C$65,3, FALSE) -> 4 | AV29: =SUM(AC29:AU29) -> 32
A30: 28 | B30: Clarke, Andrew | C30: =AA30 -> 172 | D30: =$AA$69 -> 284 | E30: =C30/D30 -> 0.6056338 | F30: =AV30 -> 30 | H30: =VLOOKUP(B30,'W01'!$A$3:$B$66,2, FALSE) -> 8.5 | I30: =VLOOKUP(B30,'W02'!$A$3:$B$66,2, FALSE) -> 6 | J30: =VLOOKUP(B30,'W03'!$A$3:$B$66,2, FALSE) -> 9 | K30: =VLOOKUP(B30,'W04'!$A$3:$B$66,2, FALSE) -> 11 | L30: =VLOOKUP(B30,'W05'!$A$3:$B$67,2, FALSE) -> 11 | M30: =VLOOKUP(B30,'W06'!$A$3:$B$67,2, FALSE) -> 7 | N30: =VLOOKUP(B30,'W07'!$A$3:$B$67,2, FALSE) -> 8 | O30: =VLOOKUP(B30,'W08'!$A$3:$B$67,2, FALSE) -> 9 | P30: =VLOOKUP(B30,'W09'!$A$3:$B$66,2, FALSE) -> 7 | Q30: =VLOOKUP(B30,'W10'!$A$3:$B$66,2, FALSE) -> 5 | R30: =VLOOKUP(B30,'W11'!$A$3:$B$66,2, FALSE) -> 10 | S30: =VLOOKUP(B30,'W12'!$A$3:$B$66,2, FALSE) -> 12 | T30: =VLOOKUP(B30,'W13'!$A$3:$B$66,2, FALSE) -> 11.5 | U30: =VLOOKUP(B30,'W14'!$A$3:$B$66,2, FALSE) -> 8 | V30: =VLOOKUP(B30,'W15'!$A$3:$B$66,2, FALSE) -> 9 | W30: =VLOOKUP(B30,'W16'!$A$3:$B$66,2, FALSE) -> 9 | X30: =VLOOKUP(B30,'W17'!$A$3:$B$66,2, FALSE) -> 11 | Y30: =VLOOKUP(B30,'W18'!$A$3:$B$66,2, FALSE) -> 11 | Z30: =VLOOKUP(B30,'W19'!$A$3:$B$65,2, FALSE) -> 9 | AA30: =SUM(H30:Z30) -> 172 | AC30: =VLOOKUP(B30,'W01'!$A$3:$C$66,3, FALSE) -> 1 | AD30: =VLOOKUP(B30,'W02'!$A$3:$C$66,3, FALSE) -> 0 | AE30: =VLOOKUP(B30,'W03'!$A$3:$C$66,3, FALSE) -> 0 | AF30: =VLOOKUP(B30,'W04'!$A$3:$C$66,3, FALSE) -> 2 | AG30: =VLOOKUP(B30,'W05'!$A$3:$C$67,3, FALSE) -> 1 | AH30: =VLOOKUP(B30,'W06'!$A$3:$C$67,3, FALSE) -> 1 | AI30: =VLOOKUP(B30,'W07'!$A$3:$C$67,3, FALSE) -> 1 | AJ30: =VLOOKUP(B30,'W08'!$A$3:$C$67,3, FALSE) -> 2 | AK30: =VLOOKUP(B30,'W09'!$A$3:$C$66,3, FALSE) -> 2 | AL30: =VLOOKUP(B30,'W10'!$A$3:$C$66,3, FALSE) -> 1 | AM30: =VLOOKUP(B30,'W11'!$A$3:$C$66,3, FALSE) -> 2 | AN30: =VLOOKUP(B30,'W12'!$A$3:$C$66,3, FALSE) -> 2 | AO30: =VLOOKUP(B30,'W13'!$A$3:$C$66,3, FALSE) -> 2 | AP30: =VLOOKUP(B30,'W14'!$A$3:$C$66,3, FALSE) -> 2 | AQ30: =VLOOKUP(B30,'W15'!$A$3:$C$66,3, FALSE) -> 2 | AR30: =VLOOKUP(B30,'W16'!$A$3:$C$66,3, FALSE) -> 2 | AS30: =VLOOKUP(B30,'W17'!$A$3:$C$66,3, FALSE) -> 2 | AT30: =VLOOKUP(B30,'W18'!$A$3:$C$66,3, FALSE) -> 2 | AU30: =VLOOKUP(B30,'W19'!$A$3:$C$65,3, FALSE) -> 3 | AV30: =SUM(AC30:AU30) -> 30
A31: 29 | B31: Prothro, Tom | C31: =AA31 -> 172 | D31: =$AA$69 -> 284 | E31: =C31/D31 -> 0.6056338 | F31: =AV31 -> 26 | H31: =VLOOKUP(B31,'W01'!$A$3:$B$66,2, FALSE) -> 8.5 | I31: =VLOOKUP(B31,'W02'!$A$3:$B$66,2, FALSE) -> 9 | J31: =VLOOKUP(B31,'W03'!$A$3:$B$66,2, FALSE) -> 6 | K31: =VLOOKUP(B31,'W04'!$A$3:$B$66,2, FALSE) -> 12 | L31: =VLOOKUP(B31,'W05'!$A$3:$B$67,2, FALSE) -> 11 | M31: =VLOOKUP(B31,'W06'!$A$3:$B$67,2, FALSE) -> 5 | N31: =VLOOKUP(B31,'W07'!$A$3:$B$67,2, FALSE) -> 9 | O31: =VLOOKUP(B31,'W08'!$A$3:$B$67,2, FALSE) -> 8 | P31: =VLOOKUP(B31,'W09'!$A$3:$B$66,2, FALSE) -> 9 | Q31: =VLOOKUP(B31,'W10'!$A$3:$B$66,2, FALSE) -> 6 | R31: =VLOOKUP(B31,'W11'!$A$3:$B$66,2, FALSE) -> 10 | S31: =VLOOKUP(B31,'W12'!$A$3:$B$66,2, FALSE) -> 10 | T31: =VLOOKUP(B31,'W13'!$A$3:$B$66,2, FALSE) -> 10.5 | U31: =VLOOKUP(B31,'W14'!$A$3:$B$66,2, FALSE) -> 7 | V31: =VLOOKUP(B31,'W15'!$A$3:$B$66,2, FALSE) -> 8 | W31: =VLOOKUP(B31,'W16'!$A$3:$B$66,2, FALSE) -> 13 | X31: =VLOOKUP(B31,'W17'!$A$3:$B$66,2, FALSE) -> 11 | Y31: =VLOOKUP(B31,'W18'!$A$3:$B$66,2, FALSE) -> 8 | Z31: =VLOOKUP(B31,'W19'!$A$3:$B$65,2, FALSE) -> 11 | AA31: =SUM(H31:Z31) -> 172 | AC31: =VLOOKUP(B31,'W01'!$A$3:$C$66,3, FALSE) -> 1 | AD31: =VLOOKUP(B31,'W02'!$A$3:$C$66,3, FALSE) -> 2 | AE31: =VLOOKUP(B31,'W03'!$A$3:$C$66,3, FALSE) -> 0 | AF31: =VLOOKUP(B31,'W04'!$A$3:$C$66,3, FALSE) -> 1 | AG31: =VLOOKUP(B31,'W05'!$A$3:$C$67,3, FALSE) -> 2 | AH31: =VLOOKUP(B31,'W06'!$A$3:$C$67,3, FALSE) -> 1 | AI31: =VLOOKUP(B31,'W07'!$A$3:$C$67,3, FALSE) -> 1 | AJ31: =VLOOKUP(B31,'W08'!$A$3:$C$67,3, FALSE) -> 2 | AK31: =VLOOKUP(B31,'W09'!$A$3:$C$66,3, FALSE) -> 1 | AL31: =VLOOKUP(B31,'W10'!$A$3:$C$66,3, FALSE) -> 1 | AM31: =VLOOKUP(B31,'W11'!$A$3:$C$66,3, FALSE) -> 2 | AN31: =VLOOKUP(B31,'W12'!$A$3:$C$66,3, FALSE) -> 1 | AO31: =VLOOKUP(B31,'W13'!$A$3:$C$66,3, FALSE) -> 1 | AP31: =VLOOKUP(B31,'W14'!$A$3:$C$66,3, FALSE) -> 1 | AQ31: =VLOOKUP(B31,'W15'!$A$3:$C$66,3, FALSE) -> 0 | AR31: =VLOOKUP(B31,'W16'!$A$3:$C$66,3, FALSE) -> 2 | AS31: =VLOOKUP(B31,'W17'!$A$3:$C$66,3, FALSE) -> 1 | AT31: =VLOOKUP(B31,'W18'!$A$3:$C$66,3, FALSE) -> 2 | AU31: =VLOOKUP(B31,'W19'!$A$3:$C$65,3, FALSE) -> 4 | AV31: =SUM(AC31:AU31) -> 26
A32: 30 | B32: Garcia, Omar | C32: =AA32 -> 171 | D32: =$AA$69 -> 284 | E32: =C32/D32 -> 0.60211268 | F32: =AV32 -> 29 | H32: =VLOOKUP(B32,'W01'!$A$3:$B$66,2, FALSE) -> 7.5 | I32: =VLOOKUP(B32,'W02'!$A$3:$B$66,2, FALSE) -> 12 | J32: =VLOOKUP(B32,'W03'!$A$3:$B$66,2, FALSE) -> 7 | K32: =VLOOKUP(B32,'W04'!$A$3:$B$66,2, FALSE) -> 12 | L32: =VLOOKUP(B32,'W05'!$A$3:$B$67,2, FALSE) -> 12 | M32: =VLOOKUP(B32,'W06'!$A$3:$B$67,2, FALSE) -> 7 | N32: =VLOOKUP(B32,'W07'!$A$3:$B$67,2, FALSE) -> 11 | O32: =VLOOKUP(B32,'W08'!$A$3:$B$67,2, FALSE) -> 10 | P32: =VLOOKUP(B32,'W09'!$A$3:$B$66,2, FALSE) -> 8 | Q32: =VLOOKUP(B32,'W10'!$A$3:$B$66,2, FALSE) -> 7 | R32: =VLOOKUP(B32,'W11'!$A$3:$B$66,2, FALSE) -> 11 | S32: =VLOOKUP(B32,'W12'!$A$3:$B$66,2, FALSE) -> 9 | T32: =VLOOKUP(B32,'W13'!$A$3:$B$66,2, FALSE) -> 8.5 | U32: =VLOOKUP(B32,'W14'!$A$3:$B$66,2, FALSE) -> 6 | V32: =VLOOKUP(B32,'W15'!$A$3:$B$66,2, FALSE) -> 10 | W32: =VLOOKUP(B32,'W16'!$A$3:$B$66,2, FALSE) -> 10 | X32: =VLOOKUP(B32,'W17'!$A$3:$B$66,2, FALSE) -> 10 | Y32: =VLOOKUP(B32,'W18'!$A$3:$B$66,2, FALSE) -> 8 | Z32: =VLOOKUP(B32,'W19'!$A$3:$B$65,2, FALSE) -> 5 | AA32: =SUM(H32:Z32) -> 171 | AC32: =VLOOKUP(B32,'W01'!$A$3:$C$66,3, FALSE) -> 1 | AD32: =VLOOKUP(B32,'W02'!$A$3:$C$66,3, FALSE) -> 1 | AE32: =VLOOKUP(B32,'W03'!$A$3:$C$66,3, FALSE) -> 1 | AF32: =VLOOKUP(B32,'W04'!$A$3:$C$66,3, FALSE) -> 2 | AG32: =VLOOKUP(B32,'W05'!$A$3:$C$67,3, FALSE) -> 2 | AH32: =VLOOKUP(B32,'W06'!$A$3:$C$67,3, FALSE) -> 1 | AI32: =VLOOKUP(B32,'W07'!$A$3:$C$67,3, FALSE) -> 2 | AJ32: =VLOOKUP(B32,'W08'!$A$3:$C$67,3, FALSE) -> 2 | AK32: =VLOOKUP(B32,'W09'!$A$3:$C$66,3, FALSE) -> 2 | AL32: =VLOOKUP(B32,'W10'!$A$3:$C$66,3, FALSE) -> 0 | AM32: =VLOOKUP(B32,'W11'!$A$3:$C$66,3, FALSE) -> 2 | AN32: =VLOOKUP(B32,'W12'!$A$3:$C$66,3, FALSE) -> 2 | AO32: =VLOOKUP(B32,'W13'!$A$3:$C$66,3, FALSE) -> 2 | AP32: =VLOOKUP(B32,'W14'!$A$3:$C$66,3, FALSE) -> 2 | AQ32: =VLOOKUP(B32,'W15'!$A$3:$C$66,3, FALSE) -> 2 | AR32: =VLOOKUP(B32,'W16'!$A$3:$C$66,3, FALSE) -> 1 | AS32: =VLOOKUP(B32,'W17'!$A$3:$C$66,3, FALSE) -> 2 | AT32: =VLOOKUP(B32,'W18'!$A$3:$C$66,3, FALSE) -> 1 | AU32: =VLOOKUP(B32,'W19'!$A$3:$C$65,3, FALSE) -> 1 | AV32: =SUM(AC32:AU32) -> 29
A33: 31 | B33: Curran, Taylor | C33: =AA33 -> 171 | D33: =$AA$69 -> 284 | E33: =C33/D33 -> 0.60211268 | F33: =AV33 -> 27 | H33: =VLOOKUP(B33,'W01'!$A$3:$B$66,2, FALSE) -> 8.5 | I33: =VLOOKUP(B33,'W02'!$A$3:$B$66,2, FALSE) -> 10 | J33: =VLOOKUP(B33,'W03'!$A$3:$B$66,2, FALSE) -> 10 | K33: =VLOOKUP(B33,'W04'!$A$3:$B$66,2, FALSE) -> 9 | L33: =VLOOKUP(B33,'W05'!$A$3:$B$67,2, FALSE) -> 12 | M33: =VLOOKUP(B33,'W06'!$A$3:$B$67,2, FALSE) -> 7 | N33: =VLOOKUP(B33,'W07'!$A$3:$B$67,2, FALSE) -> 9 | O33: =VLOOKUP(B33,'W08'!$A$3:$B$67,2, FALSE) -> 8 | P33: =VLOOKUP(B33,'W09'!$A$3:$B$66,2, FALSE) -> 9 | Q33: =VLOOKUP(B33,'W10'!$A$3:$B$66,2, FALSE) -> 5 | R33: =VLOOKUP(B33,'W11'!$A$3:$B$66,2, FALSE) -> 9 | S33: =VLOOKUP(B33,'W12'!$A$3:$B$66,2, FALSE) -> 9 | T33: =VLOOKUP(B33,'W13'!$A$3:$B$66,2, FALSE) -> 9.5 | U33: =VLOOKUP(B33,'W14'!$A$3:$B$66,2, FALSE) -> 7 | V33: =VLOOKUP(B33,'W15'!$A$3:$B$66,2, FALSE) -> 11 | W33: =VLOOKUP(B33,'W16'!$A$3:$B$66,2, FALSE) -> 11 | X33: =VLOOKUP(B33,'W17'!$A$3:$B$66,2, FALSE) -> 9 | Y33: =VLOOKUP(B33,'W18'!$A$3:$B$66,2, FALSE) -> 9 | Z33: =VLOOKUP(B33,'W19'!$A$3:$B$65,2, FALSE) -> 9 | AA33: =SUM(H33:Z33) -> 171 | AC33: =VLOOKUP(B33,'W01'!$A$3:$C$66,3, FALSE) -> 1 | AD33: =VLOOKUP(B33,'W02'!$A$3:$C$66,3, FALSE) -> 1 | AE33: =VLOOKUP(B33,'W03'!$A$3:$C$66,3, FALSE) -> 1 | AF33: =VLOOKUP(B33,'W04'!$A$3:$C$66,3, FALSE) -> 2 | AG33: =VLOOKUP(B33,'W05'!$A$3:$C$67,3, FALSE) -> 2 | AH33: =VLOOKUP(B33,'W06'!$A$3:$C$67,3, FALSE) -> 1 | AI33: =VLOOKUP(B33,'W07'!$A$3:$C$67,3, FALSE) -> 1 | AJ33: =VLOOKUP(B33,'W08'!$A$3:$C$67,3, FALSE) -> 2 | AK33: =VLOOKUP(B33,'W09'!$A$3:$C$66,3, FALSE) -> 1 | AL33: =VLOOKUP(B33,'W10'!$A$3:$C$66,3, FALSE) -> 0 | AM33: =VLOOKUP(B33,'W11'!$A$3:$C$66,3, FALSE) -> 2 | AN33: =VLOOKUP(B33,'W12'!$A$3:$C$66,3, FALSE) -> 2 | AO33: =VLOOKUP(B33,'W13'!$A$3:$C$66,3, FALSE) -> 2 | AP33: =VLOOKUP(B33,'W14'!$A$3:$C$66,3, FALSE) -> 2 | AQ33: =VLOOKUP(B33,'W15'!$A$3:$C$66,3, FALSE) -> 2 | AR33: =VLOOKUP(B33,'W16'!$A$3:$C$66,3, FALSE) -> 1 | AS33: =VLOOKUP(B33,'W17'!$A$3:$C$66,3, FALSE) -> 1 | AT33: =VLOOKUP(B33,'W18'!$A$3:$C$66,3, FALSE) -> 0 | AU33: =VLOOKUP(B33,'W19'!$A$3:$C$65,3, FALSE) -> 3 | AV33: =SUM(AC33:AU33) -> 27
A34: 32 | B34: Baze, Drew | C34: =AA34 -> 171 | D34: =$AA$69 -> 284 | E34: =C34/D34 -> 0.60211268 | F34: =AV34 -> 26.5 | H34: =VLOOKUP(B34,'W01'!$A$3:$B$66,2, FALSE) -> 8.5 | I34: =VLOOKUP(B34,'W02'!$A$3:$B$66,2, FALSE) -> 10 | J34: =VLOOKUP(B34,'W03'!$A$3:$B$66,2, FALSE) -> 6 | K34: =VLOOKUP(B34,'W04'!$A$3:$B$66,2, FALSE) -> 9 | L34: =VLOOKUP(B34,'W05'!$A$3:$B$67,2, FALSE) -> 10 | M34: =VLOOKUP(B34,'W06'!$A$3:$B$67,2, FALSE) -> 3 | N34: =VLOOKUP(B34,'W07'!$A$3:$B$67,2, FALSE) -> 8 | O34: =VLOOKUP(B34,'W08'!$A$3:$B$67,2, FALSE) -> 11 | P34: =VLOOKUP(B34,'W09'!$A$3:$B$66,2, FALSE) -> 9 | Q34: =VLOOKUP(B34,'W10'!$A$3:$B$66,2, FALSE) -> 7 | R34: =VLOOKUP(B34,'W11'!$A$3:$B$66,2, FALSE) -> 9 | S34: =VLOOKUP(B34,'W12'!$A$3:$B$66,2, FALSE) -> 10 | T34: =VLOOKUP(B34,'W13'!$A$3:$B$66,2, FALSE) -> 11.5 | U34: =VLOOKUP(B34,'W14'!$A$3:$B$66,2, FALSE) -> 9 | V34: =VLOOKUP(B34,'W15'!$A$3:$B$66,2, FALSE) -> 10 | W34: =VLOOKUP(B34,'W16'!$A$3:$B$66,2, FALSE) -> 12 | X34: =VLOOKUP(B34,'W17'!$A$3:$B$66,2, FALSE) -> 10 | Y34: =VLOOKUP(B34,'W18'!$A$3:$B$66,2, FALSE) -> 10 | Z34: =VLOOKUP(B34,'W19'!$A$3:$B$65,2, FALSE) -> 8 | AA34: =SUM(H34:Z34) -> 171 | AC34: =VLOOKUP(B34,'W01'!$A$3:$C$66,3, FALSE) -> 0.5 | AD34: =VLOOKUP(B34,'W02'!$A$3:$C$66,3, FALSE) -> 1 | AE34: =VLOOKUP(B34,'W03'!$A$3:$C$66,3, FALSE) -> 0 | AF34: =VLOOKUP(B34,'W04'!$A$3:$C$66,3, FALSE) -> 2 | AG34: =VLOOKUP(B34,'W05'!$A$3:$C$67,3, FALSE) -> 2 | AH34: =VLOOKUP(B34,'W06'!$A$3:$C$67,3, FALSE) -> 0 | AI34: =VLOOKUP(B34,'W07'!$A$3:$C$67,3, FALSE) -> 2 | AJ34: =VLOOKUP(B34,'W08'!$A$3:$C$67,3, FALSE) -> 2 | AK34: =VLOOKUP(B34,'W09'!$A$3:$C$66,3, FALSE) -> 2 | AL34: =VLOOKUP(B34,'W10'!$A$3:$C$66,3, FALSE) -> 0 | AM34: =VLOOKUP(B34,'W11'!$A$3:$C$66,3, FALSE) -> 2 | AN34: =VLOOKUP(B34,'W12'!$A$3:$C$66,3, FALSE) -> 2 | AO34: =VLOOKUP(B34,'W13'!$A$3:$C$66,3, FALSE) -> 1 | AP34: =VLOOKUP(B34,'W14'!$A$3:$C$66,3, FALSE) -> 2 | AQ34: =VLOOKUP(B34,'W15'!$A$3:$C$66,3, FALSE) -> 1 | AR34: =VLOOKUP(B34,'W16'!$A$3:$C$66,3, FALSE) -> 2 | AS34: =VLOOKUP(B34,'W17'!$A$3:$C$66,3, FALSE) -> 1 | AT34: =VLOOKUP(B34,'W18'!$A$3:$C$66,3, FALSE) -> 1 | AU34: =VLOOKUP(B34,'W19'!$A$3:$C$65,3, FALSE) -> 3 | AV34: =SUM(AC34:AU34) -> 26.5
A35: 33 | B35: Sloan, Kenneth | C35: =AA35 -> 170 | D35: =$AA$69 -> 284 | E35: =C35/D35 -> 0.59859155 | F35: =AV35 -> 29 | H35: =VLOOKUP(B35,'W01'!$A$3:$B$66,2, FALSE) -> 8.5 | I35: =VLOOKUP(B35,'W02'!$A$3:$B$66,2, FALSE) -> 7 | J35: =VLOOKUP(B35,'W03'!$A$3:$B$66,2, FALSE) -> 8 | K35: =VLOOKUP(B35,'W04'!$A$3:$B$66,2, FALSE) -> 10 | L35: =VLOOKUP(B35,'W05'!$A$3:$B$67,2, FALSE) -> 9 | M35: =VLOOKUP(B35,'W06'!$A$3:$B$67,2, FALSE) -> 9 | N35: =VLOOKUP(B35,'W07'!$A$3:$B$67,2, FALSE) -> 10 | O35: =VLOOKUP(B35,'W08'!$A$3:$B$67,2, FALSE) -> 7 | P35: =VLOOKUP(B35,'W09'!$A$3:$B$66,2, FALSE) -> 10 | Q35: =VLOOKUP(B35,'W10'!$A$3:$B$66,2, FALSE) -> 8 | R35: =VLOOKUP(B35,'W11'!$A$3:$B$66,2, FALSE) -> 8 | S35: =VLOOKUP(B35,'W12'!$A$3:$B$66,2, FALSE) -> 13 | T35: =VLOOKUP(B35,'W13'!$A$3:$B$66,2, FALSE) -> 11.5 | U35: =VLOOKUP(B35,'W14'!$A$3:$B$66,2, FALSE) -> 6 | V35: =VLOOKUP(B35,'W15'!$A$3:$B$66,2, FALSE) -> 8 | W35: =VLOOKUP(B35,'W16'!$A$3:$B$66,2, FALSE) -> 12 | X35: =VLOOKUP(B35,'W17'!$A$3:$B$66,2, FALSE) -> 7 | Y35: =VLOOKUP(B35,'W18'!$A$3:$B$66,2, FALSE) -> 10 | Z35: =VLOOKUP(B35,'W19'!$A$3:$B$65,2, FALSE) -> 8 | AA35: =SUM(H35:Z35) -> 170 | AC35: =VLOOKUP(B35,'W01'!$A$3:$C$66,3, FALSE) -> 1 | AD35: =VLOOKUP(B35,'W02'!$A$3:$C$66,3, FALSE) -> 2 | AE35: =VLOOKUP(B35,'W03'!$A$3:$C$66,3, FALSE) -> 0 | AF35: =VLOOKUP(B35,'W04'!$A$3:$C$66,3, FALSE) -> 1 | AG35: =VLOOKUP(B35,'W05'!$A$3:$C$67,3, FALSE) -> 2 | AH35: =VLOOKUP(B35,'W06'!$A$3:$C$67,3, FALSE) -> 1 | AI35: =VLOOKUP(B35,'W07'!$A$3:$C$67,3, FALSE) -> 2 | AJ35: =VLOOKUP(B35,'W08'!$A$3:$C$67,3, FALSE) -> 2 | AK35: =VLOOKUP(B35,'W09'!$A$3:$C$66,3, FALSE) -> 1 | AL35: =VLOOKUP(B35,'W10'!$A$3:$C$66,3, FALSE) -> 1 | AM35: =VLOOKUP(B35,'W11'!$A$3:$C$66,3, FALSE) -> 1 | AN35: =VLOOKUP(B35,'W12'!$A$3:$C$66,3, FALSE) -> 2 | AO35: =VLOOKUP(B35,'W13'!$A$3:$C$66,3, FALSE) -> 1 | AP35: =VLOOKUP(B35,'W14'!$A$3:$C$66,3, FALSE) -> 2 | AQ35: =VLOOKUP(B35,'W15'!$A$3:$C$66,3, FALSE) -> 1 | AR35: =VLOOKUP(B35,'W16'!$A$3:$C$66,3, FALSE) -> 1 | AS35: =VLOOKUP(B35,'W17'!$A$3:$C$66,3, FALSE) -> 2 | AT35: =VLOOKUP(B35,'W18'!$A$3:$C$66,3, FALSE) -> 2 | AU35: =VLOOKUP(B35,'W19'!$A$3:$C$65,3, FALSE) -> 4 | AV35: =SUM(AC35:AU35) -> 29
A36: 34 | B36: Meyer, Austen | C36: =AA36 -> 170 | D36: =$AA$69 -> 284 | E36: =C36/D36 -> 0.59859155 | F36: =AV36 -> 27 | H36: =VLOOKUP(B36,'W01'!$A$3:$B$66,2, FALSE) -> 9.5 | I36: =VLOOKUP(B36,'W02'!$A$3:$B$66,2, FALSE) -> 10 | J36: =VLOOKUP(B36,'W03'!$A$3:$B$66,2, FALSE) -> 8 | K36: =VLOOKUP(B36,'W04'!$A$3:$B$66,2, FALSE) -> 11 | L36: =VLOOKUP(B36,'W05'!$A$3:$B$67,2, FALSE) -> 10 | M36: =VLOOKUP(B36,'W06'!$A$3:$B$67,2, FALSE) -> 8 | N36: =VLOOKUP(B36,'W07'!$A$3:$B$67,2, FALSE) -> 10 | O36: =VLOOKUP(B36,'W08'!$A$3:$B$67,2, FALSE) -> 7 | P36: =VLOOKUP(B36,'W09'!$A$3:$B$66,2, FALSE) -> 9 | Q36: =VLOOKUP(B36,'W10'!$A$3:$B$66,2, FALSE) -> 4 | R36: =VLOOKUP(B36,'W11'!$A$3:$B$66,2, FALSE) -> 11 | S36: =VLOOKUP(B36,'W12'!$A$3:$B$66,2, FALSE) -> 9 | T36: =VLOOKUP(B36,'W13'!$A$3:$B$66,2, FALSE) -> 9.5 | U36: =VLOOKUP(B36,'W14'!$A$3:$B$66,2, FALSE) -> 7 | V36: =VLOOKUP(B36,'W15'!$A$3:$B$66,2, FALSE) -> 11 | W36: =VLOOKUP(B36,'W16'!$A$3:$B$66,2, FALSE) -> 11 | X36: =VLOOKUP(B36,'W17'!$A$3:$B$66,2, FALSE) -> 9 | Y36: =VLOOKUP(B36,'W18'!$A$3:$B$66,2, FALSE) -> 10 | Z36: =VLOOKUP(B36,'W19'!$A$3:$B$65,2, FALSE) -> 6 | AA36: =SUM(H36:Z36) -> 170 | AC36: =VLOOKUP(B36,'W01'!$A$3:$C$66,3, FALSE) -> 1 | AD36: =VLOOKUP(B36,'W02'!$A$3:$C$66,3, FALSE) -> 1 | AE36: =VLOOKUP(B36,'W03'!$A$3:$C$66,3, FALSE) -> 1 | AF36: =VLOOKUP(B36,'W04'!$A$3:$C$66,3, FALSE) -> 1 | AG36: =VLOOKUP(B36,'W05'!$A$3:$C$67,3, FALSE) -> 1 | AH36: =VLOOKUP(B36,'W06'!$A$3:$C$67,3, FALSE) -> 1 | AI36: =VLOOKUP(B36,'W07'!$A$3:$C$67,3, FALSE) -> 2 | AJ36: =VLOOKUP(B36,'W08'!$A$3:$C$67,3, FALSE) -> 2 | AK36: =VLOOKUP(B36,'W09'!$A$3:$C$66,3, FALSE) -> 1 | AL36: =VLOOKUP(B36,'W10'!$A$3:$C$66,3, FALSE) -> 0 | AM36: =VLOOKUP(B36,'W11'!$A$3:$C$66,3, FALSE) -> 2 | AN36: =VLOOKUP(B36,'W12'!$A$3:$C$66,3, FALSE) -> 1 | AO36: =VLOOKUP(B36,'W13'!$A$3:$C$66,3, FALSE) -> 2 | AP36: =VLOOKUP(B36,'W14'!$A$3:$C$66,3, FALSE) -> 2 | AQ36: =VLOOKUP(B36,'W15'!$A$3:$C$66,3, FALSE) -> 2 | AR36: =VLOOKUP(B36,'W16'!$A$3:$C$66,3, FALSE) -> 2 | AS36: =VLOOKUP(B36,'W17'!$A$3:$C$66,3, FALSE) -> 2 | AT36: =VLOOKUP(B36,'W18'!$A$3:$C$66,3, FALSE) -> 0 | AU36: =VLOOKUP(B36,'W19'!$A$3:$C$65,3, FALSE) -> 3 | AV36: =SUM(AC36:AU36) -> 27
A37: 35 | B37: Scoville, Jordan | C37: =AA37 -> 169 | D37: =$AA$69 -> 284 | E37: =C37/D37 -> 0.59507042 | F37: =AV37 -> 29 | H37: =VLOOKUP(B37,'W01'!$A$3:$B$66,2, FALSE) -> 8.5 | I37: =VLOOKUP(B37,'W02'!$A$3:$B$66,2, FALSE) -> 9 | J37: =VLOOKUP(B37,'W03'!$A$3:$B$66,2, FALSE) -> 8 | K37: =VLOOKUP(B37,'W04'!$A$3:$B$66,2, FALSE) -> 9 | L37: =VLOOKUP(B37,'W05'!$A$3:$B$67,2, FALSE) -> 8 | M37: =VLOOKUP(B37,'W06'!$A$3:$B$67,2, FALSE) -> 6 | N37: =VLOOKUP(B37,'W07'!$A$3:$B$67,2, FALSE) -> 10 | O37: =VLOOKUP(B37,'W08'!$A$3:$B$67,2, FALSE) -> 7 | P37: =VLOOKUP(B37,'W09'!$A$3:$B$66,2, FALSE) -> 9 | Q37: =VLOOKUP(B37,'W10'!$A$3:$B$66,2, FALSE) -> 8 | R37: =VLOOKUP(B37,'W11'!$A$3:$B$66,2, FALSE) -> 8 | S37: =VLOOKUP(B37,'W12'!$A$3:$B$66,2, FALSE) -> 13 | T37: =VLOOKUP(B37,'W13'!$A$3:$B$66,2, FALSE) -> 11.5 | U37: =VLOOKUP(B37,'W14'!$A$3:$B$66,2, FALSE) -> 7 | V37: =VLOOKUP(B37,'W15'!$A$3:$B$66,2, FALSE) -> 11 | W37: =VLOOKUP(B37,'W16'!$A$3:$B$66,2, FALSE) -> 11 | X37: =VLOOKUP(B37,'W17'!$A$3:$B$66,2, FALSE) -> 7 | Y37: =VLOOKUP(B37,'W18'!$A$3:$B$66,2, FALSE) -> 10 | Z37: =VLOOKUP(B37,'W19'!$A$3:$B$65,2, FALSE) -> 8 | AA37: =SUM(H37:Z37) -> 169 | AC37: =VLOOKUP(B37,'W01'!$A$3:$C$66,3, FALSE) -> 1 | AD37: =VLOOKUP(B37,'W02'!$A$3:$C$66,3, FALSE) -> 2 | AE37: =VLOOKUP(B37,'W03'!$A$3:$C$66,3, FALSE) -> 1 | AF37: =VLOOKUP(B37,'W04'!$A$3:$C$66,3, FALSE) -> 1 | AG37: =VLOOKUP(B37,'W05'!$A$3:$C$67,3, FALSE) -> 1 | AH37: =VLOOKUP(B37,'W06'!$A$3:$C$67,3, FALSE) -> 2 | AI37: =VLOOKUP(B37,'W07'!$A$3:$C$67,3, FALSE) -> 1 | AJ37: =VLOOKUP(B37,'W08'!$A$3:$C$67,3, FALSE) -> 2 | AK37: =VLOOKUP(B37,'W09'!$A$3:$C$66,3, FALSE) -> 1 | AL37: =VLOOKUP(B37,'W10'!$A$3:$C$66,3, FALSE) -> 2 | AM37: =VLOOKUP(B37,'W11'!$A$3:$C$66,3, FALSE) -> 2 | AN37: =VLOOKUP(B37,'W12'!$A$3:$C$66,3, FALSE) -> 2 | AO37: =VLOOKUP(B37,'W13'!$A$3:$C$66,3, FALSE) -> 2 | AP37: =VLOOKUP(B37,'W14'!$A$3:$C$66,3, FALSE) -> 0 | AQ37: =VLOOKUP(B37,'W15'!$A$3:$C$66,3, FALSE) -> 2 | AR37: =VLOOKUP(B37,'W16'!$A$3:$C$66,3, FALSE) -> 2 | AS37: =VLOOKUP(B37,'W17'!$A$3:$C$66,3, FALSE) -> 1 | AT37: =VLOOKUP(B37,'W18'!$A$3:$C$66,3, FALSE) -> 2 | AU37: =VLOOKUP(B37,'W19'!$A$3:$C$65,3, FALSE) -> 2 | AV37: =SUM(AC37:AU37) -> 29
... A46: 44 | B46: Abusaad, Hussein | C46: =AA46 -> 166 | D46: =$AA$69 -> 284 | E46: =C46/D46 -> 0.58450704 | F46: =AV46 -> 24 | H46: =VLOOKUP(B46,'W01'!$A$3:$B$66,2, FALSE) -> 5.5 | I46: =VLOOKUP(B46,'W02'!$A$3:$B$66,2, FALSE) -> 8 | J46: =VLOOKUP(B46,'W03'!$A$3:$B$66,2, FALSE) -> 9 | K46: =VLOOKUP(B46,'W04'!$A$3:$B$66,2, FALSE) -> 7 | L46: =VLOOKUP(B46,'W05'!$A$3:$B$67,2, FALSE) -> 10 | M46: =VLOOKUP(B46,'W06'!$A$3:$B$67,2, FALSE) -> 7 | N46: =VLOOKUP(B46,'W07'!$A$3:$B$67,2, FALSE) -> 8 | O46: =VLOOKUP(B46,'W08'!$A$3:$B$67,2, FALSE) -> 10 | P46: =VLOOKUP(B46,'W09'!$A$3:$B$66,2, FALSE) -> 10 | Q46: =VLOOKUP(B46,'W10'!$A$3:$B$66,2, FALSE) -> 7 | R46: =VLOOKUP(B46,'W11'!$A$3:$B$66,2, FALSE) -> 8 | S46: =VLOOKUP(B46,'W12'!$A$3:$B$66,2, FALSE) -> 12 | T46: =VLOOKUP(B46,'W13'!$A$3:$B$66,2, FALSE) -> 12.5 | U46: =VLOOKUP(B46,'W14'!$A$3:$B$66,2, FALSE) -> 10 | V46: =VLOOKUP(B46,'W15'!$A$3:$B$66,2, FALSE) -> 10 | W46: =VLOOKUP(B46,'W16'!$A$3:$B$66,2, FALSE) -> 10 | X46: =VLOOKUP(B46,'W17'!$A$3:$B$66,2, FALSE) -> 9 | Y46: =VLOOKUP(B46,'W18'!$A$3:$B$66,2, FALSE) -> 6 | Z46: =VLOOKUP(B46,'W19'!$A$3:$B$65,2, FALSE) -> 7 | AA46: =SUM(H46:Z46) -> 166 | AC46: =VLOOKUP(B46,'W01'!$A$3:$C$66,3, FALSE) -> 0 | AD46: =VLOOKUP(B46,'W02'!$A$3:$C$66,3, FALSE) -> 2 | AE46: =VLOOKUP(B46,'W03'!$A$3:$C$66,3, FALSE) -> 0 | AF46: =VLOOKUP(B46,'W04'!$A$3:$C$66,3, FALSE) -> 1 | AG46: =VLOOKUP(B46,'W05'!$A$3:$C$67,3, FALSE) -> 1 | AH46: =VLOOKUP(B46,'W06'!$A$3:$C$67,3, FALSE) -> 1 | AI46: =VLOOKUP(B46,'W07'!$A$3:$C$67,3, FALSE) -> 2 | AJ46: =VLOOKUP(B46,'W08'!$A$3:$C$67,3, FALSE) -> 1 | AK46: =VLOOKUP(B46,'W09'!$A$3:$C$66,3, FALSE) -> 1 | AL46: =VLOOKUP(B46,'W10'!$A$3:$C$66,3, FALSE) -> 1 | AM46: =VLOOKUP(B46,'W11'!$A$3:$C$66,3, FALSE) -> 0 | AN46: =VLOOKUP(B46,'W12'!$A$3:$C$66,3, FALSE) -> 2 | AO46: =VLOOKUP(B46,'W13'!$A$3:$C$66,3, FALSE) -> 2 | AP46: =VLOOKUP(B46,'W14'!$A$3:$C$66,3, FALSE) -> 2 | AQ46: =VLOOKUP(B46,'W15'!$A$3:$C$66,3, FALSE) -> 2 | AR46: =VLOOKUP(B46,'W16'!$A$3:$C$66,3, FALSE) -> 1 | AS46: =VLOOKUP(B46,'W17'!$A$3:$C$66,3, FALSE) -> 1 | AT46: =VLOOKUP(B46,'W18'!$A$3:$C$66,3, FALSE) -> 1 | AU46: =VLOOKUP(B46,'W19'!$A$3:$C$65,3, FALSE) -> 3 | AV46: =SUM(AC46:AU46) -> 24
A47: 45 | B47: Rushing, Luke | C47: =AA47 -> 163 | D47: =$AA$69 -> 284 | E47: =C47/D47 -> 0.57394366 | F47: 26, 8-6-5 | H47: =VLOOKUP(B47,'W01'!$A$3:$B$66,2, FALSE) -> 9.5 | I47: =VLOOKUP(B47,'W02'!$A$3:$B$66,2, FALSE) -> 8 | J47: =VLOOKUP(B47,'W03'!$A$3:$B$66,2, FALSE) -> 6 | K47: =VLOOKUP(B47,'W04'!$A$3:$B$66,2, FALSE) -> 9 | L47: =VLOOKUP(B47,'W05'!$A$3:$B$67,2, FALSE) -> 10 | M47: =VLOOKUP(B47,'W06'!$A$3:$B$67,2, FALSE) -> 6 | N47: =VLOOKUP(B47,'W07'!$A$3:$B$67,2, FALSE) -> 10 | O47: =VLOOKUP(B47,'W08'!$A$3:$B$67,2, FALSE) -> 6 | P47: =VLOOKUP(B47,'W09'!$A$3:$B$66,2, FALSE) -> 6 | Q47: =VLOOKUP(B47,'W10'!$A$3:$B$66,2, FALSE) -> 7 | R47: =VLOOKUP(B47,'W11'!$A$3:$B$66,2, FALSE) -> 9 | S47: =VLOOKUP(B47,'W12'!$A$3:$B$66,2, FALSE) -> 10 | T47: =VLOOKUP(B47,'W13'!$A$3:$B$66,2, FALSE) -> 9.5 | U47: =VLOOKUP(B47,'W14'!$A$3:$B$66,2, FALSE) -> 9 | V47: =VLOOKUP(B47,'W15'!$A$3:$B$66,2, FALSE) -> 11 | W47: =VLOOKUP(B47,'W16'!$A$3:$B$66,2, FALSE) -> 10 | X47: =VLOOKUP(B47,'W17'!$A$3:$B$66,2, FALSE) -> 8 | Y47: =VLOOKUP(B47,'W18'!$A$3:$B$66,2, FALSE) -> 9 | Z47: =VLOOKUP(B47,'W19'!$A$3:$B$65,2, FALSE) -> 10 | AA47: =SUM(H47:Z47) -> 163 | AC47: =VLOOKUP(B47,'W01'!$A$3:$C$66,3, FALSE) -> 1 | AD47: =VLOOKUP(B47,'W02'!$A$3:$C$66,3, FALSE) -> 1 | AE47: =VLOOKUP(B47,'W03'!$A$3:$C$66,3, FALSE) -> 0 | AF47: =VLOOKUP(B47,'W04'!$A$3:$C$66,3, FALSE) -> 2 | AG47: =VLOOKUP(B47,'W05'!$A$3:$C$67,3, FALSE) -> 1 | AH47: =VLOOKUP(B47,'W06'!$A$3:$C$67,3, FALSE) -> 0 | AI47: =VLOOKUP(B47,'W07'!$A$3:$C$67,3, FALSE) -> 2 | AJ47: =VLOOKUP(B47,'W08'!$A$3:$C$67,3, FALSE) -> 2 | AK47: =VLOOKUP(B47,'W09'!$A$3:$C$66,3, FALSE) -> 2 | AL47: =VLOOKUP(B47,'W10'!$A$3:$C$66,3, FALSE) -> 1 | AM47: =VLOOKUP(B47,'W11'!$A$3:$C$66,3, FALSE) -> 1 | AN47: =VLOOKUP(B47,'W12'!$A$3:$C$66,3, FALSE) -> 2 | AO47: =VLOOKUP(B47,'W13'!$A$3:$C$66,3, FALSE) -> 1 | AP47: =VLOOKUP(B47,'W14'!$A$3:$C$66,3, FALSE) -> 2 | AQ47: =VLOOKUP(B47,'W15'!$A$3:$C$66,3, FALSE) -> 2 | AR47: =VLOOKUP(B47,'W16'!$A$3:$C$66,3, FALSE) -> 1 | AS47: =VLOOKUP(B47,'W17'!$A$3:$C$66,3, FALSE) -> 1 | AT47: =VLOOKUP(B47,'W18'!$A$3:$C$66,3, FALSE) -> 1 | AU47: =VLOOKUP(B47,'W19'!$A$3:$C$65,3, FALSE) -> 3 | AV47: =SUM(AC47:AU47) -> 26
A48: 46 | B48: Roberts, Jeff | C48: =AA48 -> 163 | D48: =$AA$69 -> 284 | E48: =C48/D48 -> 0.57394366 | F48: 26, 6-8-5 | H48: =VLOOKUP(B48,'W01'!$A$3:$B$66,2, FALSE) -> 6.5 | I48: =VLOOKUP(B48,'W02'!$A$3:$B$66,2, FALSE) -> 8 | J48: =VLOOKUP(B48,'W03'!$A$3:$B$66,2, FALSE) -> 6 | K48: =VLOOKUP(B48,'W04'!$A$3:$B$66,2, FALSE) -> 9 | L48: =VLOOKUP(B48,'W05'!$A$3:$B$67,2, FALSE) -> 11 | M48: =VLOOKUP(B48,'W06'!$A$3:$B$67,2, FALSE) -> 8 | N48: =VLOOKUP(B48,'W07'!$A$3:$B$67,2, FALSE) -> 8 | O48: =VLOOKUP(B48,'W08'!$A$3:$B$67,2, FALSE) -> 12 | P48: =VLOOKUP(B48,'W09'!$A$3:$B$66,2, FALSE) -> 9 | Q48: =VLOOKUP(B48,'W10'!$A$3:$B$66,2, FALSE) -> 8 | R48: =VLOOKUP(B48,'W11'!$A$3:$B$66,2, FALSE) -> 7 | S48: =VLOOKUP(B48,'W12'!$A$3:$B$66,2, FALSE) -> 10 | T48: =VLOOKUP(B48,'W13'!$A$3:$B$66,2, FALSE) -> 6.5 | U48: =VLOOKUP(B48,'W14'!$A$3:$B$66,2, FALSE) -> 8 | V48: =VLOOKUP(B48,'W15'!$A$3:$B$66,2, FALSE) -> 10 | W48: =VLOOKUP(B48,'W16'!$A$3:$B$66,2, FALSE) -> 12 | X48: =VLOOKUP(B48,'W17'!$A$3:$B$66,2, FALSE) -> 8 | Y48: =VLOOKUP(B48,'W18'!$A$3:$B$66,2, FALSE) -> 8 | Z48: =VLOOKUP(B48,'W19'!$A$3:$B$65,2, FALSE) -> 8 | AA48: =SUM(H48:Z48) -> 163 | AC48: =VLOOKUP(B48,'W01'!$A$3:$C$66,3, FALSE) -> 1 | AD48: =VLOOKUP(B48,'W02'!$A$3:$C$66,3, FALSE) -> 1 | AE48: =VLOOKUP(B48,'W03'!$A$3:$C$66,3, FALSE) -> 1 | AF48: =VLOOKUP(B48,'W04'!$A$3:$C$66,3, FALSE) -> 0 | AG48: =VLOOKUP(B48,'W05'!$A$3:$C$67,3, FALSE) -> 1 | AH48: =VLOOKUP(B48,'W06'!$A$3:$C$67,3, FALSE) -> 1 | AI48: =VLOOKUP(B48,'W07'!$A$3:$C$67,3, FALSE) -> 1 | AJ48: =VLOOKUP(B48,'W08'!$A$3:$C$67,3, FALSE) -> 2 | AK48: =VLOOKUP(B48,'W09'!$A$3:$C$66,3, FALSE) -> 2 | AL48: =VLOOKUP(B48,'W10'!$A$3:$C$66,3, FALSE) -> 1 | AM48: =VLOOKUP(B48,'W11'!$A$3:$C$66,3, FALSE) -> 1 | AN48: =VLOOKUP(B48,'W12'!$A$3:$C$66,3, FALSE) -> 1 | AO48: =VLOOKUP(B48,'W13'!$A$3:$C$66,3, FALSE) -> 1 | AP48: =VLOOKUP(B48,'W14'!$A$3:$C$66,3, FALSE) -> 2 | AQ48: =VLOOKUP(B48,'W15'!$A$3:$C$66,3, FALSE) -> 1 | AR48: =VLOOKUP(B48,'W16'!$A$3:$C$66,3, FALSE) -> 1 | AS48: =VLOOKUP(B48,'W17'!$A$3:$C$66,3, FALSE) -> 2 | AT48: =VLOOKUP(B48,'W18'!$A$3:$C$66,3, FALSE) -> 2 | AU48: =VLOOKUP(B48,'W19'!$A$3:$C$65,3, FALSE) -> 4 | AV48: =SUM(AC48:AU48) -> 26
A49: 47 | B49: Mackey, Doyle | C49: =AA49 -> 162 | D49: =$AA$69 -> 284 | E49: =C49/D49 -> 0.57042254 | F49: =AV49 -> 28 | H49: =VLOOKUP(B49,'W01'!$A$3:$B$66,2, FALSE) -> 7.5 | I49: =VLOOKUP(B49,'W02'!$A$3:$B$66,2, FALSE) -> 8 | J49: =VLOOKUP(B49,'W03'!$A$3:$B$66,2, FALSE) -> 7 | K49: =VLOOKUP(B49,'W04'!$A$3:$B$66,2, FALSE) -> 10 | L49: =VLOOKUP(B49,'W05'!$A$3:$B$67,2, FALSE) -> 10 | M49: =VLOOKUP(B49,'W06'!$A$3:$B$67,2, FALSE) -> 7 | N49: =VLOOKUP(B49,'W07'!$A$3:$B$67,2, FALSE) -> 9 | O49: =VLOOKUP(B49,'W08'!$A$3:$B$67,2, FALSE) -> 8 | P49: =VLOOKUP(B49,'W09'!$A$3:$B$66,2, FALSE) -> 9 | Q49: =VLOOKUP(B49,'W10'!$A$3:$B$66,2, FALSE) -> 8 | R49: =VLOOKUP(B49,'W11'!$A$3:$B$66,2, FALSE) -> 11 | S49: =VLOOKUP(B49,'W12'!$A$3:$B$66,2, FALSE) -> 10 | T49: =VLOOKUP(B49,'W13'!$A$3:$B$66,2, FALSE) -> 6.5 | U49: =VLOOKUP(B49,'W14'!$A$3:$B$66,2, FALSE) -> 10 | V49: =VLOOKUP(B49,'W15'!$A$3:$B$66,2, FALSE) -> 9 | W49: =VLOOKUP(B49,'W16'!$A$3:$B$66,2, FALSE) -> 9 | X49: =VLOOKUP(B49,'W17'!$A$3:$B$66,2, FALSE) -> 7 | Y49: =VLOOKUP(B49,'W18'!$A$3:$B$66,2, FALSE) -> 10 | Z49: =VLOOKUP(B49,'W19'!$A$3:$B$65,2, FALSE) -> 6 | AA49: =SUM(H49:Z49) -> 162 | AC49: =VLOOKUP(B49,'W01'!$A$3:$C$66,3, FALSE) -> 1 | AD49: =VLOOKUP(B49,'W02'!$A$3:$C$66,3, FALSE) -> 1 | AE49: =VLOOKUP(B49,'W03'!$A$3:$C$66,3, FALSE) -> 0 | AF49: =VLOOKUP(B49,'W04'!$A$3:$C$66,3, FALSE) -> 2 | AG49: =VLOOKUP(B49,'W05'!$A$3:$C$67,3, FALSE) -> 2 | AH49: =VLOOKUP(B49,'W06'!$A$3:$C$67,3, FALSE) -> 1 | AI49: =VLOOKUP(B49,'W07'!$A$3:$C$67,3, FALSE) -> 2 | AJ49: =VLOOKUP(B49,'W08'!$A$3:$C$67,3, FALSE) -> 1 | AK49: =VLOOKUP(B49,'W09'!$A$3:$C$66,3, FALSE) -> 2 | AL49: =VLOOKUP(B49,'W10'!$A$3:$C$66,3, FALSE) -> 1 | AM49: =VLOOKUP(B49,'W11'!$A$3:$C$66,3, FALSE) -> 2 | AN49: =VLOOKUP(B49,'W12'!$A$3:$C$66,3, FALSE) -> 2 | AO49: =VLOOKUP(B49,'W13'!$A$3:$C$66,3, FALSE) -> 1 | AP49: =VLOOKUP(B49,'W14'!$A$3:$C$66,3, FALSE) -> 2 | AQ49: =VLOOKUP(B49,'W15'!$A$3:$C$66,3, FALSE) -> 1 | AR49: =VLOOKUP(B49,'W16'!$A$3:$C$66,3, FALSE) -> 2 | AS49: =VLOOKUP(B49,'W17'!$A$3:$C$66,3, FALSE) -> 2 | AT49: =VLOOKUP(B49,'W18'!$A$3:$C$66,3, FALSE) -> 1 | AU49: =VLOOKUP(B49,'W19'!$A$3:$C$65,3, FALSE) -> 2 | AV49: =SUM(AC49:AU49) -> 28
A50: 48 | B50: Kraus, Lloyd | C50: =AA50 -> 162 | D50: =$AA$69 -> 284 | E50: =C50/D50 -> 0.57042254 | F50: =AV50 -> 25.5 | H50: =VLOOKUP(B50,'W01'!$A$3:$B$66,2, FALSE) -> 6.5 | I50: =VLOOKUP(B50,'W02'!$A$3:$B$66,2, FALSE) -> 9 | J50: =VLOOKUP(B50,'W03'!$A$3:$B$66,2, FALSE) -> 9 | K50: =VLOOKUP(B50,'W04'!$A$3:$B$66,2, FALSE) -> 8 | L50: =VLOOKUP(B50,'W05'!$A$3:$B$67,2, FALSE) -> 9 | M50: =VLOOKUP(B50,'W06'!$A$3:$B$67,2, FALSE) -> 5 | N50: =VLOOKUP(B50,'W07'!$A$3:$B$67,2, FALSE) -> 4 | O50: =VLOOKUP(B50,'W08'!$A$3:$B$67,2, FALSE) -> 8 | P50: =VLOOKUP(B50,'W09'!$A$3:$B$66,2, FALSE) -> 9 | Q50: =VLOOKUP(B50,'W10'!$A$3:$B$66,2, FALSE) -> 9 | R50: =VLOOKUP(B50,'W11'!$A$3:$B$66,2, FALSE) -> 10 | S50: =VLOOKUP(B50,'W12'!$A$3:$B$66,2, FALSE) -> 10 | T50: =VLOOKUP(B50,'W13'!$A$3:$B$66,2, FALSE) -> 8.5 | U50: =VLOOKUP(B50,'W14'!$A$3:$B$66,2, FALSE) -> 8 | V50: =VLOOKUP(B50,'W15'!$A$3:$B$66,2, FALSE) -> 13 | W50: =VLOOKUP(B50,'W16'!$A$3:$B$66,2, FALSE) -> 9 | X50: =VLOOKUP(B50,'W17'!$A$3:$B$66,2, FALSE) -> 11 | Y50: =VLOOKUP(B50,'W18'!$A$3:$B$66,2, FALSE) -> 9 | Z50: =VLOOKUP(B50,'W19'!$A$3:$B$65,2, FALSE) -> 7 | AA50: =SUM(H50:Z50) -> 162 | AC50: =VLOOKUP(B50,'W01'!$A$3:$C$66,3, FALSE) -> 0.5 | AD50: =VLOOKUP(B50,'W02'!$A$3:$C$66,3, FALSE) -> 1 | AE50: =VLOOKUP(B50,'W03'!$A$3:$C$66,3, FALSE) -> 1 | AF50: =VLOOKUP(B50,'W04'!$A$3:$C$66,3, FALSE) -> 1 | AG50: =VLOOKUP(B50,'W05'!$A$3:$C$67,3, FALSE) -> 2 | AH50: =VLOOKUP(B50,'W06'!$A$3:$C$67,3, FALSE) -> 1 | AI50: =VLOOKUP(B50,'W07'!$A$3:$C$67,3, FALSE) -> 0 | AJ50: =VLOOKUP(B50,'W08'!$A$3:$C$67,3, FALSE) -> 0 | AK50: =VLOOKUP(B50,'W09'!$A$3:$C$66,3, FALSE) -> 2 | AL50: =VLOOKUP(B50,'W10'!$A$3:$C$66,3, FALSE) -> 1 | AM50: =VLOOKUP(B50,'W11'!$A$3:$C$66,3, FALSE) -> 2 | AN50: =VLOOKUP(B50,'W12'!$A$3:$C$66,3, FALSE) -> 2 | AO50: =VLOOKUP(B50,'W13'!$A$3:$C$66,3, FALSE) -> 2 | AP50: =VLOOKUP(B50,'W14'!$A$3:$C$66,3, FALSE) -> 1 | AQ50: =VLOOKUP(B50,'W15'!$A$3:$C$66,3, FALSE) -> 2 | AR50: =VLOOKUP(B50,'W16'!$A$3:$C$66,3, FALSE) -> 2 | AS50: =VLOOKUP(B50,'W17'!$A$3:$C$66,3, FALSE) -> 1 | AT50: =VLOOKUP(B50,'W18'!$A$3:$C$66,3, FALSE) -> 1 | AU50: =VLOOKUP(B50,'W19'!$A$3:$C$65,3, FALSE) -> 3 | AV50: =SUM(AC50:AU50) -> 25.5
A51: 49 | B51: Greenwood, Nathan | C51: =AA51 -> 161 | D51: =$AA$69 -> 284 | E51: =C51/D51 -> 0.56690141 | F51: =AV51 -> 27.5 | H51: =VLOOKUP(B51,'W01'!$A$3:$B$66,2, FALSE) -> 7.5 | I51: =VLOOKUP(B51,'W02'!$A$3:$B$66,2, FALSE) -> 8 | J51: =VLOOKUP(B51,'W03'!$A$3:$B$66,2, FALSE) -> 5 | K51: =VLOOKUP(B51,'W04'!$A$3:$B$66,2, FALSE) -> 7 | L51: =VLOOKUP(B51,'W05'!$A$3:$B$67,2, FALSE) -> 9 | M51: =VLOOKUP(B51,'W06'!$A$3:$B$67,2, FALSE) -> 7 | N51: =VLOOKUP(B51,'W07'!$A$3:$B$67,2, FALSE) -> 8 | O51: =VLOOKUP(B51,'W08'!$A$3:$B$67,2, FALSE) -> 10 | P51: =VLOOKUP(B51,'W09'!$A$3:$B$66,2, FALSE) -> 10 | Q51: =VLOOKUP(B51,'W10'!$A$3:$B$66,2, FALSE) -> 6 | R51: =VLOOKUP(B51,'W11'!$A$3:$B$66,2, FALSE) -> 10 | S51: =VLOOKUP(B51,'W12'!$A$3:$B$66,2, FALSE) -> 7 | T51: =VLOOKUP(B51,'W13'!$A$3:$B$66,2, FALSE) -> 10.5 | U51: =VLOOKUP(B51,'W14'!$A$3:$B$66,2, FALSE) -> 9 | V51: =VLOOKUP(B51,'W15'!$A$3:$B$66,2, FALSE) -> 9 | W51: =VLOOKUP(B51,'W16'!$A$3:$B$66,2, FALSE) -> 11 | X51: =VLOOKUP(B51,'W17'!$A$3:$B$66,2, FALSE) -> 10 | Y51: =VLOOKUP(B51,'W18'!$A$3:$B$66,2, FALSE) -> 9 | Z51: =VLOOKUP(B51,'W19'!$A$3:$B$65,2, FALSE) -> 8 | AA51: =SUM(H51:Z51) -> 161 | AC51: =VLOOKUP(B51,'W01'!$A$3:$C$66,3, FALSE) -> 2 | AD51: =VLOOKUP(B51,'W02'!$A$3:$C$66,3, FALSE) -> 1 | AE51: =VLOOKUP(B51,'W03'!$A$3:$C$66,3, FALSE) -> 1 | AF51: =VLOOKUP(B51,'W04'!$A$3:$C$66,3, FALSE) -> 2 | AG51: =VLOOKUP(B51,'W05'!$A$3:$C$67,3, FALSE) -> 1 | AH51: =VLOOKUP(B51,'W06'!$A$3:$C$67,3, FALSE) -> 1 | AI51: =VLOOKUP(B51,'W07'!$A$3:$C$67,3, FALSE) -> 1 | AJ51: =VLOOKUP(B51,'W08'!$A$3:$C$67,3, FALSE) -> 1 | AK51: =VLOOKUP(B51,'W09'!$A$3:$C$66,3, FALSE) -> 2 | AL51: =VLOOKUP(B51,'W10'!$A$3:$C$66,3, FALSE) -> 1 | AM51: =VLOOKUP(B51,'W11'!$A$3:$C$66,3, FALSE) -> 2 | AN51: =VLOOKUP(B51,'W12'!$A$3:$C$66,3, FALSE) -> 1 | AO51: =VLOOKUP(B51,'W13'!$A$3:$C$66,3, FALSE) -> 1.5 | AP51: =VLOOKUP(B51,'W14'!$A$3:$C$66,3, FALSE) -> 2 | AQ51: =VLOOKUP(B51,'W15'!$A$3:$C$66,3, FALSE) -> 1 | AR51: =VLOOKUP(B51,'W16'!$A$3:$C$66,3, FALSE) -> 1 | AS51: =VLOOKUP(B51,'W17'!$A$3:$C$66,3, FALSE) -> 2 | AT51: =VLOOKUP(B51,'W18'!$A$3:$C$66,3, FALSE) -> 2 | AU51: =VLOOKUP(B51,'W19'!$A$3:$C$65,3, FALSE) -> 2 | AV51: =SUM(AC51:AU51) -> 27.5
A52: 50 | B52: Simba, Julio | C52: =AA52 -> 161 | D52: =$AA$69 -> 284 | E52: =C52/D52 -> 0.56690141 | F52: =AV52 -> 24 | H52: =VLOOKUP(B52,'W01'!$A$3:$B$66,2, FALSE) -> 7.5 | I52: =VLOOKUP(B52,'W02'!$A$3:$B$66,2, FALSE) -> 10 | J52: =VLOOKUP(B52,'W03'!$A$3:$B$66,2, FALSE) -> 4 | K52: =VLOOKUP(B52,'W04'!$A$3:$B$66,2, FALSE) -> 13 | L52: =VLOOKUP(B52,'W05'!$A$3:$B$67,2, FALSE) -> 9 | M52: =VLOOKUP(B52,'W06'!$A$3:$B$67,2, FALSE) -> 7 | N52: =VLOOKUP(B52,'W07'!$A$3:$B$67,2, FALSE) -> 8 | O52: =VLOOKUP(B52,'W08'!$A$3:$B$67,2, FALSE) -> 9 | P52: =VLOOKUP(B52,'W09'!$A$3:$B$66,2, FALSE) -> 10 | Q52: =VLOOKUP(B52,'W10'!$A$3:$B$66,2, FALSE) -> 5 | R52: =VLOOKUP(B52,'W11'!$A$3:$B$66,2, FALSE) -> 10 | S52: =VLOOKUP(B52,'W12'!$A$3:$B$66,2, FALSE) -> 9 | T52: =VLOOKUP(B52,'W13'!$A$3:$B$66,2, FALSE) -> 8.5 | U52: =VLOOKUP(B52,'W14'!$A$3:$B$66,2, FALSE) -> 9 | V52: =VLOOKUP(B52,'W15'!$A$3:$B$66,2, FALSE) -> 11 | W52: =VLOOKUP(B52,'W16'!$A$3:$B$66,2, FALSE) -> 11 | X52: =VLOOKUP(B52,'W17'!$A$3:$B$66,2, FALSE) -> 9 | Y52: =VLOOKUP(B52,'W18'!$A$3:$B$66,2, FALSE) -> 9 | Z52: =VLOOKUP(B52,'W19'!$A$3:$B$65,2, FALSE) -> 2 | AA52: =SUM(H52:Z52) -> 161 | AC52: =VLOOKUP(B52,'W01'!$A$3:$C$66,3, FALSE) -> 0 | AD52: =VLOOKUP(B52,'W02'!$A$3:$C$66,3, FALSE) -> 1 | AE52: =VLOOKUP(B52,'W03'!$A$3:$C$66,3, FALSE) -> 1 | AF52: =VLOOKUP(B52,'W04'!$A$3:$C$66,3, FALSE) -> 2 | AG52: =VLOOKUP(B52,'W05'!$A$3:$C$67,3, FALSE) -> 2 | AH52: =VLOOKUP(B52,'W06'!$A$3:$C$67,3, FALSE) -> 0 | AI52: =VLOOKUP(B52,'W07'!$A$3:$C$67,3, FALSE) -> 1 | AJ52: =VLOOKUP(B52,'W08'!$A$3:$C$67,3, FALSE) -> 2 | AK52: =VLOOKUP(B52,'W09'!$A$3:$C$66,3, FALSE) -> 2 | AL52: =VLOOKUP(B52,'W10'!$A$3:$C$66,3, FALSE) -> 0 | AM52: =VLOOKUP(B52,'W11'!$A$3:$C$66,3, FALSE) -> 2 | AN52: =VLOOKUP(B52,'W12'!$A$3:$C$66,3, FALSE) -> 2 | AO52: =VLOOKUP(B52,'W13'!$A$3:$C$66,3, FALSE) -> 2 | AP52: =VLOOKUP(B52,'W14'!$A$3:$C$66,3, FALSE) -> 2 | AQ52: =VLOOKUP(B52,'W15'!$A$3:$C$66,3, FALSE) -> 1 | AR52: =VLOOKUP(B52,'W16'!$A$3:$C$66,3, FALSE) -> 2 | AS52: =VLOOKUP(B52,'W17'!$A$3:$C$66,3, FALSE) -> 2 | AT52: =VLOOKUP(B52,'W18'!$A$3:$C$66,3, FALSE) -> 0 | AU52: =VLOOKUP(B52,'W19'!$A$3:$C$65,3, FALSE) -> 0 | AV52: =SUM(AC52:AU52) -> 24
A53: 51 | B53: Easley, Jordan | C53: =AA53 -> 160 | D53: =$AA$69 -> 284 | E53: =C53/D53 -> 0.56338028 | F53: =AV53 -> 25.5 | H53: =VLOOKUP(B53,'W01'!$A$3:$B$66,2, FALSE) -> 10.5 | I53: =VLOOKUP(B53,'W02'!$A$3:$B$66,2, FALSE) -> 10 | J53: =VLOOKUP(B53,'W03'!$A$3:$B$66,2, FALSE) -> 9 | K53: =VLOOKUP(B53,'W04'!$A$3:$B$66,2, FALSE) -> 10 | L53: =VLOOKUP(B53,'W05'!$A$3:$B$67,2, FALSE) -> 9 | M53: =VLOOKUP(B53,'W06'!$A$3:$B$67,2, FALSE) -> 6 | N53: =VLOOKUP(B53,'W07'!$A$3:$B$67,2, FALSE) -> 9 | O53: =VLOOKUP(B53,'W08'!$A$3:$B$67,2, FALSE) -> 4 | P53: =VLOOKUP(B53,'W09'!$A$3:$B$66,2, FALSE) -> 8 | Q53: =VLOOKUP(B53,'W10'!$A$3:$B$66,2, FALSE) -> 8 | R53: =VLOOKUP(B53,'W11'!$A$3:$B$66,2, FALSE) -> 10 | S53: =VLOOKUP(B53,'W12'!$A$3:$B$66,2, FALSE) -> 8 | T53: =VLOOKUP(B53,'W13'!$A$3:$B$66,2, FALSE) -> 10.5 | U53: =VLOOKUP(B53,'W14'!$A$3:$B$66,2, FALSE) -> 5 | V53: =VLOOKUP(B53,'W15'!$A$3:$B$66,2, FALSE) -> 12 | W53: =VLOOKUP(B53,'W16'!$A$3:$B$66,2, FALSE) -> 9 | X53: =VLOOKUP(B53,'W17'!$A$3:$B$66,2, FALSE) -> 4 | Y53: =VLOOKUP(B53,'W18'!$A$3:$B$66,2, FALSE) -> 10 | Z53: =VLOOKUP(B53,'W19'!$A$3:$B$65,2, FALSE) -> 8 | AA53: =SUM(H53:Z53) -> 160 | AC53: =VLOOKUP(B53,'W01'!$A$3:$C$66,3, FALSE) -> 0.5 | AD53: =VLOOKUP(B53,'W02'!$A$3:$C$66,3, FALSE) -> 2 | AE53: =VLOOKUP(B53,'W03'!$A$3:$C$66,3, FALSE) -> 2 | AF53: =VLOOKUP(B53,'W04'!$A$3:$C$66,3, FALSE) -> 2 | AG53: =VLOOKUP(B53,'W05'!$A$3:$C$67,3, FALSE) -> 2 | AH53: =VLOOKUP(B53,'W06'!$A$3:$C$67,3, FALSE) -> 0 | AI53: =VLOOKUP(B53,'W07'!$A$3:$C$67,3, FALSE) -> 1 | AJ53: =VLOOKUP(B53,'W08'!$A$3:$C$67,3, FALSE) -> 1 | AK53: =VLOOKUP(B53,'W09'!$A$3:$C$66,3, FALSE) -> 1 | AL53: =VLOOKUP(B53,'W10'!$A$3:$C$66,3, FALSE) -> 2 | AM53: =VLOOKUP(B53,'W11'!$A$3:$C$66,3, FALSE) -> 2 | AN53: =VLOOKUP(B53,'W12'!$A$3:$C$66,3, FALSE) -> 2 | AO53: =VLOOKUP(B53,'W13'!$A$3:$C$66,3, FALSE) -> 2 | AP53: =VLOOKUP(B53,'W14'!$A$3:$C$66,3, FALSE) -> 2 | AQ53: =VLOOKUP(B53,'W15'!$A$3:$C$66,3, FALSE) -> 1 | AR53: =VLOOKUP(B53,'W16'!$A$3:$C$66,3, FALSE) -> 1 | AS53: =VLOOKUP(B53,'W17'!$A$3:$C$66,3, FALSE) -> 0 | AT53: =VLOOKUP(B53,'W18'!$A$3:$C$66,3, FALSE) -> 0 | AU53: =VLOOKUP(B53,'W19'!$A$3:$C$65,3, FALSE) -> 2 | AV53: =SUM(AC53:AU53) -> 25.5
A54: 52 | B54: Folmar, James | C54: =AA54 -> 158 | D54: =$AA$69 -> 284 | E54: =C54/D54 -> 0.55633803 | F54: =AV54 -> 28 | H54: =VLOOKUP(B54,'W01'!$A$3:$B$66,2, FALSE) -> 9.5 | I54: =VLOOKUP(B54,'W02'!$A$3:$B$66,2, FALSE) -> 8 | J54: =VLOOKUP(B54,'W03'!$A$3:$B$66,2, FALSE) -> 7 | K54: =VLOOKUP(B54,'W04'!$A$3:$B$66,2, FALSE) -> 11 | L54: =VLOOKUP(B54,'W05'!$A$3:$B$67,2, FALSE) -> 9 | M54: =VLOOKUP(B54,'W06'!$A$3:$B$67,2, FALSE) -> 6 | N54: =VLOOKUP(B54,'W07'!$A$3:$B$67,2, FALSE) -> 8 | O54: =VLOOKUP(B54,'W08'!$A$3:$B$67,2, FALSE) -> 7 | P54: =VLOOKUP(B54,'W09'!$A$3:$B$66,2, FALSE) -> 10 | Q54: =VLOOKUP(B54,'W10'!$A$3:$B$66,2, FALSE) -> 8 | R54: =VLOOKUP(B54,'W11'!$A$3:$B$66,2, FALSE) -> 8 | S54: =VLOOKUP(B54,'W12'!$A$3:$B$66,2, FALSE) -> 11 | T54: =VLOOKUP(B54,'W13'!$A$3:$B$66,2, FALSE) -> 10.5 | U54: =VLOOKUP(B54,'W14'!$A$3:$B$66,2, FALSE) -> 9 | V54: =VLOOKUP(B54,'W15'!$A$3:$B$66,2, FALSE) -> 9 | W54: =VLOOKUP(B54,'W16'!$A$3:$B$66,2, FALSE) -> 5 | X54: =VLOOKUP(B54,'W17'!$A$3:$B$66,2, FALSE) -> 7 | Y54: =VLOOKUP(B54,'W18'!$A$3:$B$66,2, FALSE) -> 8 | Z54: =VLOOKUP(B54,'W19'!$A$3:$B$65,2, FALSE) -> 7 | AA54: =SUM(H54:Z54) -> 158 | AC54: =VLOOKUP(B54,'W01'!$A$3:$C$66,3, FALSE) -> 2 | AD54: =VLOOKUP(B54,'W02'!$A$3:$C$66,3, FALSE) -> 1 | AE54: =VLOOKUP(B54,'W03'!$A$3:$C$66,3, FALSE) -> 0 | AF54: =VLOOKUP(B54,'W04'!$A$3:$C$66,3, FALSE) -> 1 | AG54: =VLOOKUP(B54,'W05'!$A$3:$C$67,3, FALSE) -> 1 | AH54: =VLOOKUP(B54,'W06'!$A$3:$C$67,3, FALSE) -> 1 | AI54: =VLOOKUP(B54,'W07'!$A$3:$C$67,3, FALSE) -> 1 | AJ54: =VLOOKUP(B54,'W08'!$A$3:$C$67,3, FALSE) -> 2 | AK54: =VLOOKUP(B54,'W09'!$A$3:$C$66,3, FALSE) -> 2 | AL54: =VLOOKUP(B54,'W10'!$A$3:$C$66,3, FALSE) -> 2 | AM54: =VLOOKUP(B54,'W11'!$A$3:$C$66,3, FALSE) -> 2 | AN54: =VLOOKUP(B54,'W12'!$A$3:$C$66,3, FALSE) -> 1 | AO54: =VLOOKUP(B54,'W13'!$A$3:$C$66,3, FALSE) -> 2 | AP54: =VLOOKUP(B54,'W14'!$A$3:$C$66,3, FALSE) -> 2 | AQ54: =VLOOKUP(B54,'W15'!$A$3:$C$66,3, FALSE) -> 2 | AR54: =VLOOKUP(B54,'W16'!$A$3:$C$66,3, FALSE) -> 0 | AS54: =VLOOKUP(B54,'W17'!$A$3:$C$66,3, FALSE) -> 1 | AT54: =VLOOKUP(B54,'W18'!$A$3:$C$66,3, FALSE) -> 2 | AU54: =VLOOKUP(B54,'W19'!$A$3:$C$65,3, FALSE) -> 3 | AV54: =SUM(AC54:AU54) -> 28
A55: 53 | B55: Meyer, Dave | C55: =AA55 -> 158 | D55: =$AA$69 -> 284 | E55: =C55/D55 -> 0.55633803 | F55: =AV55 -> 25 | H55: =VLOOKUP(B55,'W01'!$A$3:$B$66,2, FALSE) -> 8.5 | I55: =VLOOKUP(B55,'W02'!$A$3:$B$66,2, FALSE) -> 10 | J55: =VLOOKUP(B55,'W03'!$A$3:$B$66,2, FALSE) -> 9 | K55: =VLOOKUP(B55,'W04'!$A$3:$B$66,2, FALSE) -> 11 | L55: =VLOOKUP(B55,'W05'!$A$3:$B$67,2, FALSE) -> 8 | M55: =VLOOKUP(B55,'W06'!$A$3:$B$67,2, FALSE) -> 6 | N55: =VLOOKUP(B55,'W07'!$A$3:$B$67,2, FALSE) -> 9 | O55: =VLOOKUP(B55,'W08'!$A$3:$B$67,2, FALSE) -> 8 | P55: =VLOOKUP(B55,'W09'!$A$3:$B$66,2, FALSE) -> 6 | Q55: =VLOOKUP(B55,'W10'!$A$3:$B$66,2, FALSE) -> 8 | R55: =VLOOKUP(B55,'W11'!$A$3:$B$66,2, FALSE) -> 7 | S55: =VLOOKUP(B55,'W12'!$A$3:$B$66,2, FALSE) -> 13 | T55: =VLOOKUP(B55,'W13'!$A$3:$B$66,2, FALSE) -> 10.5 | U55: =VLOOKUP(B55,'W14'!$A$3:$B$66,2, FALSE) -> 8 | V55: =VLOOKUP(B55,'W15'!$A$3:$B$66,2, FALSE) -> 7 | W55: =VLOOKUP(B55,'W16'!$A$3:$B$66,2, FALSE) -> 10 | X55: =VLOOKUP(B55,'W17'!$A$3:$B$66,2, FALSE) -> 5 | Y55: =VLOOKUP(B55,'W18'!$A$3:$B$66,2, FALSE) -> 7 | Z55: =VLOOKUP(B55,'W19'!$A$3:$B$65,2, FALSE) -> 7 | AA55: =SUM(H55:Z55) -> 158 | AC55: =VLOOKUP(B55,'W01'!$A$3:$C$66,3, FALSE) -> 0 | AD55: =VLOOKUP(B55,'W02'!$A$3:$C$66,3, FALSE) -> 1 | AE55: =VLOOKUP(B55,'W03'!$A$3:$C$66,3, FALSE) -> 2 | AF55: =VLOOKUP(B55,'W04'!$A$3:$C$66,3, FALSE) -> 2 | AG55: =VLOOKUP(B55,'W05'!$A$3:$C$67,3, FALSE) -> 2 | AH55: =VLOOKUP(B55,'W06'!$A$3:$C$67,3, FALSE) -> 1 | AI55: =VLOOKUP(B55,'W07'!$A$3:$C$67,3, FALSE) -> 1 | AJ55: =VLOOKUP(B55,'W08'!$A$3:$C$67,3, FALSE) -> 2 | AK55: =VLOOKUP(B55,'W09'!$A$3:$C$66,3, FALSE) -> 1 | AL55: =VLOOKUP(B55,'W10'!$A$3:$C$66,3, FALSE) -> 1 | AM55: =VLOOKUP(B55,'W11'!$A$3:$C$66,3, FALSE) -> 1 | AN55: =VLOOKUP(B55,'W12'!$A$3:$C$66,3, FALSE) -> 2 | AO55: =VLOOKUP(B55,'W13'!$A$3:$C$66,3, FALSE) -> 1 | AP55: =VLOOKUP(B55,'W14'!$A$3:$C$66,3, FALSE) -> 0 | AQ55: =VLOOKUP(B55,'W15'!$A$3:$C$66,3, FALSE) -> 1 | AR55: =VLOOKUP(B55,'W16'!$A$3:$C$66,3, FALSE) -> 2 | AS55: =VLOOKUP(B55,'W17'!$A$3:$C$66,3, FALSE) -> 2 | AT55: =VLOOKUP(B55,'W18'!$A$3:$C$66,3, FALSE) -> 1 | AU55: =VLOOKUP(B55,'W19'!$A$3:$C$65,3, FALSE) -> 2 | AV55: =SUM(AC55:AU55) -> 25
A56: 54 | B56: Fortner, Mara | C56: =AA56 -> 157 | D56: =$AA$69 -> 284 | E56: =C56/D56 -> 0.5528169 | F56: =AV56 -> 28 | H56: =VLOOKUP(B56,'W01'!$A$3:$B$66,2, FALSE) -> 8.5 | I56: =VLOOKUP(B56,'W02'!$A$3:$B$66,2, FALSE) -> 7 | J56: =VLOOKUP(B56,'W03'!$A$3:$B$66,2, FALSE) -> 8 | K56: =VLOOKUP(B56,'W04'!$A$3:$B$66,2, FALSE) -> 8 | L56: =VLOOKUP(B56,'W05'!$A$3:$B$67,2, FALSE) -> 11 | M56: =VLOOKUP(B56,'W06'!$A$3:$B$67,2, FALSE) -> 5 | N56: =VLOOKUP(B56,'W07'!$A$3:$B$67,2, FALSE) -> 8 | O56: =VLOOKUP(B56,'W08'!$A$3:$B$67,2, FALSE) -> 5 | P56: =VLOOKUP(B56,'W09'!$A$3:$B$66,2, FALSE) -> 8 | Q56: =VLOOKUP(B56,'W10'!$A$3:$B$66,2, FALSE) -> 9 | R56: =VLOOKUP(B56,'W11'!$A$3:$B$66,2, FALSE) -> 7 | S56: =VLOOKUP(B56,'W12'!$A$3:$B$66,2, FALSE) -> 11 | T56: =VLOOKUP(B56,'W13'!$A$3:$B$66,2, FALSE) -> 7.5 | U56: =VLOOKUP(B56,'W14'!$A$3:$B$66,2, FALSE) -> 7 | V56: =VLOOKUP(B56,'W15'!$A$3:$B$66,2, FALSE) -> 11 | W56: =VLOOKUP(B56,'W16'!$A$3:$B$66,2, FALSE) -> 10 | X56: =VLOOKUP(B56,'W17'!$A$3:$B$66,2, FALSE) -> 7 | Y56: =VLOOKUP(B56,'W18'!$A$3:$B$66,2, FALSE) -> 10 | Z56: =VLOOKUP(B56,'W19'!$A$3:$B$65,2, FALSE) -> 9 | AA56: =SUM(H56:Z56) -> 157 | AC56: =VLOOKUP(B56,'W01'!$A$3:$C$66,3, FALSE) -> 1 | AD56: =VLOOKUP(B56,'W02'!$A$3:$C$66,3, FALSE) -> 2 | AE56: =VLOOKUP(B56,'W03'!$A$3:$C$66,3, FALSE) -> 0 | AF56: =VLOOKUP(B56,'W04'!$A$3:$C$66,3, FALSE) -> 1 | AG56: =VLOOKUP(B56,'W05'!$A$3:$C$67,3, FALSE) -> 2 | AH56: =VLOOKUP(B56,'W06'!$A$3:$C$67,3, FALSE) -> 0 | AI56: =VLOOKUP(B56,'W07'!$A$3:$C$67,3, FALSE) -> 2 | AJ56: =VLOOKUP(B56,'W08'!$A$3:$C$67,3, FALSE) -> 2 | AK56: =VLOOKUP(B56,'W09'!$A$3:$C$66,3, FALSE) -> 2 | AL56: =VLOOKUP(B56,'W10'!$A$3:$C$66,3, FALSE) -> 1 | AM56: =VLOOKUP(B56,'W11'!$A$3:$C$66,3, FALSE) -> 1 | AN56: =VLOOKUP(B56,'W12'!$A$3:$C$66,3, FALSE) -> 2 | AO56: =VLOOKUP(B56,'W13'!$A$3:$C$66,3, FALSE) -> 2 | AP56: =VLOOKUP(B56,'W14'!$A$3:$C$66,3, FALSE) -> 1 | AQ56: =VLOOKUP(B56,'W15'!$A$3:$C$66,3, FALSE) -> 2 | AR56: =VLOOKUP(B56,'W16'!$A$3:$C$66,3, FALSE) -> 2 | AS56: =VLOOKUP(B56,'W17'!$A$3:$C$66,3, FALSE) -> 1 | AT56: =VLOOKUP(B56,'W18'!$A$3:$C$66,3, FALSE) -> 2 | AU56: =VLOOKUP(B56,'W19'!$A$3:$C$65,3, FALSE) -> 2 | AV56: =SUM(AC56:AU56) -> 28
A57: 55 | B57: Brothers, Jason | C57: =AA57 -> 157 | D57: =$AA$69 -> 284 | E57: =C57/D57 -> 0.5528169 | F57: =AV57 -> 20 | H57: =VLOOKUP(B57,'W01'!$A$3:$B$66,2, FALSE) -> 2.5 | I57: =VLOOKUP(B57,'W02'!$A$3:$B$66,2, FALSE) -> 9 | J57: =VLOOKUP(B57,'W03'!$A$3:$B$66,2, FALSE) -> 6 | K57: =VLOOKUP(B57,'W04'!$A$3:$B$66,2, FALSE) -> 9 | L57: =VLOOKUP(B57,'W05'!$A$3:$B$67,2, FALSE) -> 9 | M57: =VLOOKUP(B57,'W06'!$A$3:$B$67,2, FALSE) -> 7 | N57: =VLOOKUP(B57,'W07'!$A$3:$B$67,2, FALSE) -> 9 | O57: =VLOOKUP(B57,'W08'!$A$3:$B$67,2, FALSE) -> 9 | P57: =VLOOKUP(B57,'W09'!$A$3:$B$66,2, FALSE) -> 9 | Q57: =VLOOKUP(B57,'W10'!$A$3:$B$66,2, FALSE) -> 6 | R57: =VLOOKUP(B57,'W11'!$A$3:$B$66,2, FALSE) -> 9 | S57: =VLOOKUP(B57,'W12'!$A$3:$B$66,2, FALSE) -> 13 | T57: =VLOOKUP(B57,'W13'!$A$3:$B$66,2, FALSE) -> 10.5 | U57: =VLOOKUP(B57,'W14'!$A$3:$B$66,2, FALSE) -> 6 | V57: =VLOOKUP(B57,'W15'!$A$3:$B$66,2, FALSE) -> 13 | W57: =VLOOKUP(B57,'W16'!$A$3:$B$66,2, FALSE) -> 10 | X57: =VLOOKUP(B57,'W17'!$A$3:$B$66,2, FALSE) -> 10 | Y57: =VLOOKUP(B57,'W18'!$A$3:$B$66,2, FALSE) -> 8 | Z57: =VLOOKUP(B57,'W19'!$A$3:$B$65,2, FALSE) -> 2 | AA57: =SUM(H57:Z57) -> 157 | AC57: =VLOOKUP(B57,'W01'!$A$3:$C$66,3, FALSE) -> 1 | AD57: =VLOOKUP(B57,'W02'!$A$3:$C$66,3, FALSE) -> 1 | AE57: =VLOOKUP(B57,'W03'!$A$3:$C$66,3, FALSE) -> 1 | AF57: =VLOOKUP(B57,'W04'!$A$3:$C$66,3, FALSE) -> 1 | AG57: =VLOOKUP(B57,'W05'!$A$3:$C$67,3, FALSE) -> 1 | AH57: =VLOOKUP(B57,'W06'!$A$3:$C$67,3, FALSE) -> 0 | AI57: =VLOOKUP(B57,'W07'!$A$3:$C$67,3, FALSE) -> 0 | AJ57: =VLOOKUP(B57,'W08'!$A$3:$C$67,3, FALSE) -> 2 | AK57: =VLOOKUP(B57,'W09'!$A$3:$C$66,3, FALSE) -> 1 | AL57: =VLOOKUP(B57,'W10'!$A$3:$C$66,3, FALSE) -> 0 | AM57: =VLOOKUP(B57,'W11'!$A$3:$C$66,3, FALSE) -> 1 | AN57: =VLOOKUP(B57,'W12'!$A$3:$C$66,3, FALSE) -> 2 | AO57: =VLOOKUP(B57,'W13'!$A$3:$C$66,3, FALSE) -> 2 | AP57: =VLOOKUP(B57,'W14'!$A$3:$C$66,3, FALSE) -> 1 | AQ57: =VLOOKUP(B57,'W15'!$A$3:$C$66,3, FALSE) -> 1 | AR57: =VLOOKUP(B57,'W16'!$A$3:$C$66,3, FALSE) -> 1 | AS57: =VLOOKUP(B57,'W17'!$A$3:$C$66,3, FALSE) -> 2 | AT57: =VLOOKUP(B57,'W18'!$A$3:$C$66,3, FALSE) -> 2 | AU57: =VLOOKUP(B57,'W19'!$A$3:$C$65,3, FALSE) -> 0 | AV57: =SUM(AC57:AU57) -> 20
A58: 56 | B58: Johnston, John | C58: =AA58 -> 155 | D58: =$AA$69 -> 284 | E58: =C58/D58 -> 0.54577465 | F58: =AV58 -> 27 | H58: =VLOOKUP(B58,'W01'!$A$3:$B$66,2, FALSE) -> 6.5 | I58: =VLOOKUP(B58,'W02'!$A$3:$B$66,2, FALSE) -> 8 | J58: =VLOOKUP(B58,'W03'!$A$3:$B$66,2, FALSE) -> 7 | K58: =VLOOKUP(B58,'W04'!$A$3:$B$66,2, FALSE) -> 10 | L58: =VLOOKUP(B58,'W05'!$A$3:$B$67,2, FALSE) -> 11 | M58: =VLOOKUP(B58,'W06'!$A$3:$B$67,2, FALSE) -> 7 | N58: =VLOOKUP(B58,'W07'!$A$3:$B$67,2, FALSE) -> 5 | O58: =VLOOKUP(B58,'W08'!$A$3:$B$67,2, FALSE) -> 9 | P58: =VLOOKUP(B58,'W09'!$A$3:$B$66,2, FALSE) -> 6 | Q58: =VLOOKUP(B58,'W10'!$A$3:$B$66,2, FALSE) -> 6 | R58: =VLOOKUP(B58,'W11'!$A$3:$B$66,2, FALSE) -> 10 | S58: =VLOOKUP(B58,'W12'!$A$3:$B$66,2, FALSE) -> 8 | T58: =VLOOKUP(B58,'W13'!$A$3:$B$66,2, FALSE) -> 9.5 | U58: =VLOOKUP(B58,'W14'!$A$3:$B$66,2, FALSE) -> 6 | V58: =VLOOKUP(B58,'W15'!$A$3:$B$66,2, FALSE) -> 12 | W58: =VLOOKUP(B58,'W16'!$A$3:$B$66,2, FALSE) -> 11 | X58: =VLOOKUP(B58,'W17'!$A$3:$B$66,2, FALSE) -> 7 | Y58: =VLOOKUP(B58,'W18'!$A$3:$B$66,2, FALSE) -> 8 | Z58: =VLOOKUP(B58,'W19'!$A$3:$B$65,2, FALSE) -> 8 | AA58: =SUM(H58:Z58) -> 155 | AC58: =VLOOKUP(B58,'W01'!$A$3:$C$66,3, FALSE) -> 1 | AD58: =VLOOKUP(B58,'W02'!$A$3:$C$66,3, FALSE) -> 2 | AE58: =VLOOKUP(B58,'W03'!$A$3:$C$66,3, FALSE) -> 1 | AF58: =VLOOKUP(B58,'W04'!$A$3:$C$66,3, FALSE) -> 2 | AG58: =VLOOKUP(B58,'W05'!$A$3:$C$67,3, FALSE) -> 2 | AH58: =VLOOKUP(B58,'W06'!$A$3:$C$67,3, FALSE) -> 1 | AI58: =VLOOKUP(B58,'W07'!$A$3:$C$67,3, FALSE) -> 0 | AJ58: =VLOOKUP(B58,'W08'!$A$3:$C$67,3, FALSE) -> 1 | AK58: =VLOOKUP(B58,'W09'!$A$3:$C$66,3, FALSE) -> 1 | AL58: =VLOOKUP(B58,'W10'!$A$3:$C$66,3, FALSE) -> 1 | AM58: =VLOOKUP(B58,'W11'!$A$3:$C$66,3, FALSE) -> 2 | AN58: =VLOOKUP(B58,'W12'!$A$3:$C$66,3, FALSE) -> 2 | AO58: =VLOOKUP(B58,'W13'!$A$3:$C$66,3, FALSE) -> 2 | AP58: =VLOOKUP(B58,'W14'!$A$3:$C$66,3, FALSE) -> 2 | AQ58: =VLOOKUP(B58,'W15'!$A$3:$C$66,3, FALSE) -> 2 | AR58: =VLOOKUP(B58,'W16'!$A$3:$C$66,3, FALSE) -> 1 | AS58: =VLOOKUP(B58,'W17'!$A$3:$C$66,3, FALSE) -> 1 | AT58: =VLOOKUP(B58,'W18'!$A$3:$C$66,3, FALSE) -> 1 | AU58: =VLOOKUP(B58,'W19'!$A$3:$C$65,3, FALSE) -> 2 | AV58: =SUM(AC58:AU58) -> 27
A59: 57 | B59: Manzala, Jeremy | C59: =AA59 -> 150 | D59: =$AA$69 -> 284 | E59: =C59/D59 -> 0.52816901 | F59: =AV59 -> 29.5 | H59: =VLOOKUP(B59,'W01'!$A$3:$B$66,2, FALSE) -> 9.5 | I59: =VLOOKUP(B59,'W02'!$A$3:$B$66,2, FALSE) -> 7 | J59: =VLOOKUP(B59,'W03'!$A$3:$B$66,2, FALSE) -> 8 | K59: =VLOOKUP(B59,'W04'!$A$3:$B$66,2, FALSE) -> 8 | L59: =VLOOKUP(B59,'W05'!$A$3:$B$67,2, FALSE) -> 8 | M59: =VLOOKUP(B59,'W06'!$A$3:$B$67,2, FALSE) -> 5 | N59: =VLOOKUP(B59,'W07'!$A$3:$B$67,2, FALSE) -> 9 | O59: =VLOOKUP(B59,'W08'!$A$3:$B$67,2, FALSE) -> 9 | P59: =VLOOKUP(B59,'W09'!$A$3:$B$66,2, FALSE) -> 9 | Q59: =VLOOKUP(B59,'W10'!$A$3:$B$66,2, FALSE) -> 5 | R59: =VLOOKUP(B59,'W11'!$A$3:$B$66,2, FALSE) -> 9 | S59: =VLOOKUP(B59,'W12'!$A$3:$B$66,2, FALSE) -> 8 | T59: =VLOOKUP(B59,'W13'!$A$3:$B$66,2, FALSE) -> 9.5 | U59: =VLOOKUP(B59,'W14'!$A$3:$B$66,2, FALSE) -> 5 | V59: =VLOOKUP(B59,'W15'!$A$3:$B$66,2, FALSE) -> 8 | W59: =VLOOKUP(B59,'W16'!$A$3:$B$66,2, FALSE) -> 8 | X59: =VLOOKUP(B59,'W17'!$A$3:$B$66,2, FALSE) -> 10 | Y59: =VLOOKUP(B59,'W18'!$A$3:$B$66,2, FALSE) -> 9 | Z59: =VLOOKUP(B59,'W19'!$A$3:$B$65,2, FALSE) -> 6 | AA59: =SUM(H59:Z59) -> 150 | AC59: =VLOOKUP(B59,'W01'!$A$3:$C$66,3, FALSE) -> 0.5 | AD59: =VLOOKUP(B59,'W02'!$A$3:$C$66,3, FALSE) -> 2 | AE59: =VLOOKUP(B59,'W03'!$A$3:$C$66,3, FALSE) -> 1 | AF59: =VLOOKUP(B59,'W04'!$A$3:$C$66,3, FALSE) -> 2 | AG59: =VLOOKUP(B59,'W05'!$A$3:$C$67,3, FALSE) -> 2 | AH59: =VLOOKUP(B59,'W06'!$A$3:$C$67,3, FALSE) -> 0 | AI59: =VLOOKUP(B59,'W07'!$A$3:$C$67,3, FALSE) -> 1 | AJ59: =VLOOKUP(B59,'W08'!$A$3:$C$67,3, FALSE) -> 2 | AK59: =VLOOKUP(B59,'W09'!$A$3:$C$66,3, FALSE) -> 1 | AL59: =VLOOKUP(B59,'W10'!$A$3:$C$66,3, FALSE) -> 2 | AM59: =VLOOKUP(B59,'W11'!$A$3:$C$66,3, FALSE) -> 2 | AN59: =VLOOKUP(B59,'W12'!$A$3:$C$66,3, FALSE) -> 2 | AO59: =VLOOKUP(B59,'W13'!$A$3:$C$66,3, FALSE) -> 2 | AP59: =VLOOKUP(B59,'W14'!$A$3:$C$66,3, FALSE) -> 2 | AQ59: =VLOOKUP(B59,'W15'!$A$3:$C$66,3, FALSE) -> 1 | AR59: =VLOOKUP(B59,'W16'!$A$3:$C$66,3, FALSE) -> 2 | AS59: =VLOOKUP(B59,'W17'!$A$3:$C$66,3, FALSE) -> 2 | AT59: =VLOOKUP(B59,'W18'!$A$3:$C$66,3, FALSE) -> 1 | AU59: =VLOOKUP(B59,'W19'!$A$3:$C$65,3, FALSE) -> 2 | AV59: =SUM(AC59:AU59) -> 29.5
A60: 58 | B60: Conklin, Don | C60: =AA60 -> 146 | D60: =$AA$69 -> 284 | E60: =C60/D60 -> 0.51408451 | F60: =AV60 -> 19 | H60: =VLOOKUP(B60,'W01'!$A$3:$B$66,2, FALSE) -> 6.5 | I60: =VLOOKUP(B60,'W02'!$A$3:$B$66,2, FALSE) -> 9 | J60: =VLOOKUP(B60,'W03'!$A$3:$B$66,2, FALSE) -> 9 | K60: =VLOOKUP(B60,'W04'!$A$3:$B$66,2, FALSE) -> 9 | L60: =VLOOKUP(B60,'W05'!$A$3:$B$67,2, FALSE) -> 12 | M60: =VLOOKUP(B60,'W06'!$A$3:$B$67,2, FALSE) -> 8 | N60: =VLOOKUP(B60,'W07'!$A$3:$B$67,2, FALSE) -> 6 | O60: =VLOOKUP(B60,'W08'!$A$3:$B$67,2, FALSE) -> 8 | P60: =VLOOKUP(B60,'W09'!$A$3:$B$66,2, FALSE) -> 5 | Q60: =VLOOKUP(B60,'W10'!$A$3:$B$66,2, FALSE) -> 6 | R60: =VLOOKUP(B60,'W11'!$A$3:$B$66,2, FALSE) -> 9 | S60: =VLOOKUP(B60,'W12'!$A$3:$B$66,2, FALSE) -> 6 | T60: =VLOOKUP(B60,'W13'!$A$3:$B$66,2, FALSE) -> 7.5 | U60: =VLOOKUP(B60,'W14'!$A$3:$B$66,2, FALSE) -> 6 | V60: =VLOOKUP(B60,'W15'!$A$3:$B$66,2, FALSE) -> 11 | W60: =VLOOKUP(B60,'W16'!$A$3:$B$66,2, FALSE) -> 11 | X60: =VLOOKUP(B60,'W17'!$A$3:$B$66,2, FALSE) -> 4 | Y60: =VLOOKUP(B60,'W18'!$A$3:$B$66,2, FALSE) -> 5 | Z60: =VLOOKUP(B60,'W19'!$A$3:$B$65,2, FALSE) -> 8 | AA60: =SUM(H60:Z60) -> 146 | AC60: =VLOOKUP(B60,'W01'!$A$3:$C$66,3, FALSE) -> 0 | AD60: =VLOOKUP(B60,'W02'!$A$3:$C$66,3, FALSE) -> 2 | AE60: =VLOOKUP(B60,'W03'!$A$3:$C$66,3, FALSE) -> 0 | AF60: =VLOOKUP(B60,'W04'!$A$3:$C$66,3, FALSE) -> 2 | AG60: =VLOOKUP(B60,'W05'!$A$3:$C$67,3, FALSE) -> 1 | AH60: =VLOOKUP(B60,'W06'!$A$3:$C$67,3, FALSE) -> 2 | AI60: =VLOOKUP(B60,'W07'!$A$3:$C$67,3, FALSE) -> 2 | AJ60: =VLOOKUP(B60,'W08'!$A$3:$C$67,3, FALSE) -> 1 | AK60: =VLOOKUP(B60,'W09'!$A$3:$C$66,3, FALSE) -> 1 | AL60: =VLOOKUP(B60,'W10'!$A$3:$C$66,3, FALSE) -> 0 | AM60: =VLOOKUP(B60,'W11'!$A$3:$C$66,3, FALSE) -> 2 | AN60: =VLOOKUP(B60,'W12'!$A$3:$C$66,3, FALSE) -> 0 | AO60: =VLOOKUP(B60,'W13'!$A$3:$C$66,3, FALSE) -> 2 | AP60: =VLOOKUP(B60,'W14'!$A$3:$C$66,3, FALSE) -> 1 | AQ60: =VLOOKUP(B60,'W15'!$A$3:$C$66,3, FALSE) -> 1 | AR60: =VLOOKUP(B60,'W16'!$A$3:$C$66,3, FALSE) -> 0 | AS60: =VLOOKUP(B60,'W17'!$A$3:$C$66,3, FALSE) -> 0 | AT60: =VLOOKUP(B60,'W18'!$A$3:$C$66,3, FALSE) -> 0 | AU60: =VLOOKUP(B60,'W19'!$A$3:$C$65,3, FALSE) -> 2 | AV60: =SUM(AC60:AU60) -> 19
... A62: 60 | B62: Hamilton, Hunter | C62: =AA62 -> 142 | D62: =$AA$69 -> 284 | E62: =C62/D62 -> 0.5 | F62: =AV62 -> 19 | H62: =VLOOKUP(B62,'W01'!$A$3:$B$66,2, FALSE) -> 5.5 | I62: =VLOOKUP(B62,'W02'!$A$3:$B$66,2, FALSE) -> 10 | J62: =VLOOKUP(B62,'W03'!$A$3:$B$66,2, FALSE) -> 4 | K62: =VLOOKUP(B62,'W04'!$A$3:$B$66,2, FALSE) -> 11 | L62: =VLOOKUP(B62,'W05'!$A$3:$B$67,2, FALSE) -> 12 | M62: =VLOOKUP(B62,'W06'!$A$3:$B$67,2, FALSE) -> 7 | N62: =VLOOKUP(B62,'W07'!$A$3:$B$67,2, FALSE) -> 6 | O62: =VLOOKUP(B62,'W08'!$A$3:$B$67,2, FALSE) -> 11 | P62: =VLOOKUP(B62,'W09'!$A$3:$B$66,2, FALSE) -> 5 | Q62: =VLOOKUP(B62,'W10'!$A$3:$B$66,2, FALSE) -> 8 | R62: =VLOOKUP(B62,'W11'!$A$3:$B$66,2, FALSE) -> 10 | S62: =VLOOKUP(B62,'W12'!$A$3:$B$66,2, FALSE) -> 8 | T62: =VLOOKUP(B62,'W13'!$A$3:$B$66,2, FALSE) -> 9.5 | U62: =VLOOKUP(B62,'W14'!$A$3:$B$66,2, FALSE) -> 8 | V62: =VLOOKUP(B62,'W15'!$A$3:$B$66,2, FALSE) -> 8 | W62: =VLOOKUP(B62,'W16'!$A$3:$B$66,2, FALSE) -> 5 | X62: =VLOOKUP(B62,'W17'!$A$3:$B$66,2, FALSE) -> 5 | Y62: =VLOOKUP(B62,'W18'!$A$3:$B$66,2, FALSE) -> 5 | Z62: =VLOOKUP(B62,'W19'!$A$3:$B$65,2, FALSE) -> 4 | AA62: =SUM(H62:Z62) -> 142 | AC62: =VLOOKUP(B62,'W01'!$A$3:$C$66,3, FALSE) -> 0 | AD62: =VLOOKUP(B62,'W02'!$A$3:$C$66,3, FALSE) -> 2 | AE62: =VLOOKUP(B62,'W03'!$A$3:$C$66,3, FALSE) -> 2 | AF62: =VLOOKUP(B62,'W04'!$A$3:$C$66,3, FALSE) -> 1 | AG62: =VLOOKUP(B62,'W05'!$A$3:$C$67,3, FALSE) -> 2 | AH62: =VLOOKUP(B62,'W06'!$A$3:$C$67,3, FALSE) -> 0 | AI62: =VLOOKUP(B62,'W07'!$A$3:$C$67,3, FALSE) -> 0 | AJ62: =VLOOKUP(B62,'W08'!$A$3:$C$67,3, FALSE) -> 2 | AK62: =VLOOKUP(B62,'W09'!$A$3:$C$66,3, FALSE) -> 1 | AL62: =VLOOKUP(B62,'W10'!$A$3:$C$66,3, FALSE) -> 0 | AM62: =VLOOKUP(B62,'W11'!$A$3:$C$66,3, FALSE) -> 2 | AN62: =VLOOKUP(B62,'W12'!$A$3:$C$66,3, FALSE) -> 1 | AO62: =VLOOKUP(B62,'W13'!$A$3:$C$66,3, FALSE) -> 1 | AP62: =VLOOKUP(B62,'W14'!$A$3:$C$66,3, FALSE) -> 2 | AQ62: =VLOOKUP(B62,'W15'!$A$3:$C$66,3, FALSE) -> 1 | AR62: =VLOOKUP(B62,'W16'!$A$3:$C$66,3, FALSE) -> 0 | AS62: =VLOOKUP(B62,'W17'!$A$3:$C$66,3, FALSE) -> 1 | AT62: =VLOOKUP(B62,'W18'!$A$3:$C$66,3, FALSE) -> 0 | AU62: =VLOOKUP(B62,'W19'!$A$3:$C$65,3, FALSE) -> 1 | AV62: =SUM(AC62:AU62) -> 19
A63: 61 | B63: Seamands, Nathan * | C63: =AA63 -> 133.5 | D63: =$AA$69-$H$69-$I$69-$J$69-$K$69 -> 220 | E63: =C63/D63 -> 0.60681818 | F63: =AV63 -> 24 | H63: - | I63: - | J63: - | K63: - | L63: =VLOOKUP(B63,'W05'!$A$3:$B$67,2, FALSE) -> 12 | M63: =VLOOKUP(B63,'W06'!$A$3:$B$67,2, FALSE) -> 5 | N63: =VLOOKUP(B63,'W07'!$A$3:$B$67,2, FALSE) -> 8 | O63: =VLOOKUP(B63,'W08'!$A$3:$B$67,2, FALSE) -> 9 | P63: =VLOOKUP(B63,'W09'!$A$3:$B$66,2, FALSE) -> 9 | Q63: =VLOOKUP(B63,'W10'!$A$3:$B$66,2, FALSE) -> 6 | R63: =VLOOKUP(B63,'W11'!$A$3:$B$66,2, FALSE) -> 11 | S63: =VLOOKUP(B63,'W12'!$A$3:$B$66,2, FALSE) -> 10 | T63: =VLOOKUP(B63,'W13'!$A$3:$B$66,2, FALSE) -> 9.5 | U63: =VLOOKUP(B63,'W14'!$A$3:$B$66,2, FALSE) -> 7 | V63: =VLOOKUP(B63,'W15'!$A$3:$B$66,2, FALSE) -> 7 | W63: =VLOOKUP(B63,'W16'!$A$3:$B$66,2, FALSE) -> 9 | X63: =VLOOKUP(B63,'W17'!$A$3:$B$66,2, FALSE) -> 10 | Y63: =VLOOKUP(B63,'W18'!$A$3:$B$66,2, FALSE) -> 13 | Z63: =VLOOKUP(B63,'W19'!$A$3:$B$65,2, FALSE) -> 8 | AA63: =SUM(H63:Z63) -> 133.5 | AC63: - | AD63: - | AE63: - | AF63: - | AG63: =VLOOKUP(B63,'W05'!$A$3:$C$67,3, FALSE) -> 2 | AH63: =VLOOKUP(B63,'W06'!$A$3:$C$67,3, FALSE) -> 2 | AI63: =VLOOKUP(B63,'W07'!$A$3:$C$67,3, FALSE) -> 2 | AJ63: =VLOOKUP(B63,'W08'!$A$3:$C$67,3, FALSE) -> 2 | AK63: =VLOOKUP(B63,'W09'!$A$3:$C$66,3, FALSE) -> 1 | AL63: =VLOOKUP(B63,'W10'!$A$3:$C$66,3, FALSE) -> 1 | AM63: =VLOOKUP(B63,'W11'!$A$3:$C$66,3, FALSE) -> 1 | AN63: =VLOOKUP(B63,'W12'!$A$3:$C$66,3, FALSE) -> 0 | AO63: =VLOOKUP(B63,'W13'!$A$3:$C$66,3, FALSE) -> 2 | AP63: =VLOOKUP(B63,'W14'!$A$3:$C$66,3, FALSE) -> 2 | AQ63: =VLOOKUP(B63,'W15'!$A$3:$C$66,3, FALSE) -> 1 | AR63: =VLOOKUP(B63,'W16'!$A$3:$C$66,3, FALSE) -> 1 | AS63: =VLOOKUP(B63,'W17'!$A$3:$C$66,3, FALSE) -> 2 | AT63: =VLOOKUP(B63,'W18'!$A$3:$C$66,3, FALSE) -> 2 | AU63: =VLOOKUP(B63,'W19'!$A$3:$C$65,3, FALSE) -> 3 | AV63: =SUM(AC63:AU63) -> 24
A64: 62 | B64: Hernandez, Ismael | C64: =AA64 -> 133 | D64: =$AA$69-$Z$69 -> 271 | E64: =C64/D64 -> 0.49077491 | F64: =AV64 -> 19 | H64: =VLOOKUP(B64,'W01'!$A$3:$B$66,2, FALSE) -> 8.5 | I64: =VLOOKUP(B64,'W02'!$A$3:$B$66,2, FALSE) -> 7 | J64: =VLOOKUP(B64,'W03'!$A$3:$B$66,2, FALSE) -> 7 | K64: =VLOOKUP(B64,'W04'!$A$3:$B$66,2, FALSE) -> 11 | L64: =VLOOKUP(B64,'W05'!$A$3:$B$67,2, FALSE) -> 12 | M64: =VLOOKUP(B64,'W06'!$A$3:$B$67,2, FALSE) -> 7 | N64: =VLOOKUP(B64,'W07'!$A$3:$B$67,2, FALSE) -> 10 | O64: =VLOOKUP(B64,'W08'!$A$3:$B$67,2, FALSE) -> 11 | P64: =VLOOKUP(B64,'W09'!$A$3:$B$66,2, FALSE) -> 7 | Q64: =VLOOKUP(B64,'W10'!$A$3:$B$66,2, FALSE) -> 7 | R64: =VLOOKUP(B64,'W11'!$A$3:$B$66,2, FALSE) -> 7 | S64: =VLOOKUP(B64,'W12'!$A$3:$B$66,2, FALSE) -> 8 | T64: =VLOOKUP(B64,'W13'!$A$3:$B$66,2, FALSE) -> 3.5 | U64: =VLOOKUP(B64,'W14'!$A$3:$B$66,2, FALSE) -> 7 | V64: =VLOOKUP(B64,'W15'!$A$3:$B$66,2, FALSE) -> 6 | W64: =VLOOKUP(B64,'W16'!$A$3:$B$66,2, FALSE) -> 5 | X64: =VLOOKUP(B64,'W17'!$A$3:$B$66,2, FALSE) -> 4 | Y64: =VLOOKUP(B64,'W18'!$A$3:$B$66,2, FALSE) -> 5 | Z64: - | AA64: =SUM(H64:Z64) -> 133 | AC64: =VLOOKUP(B64,'W01'!$A$3:$C$66,3, FALSE) -> 1 | AD64: =VLOOKUP(B64,'W02'!$A$3:$C$66,3, FALSE) -> 1 | AE64: =VLOOKUP(B64,'W03'!$A$3:$C$66,3, FALSE) -> 1 | AF64: =VLOOKUP(B64,'W04'!$A$3:$C$66,3, FALSE) -> 1 | AG64: =VLOOKUP(B64,'W05'!$A$3:$C$67,3, FALSE) -> 1 | AH64: =VLOOKUP(B64,'W06'!$A$3:$C$67,3, FALSE) -> 2 | AI64: =VLOOKUP(B64,'W07'!$A$3:$C$67,3, FALSE) -> 0 | AJ64: =VLOOKUP(B64,'W08'!$A$3:$C$67,3, FALSE) -> 2 | AK64: =VLOOKUP(B64,'W09'!$A$3:$C$66,3, FALSE) -> 2 | AL64: =VLOOKUP(B64,'W10'!$A$3:$C$66,3, FALSE) -> 2 | AM64: =VLOOKUP(B64,'W11'!$A$3:$C$66,3, FALSE) -> 2 | AN64: =VLOOKUP(B64,'W12'!$A$3:$C$66,3, FALSE) -> 2 | AO64: =VLOOKUP(B64,'W13'!$A$3:$C$66,3, FALSE) -> 0 | AP64: =VLOOKUP(B64,'W14'!$A$3:$C$66,3, FALSE) -> 2 | AQ64: =VLOOKUP(B64,'W15'!$A$3:$C$66,3, FALSE) -> 0 | AR64: =VLOOKUP(B64,'W16'!$A$3:$C$66,3, FALSE) -> 0 | AS64: =VLOOKUP(B64,'W17'!$A$3:$C$66,3, FALSE) -> 0 | AT64: =VLOOKUP(B64,'W18'!$A$3:$C$66,3, FALSE) -> 0 | AU64: - | AV64: =SUM(AC64:AU64) -> 19
A65: 63 | B65: Beene, Jordan | C65: =AA65 -> 133 | D65: =$AA$69 -> 284 | E65: =C65/D65 -> 0.46830986 | F65: =AV65 -> 16 | H65: =VLOOKUP(B65,'W01'!$A$3:$B$66,2, FALSE) -> 7.5 | I65: =VLOOKUP(B65,'W02'!$A$3:$B$66,2, FALSE) -> 8 | J65: =VLOOKUP(B65,'W03'!$A$3:$B$66,2, FALSE) -> 6 | K65: =VLOOKUP(B65,'W04'!$A$3:$B$66,2, FALSE) -> 7 | L65: =VLOOKUP(B65,'W05'!$A$3:$B$67,2, FALSE) -> 7 | M65: =VLOOKUP(B65,'W06'!$A$3:$B$67,2, FALSE) -> 2 | N65: =VLOOKUP(B65,'W07'!$A$3:$B$67,2, FALSE) -> 7 | O65: =VLOOKUP(B65,'W08'!$A$3:$B$67,2, FALSE) -> 10 | P65: =VLOOKUP(B65,'W09'!$A$3:$B$66,2, FALSE) -> 6 | Q65: =VLOOKUP(B65,'W10'!$A$3:$B$66,2, FALSE) -> 3 | R65: =VLOOKUP(B65,'W11'!$A$3:$B$66,2, FALSE) -> 7 | S65: =VLOOKUP(B65,'W12'!$A$3:$B$66,2, FALSE) -> 10 | T65: =VLOOKUP(B65,'W13'!$A$3:$B$66,2, FALSE) -> 4.5 | U65: =VLOOKUP(B65,'W14'!$A$3:$B$66,2, FALSE) -> 7 | V65: =VLOOKUP(B65,'W15'!$A$3:$B$66,2, FALSE) -> 9 | W65: =VLOOKUP(B65,'W16'!$A$3:$B$66,2, FALSE) -> 9 | X65: =VLOOKUP(B65,'W17'!$A$3:$B$66,2, FALSE) -> 12 | Y65: =VLOOKUP(B65,'W18'!$A$3:$B$66,2, FALSE) -> 8 | Z65: =VLOOKUP(B65,'W19'!$A$3:$B$65,2, FALSE) -> 3 | AA65: =SUM(H65:Z65) -> 133 | AC65: =VLOOKUP(B65,'W01'!$A$3:$C$66,3, FALSE) -> 1 | AD65: =VLOOKUP(B65,'W02'!$A$3:$C$66,3, FALSE) -> 0 | AE65: =VLOOKUP(B65,'W03'!$A$3:$C$66,3, FALSE) -> 0 | AF65: =VLOOKUP(B65,'W04'!$A$3:$C$66,3, FALSE) -> 1 | AG65: =VLOOKUP(B65,'W05'!$A$3:$C$67,3, FALSE) -> 0 | AH65: =VLOOKUP(B65,'W06'!$A$3:$C$67,3, FALSE) -> 0 | AI65: =VLOOKUP(B65,'W07'!$A$3:$C$67,3, FALSE) -> 0 | AJ65: =VLOOKUP(B65,'W08'!$A$3:$C$67,3, FALSE) -> 2 | AK65: =VLOOKUP(B65,'W09'!$A$3:$C$66,3, FALSE) -> 2 | AL65: =VLOOKUP(B65,'W10'!$A$3:$C$66,3, FALSE) -> 0 | AM65: =VLOOKUP(B65,'W11'!$A$3:$C$66,3, FALSE) -> 2 | AN65: =VLOOKUP(B65,'W12'!$A$3:$C$66,3, FALSE) -> 0 | AO65: =VLOOKUP(B65,'W13'!$A$3:$C$66,3, FALSE) -> 1 | AP65: =VLOOKUP(B65,'W14'!$A$3:$C$66,3, FALSE) -> 1 | AQ65: =VLOOKUP(B65,'W15'!$A$3:$C$66,3, FALSE) -> 1 | AR65: =VLOOKUP(B65,'W16'!$A$3:$C$66,3, FALSE) -> 2 | AS65: =VLOOKUP(B65,'W17'!$A$3:$C$66,3, FALSE) -> 1 | AT65: =VLOOKUP(B65,'W18'!$A$3:$C$66,3, FALSE) -> 0 | AU65: =VLOOKUP(B65,'W19'!$A$3:$C$65,3, FALSE) -> 2 | AV65: =SUM(AC65:AU65) -> 16
A66: 64 | B66: Himes, Randall | C66: =AA66 -> 42.5 | D66: =$AA$69-$P$69-$Q$69-$R$69-$S$69-$T$69-$U$69-$V$69-$W$69-$X$69-$Y$69-$Z$69 -> 123 | E66: =C66/D66 -> 0.34552846 | F66: =AV66 -> 3.5 | H66: =VLOOKUP(B66,'W01'!$A$3:$B$66,2, FALSE) -> 8.5 | I66: =VLOOKUP(B66,'W02'!$A$3:$B$66,2, FALSE) -> 8 | J66: =VLOOKUP(B66,'W03'!$A$3:$B$66,2, FALSE) -> 3 | K66: =VLOOKUP(B66,'W04'!$A$3:$B$66,2, FALSE) -> 8 | L66: =VLOOKUP(B66,'W05'!$A$3:$B$67,2, FALSE) -> 7 | M66: =VLOOKUP(B66,'W06'!$A$3:$B$67,2, FALSE) -> 2 | N66: =VLOOKUP(B66,'W07'!$A$3:$B$67,2, FALSE) -> 3 | O66: =VLOOKUP(B66,'W08'!$A$3:$B$67,2, FALSE) -> 3 | P66: - | Q66: - | R66: - | S66: - | T66: - | U66: - | V66: - | W66: - | X66: - | Y66: - | Z66: - | AA66: =SUM(H66:Z66) -> 42.5 | AC66: =VLOOKUP(B66,'W01'!$A$3:$C$66,3, FALSE) -> 1.5 | AD66: =VLOOKUP(B66,'W02'!$A$3:$C$66,3, FALSE) -> 1 | AE66: =VLOOKUP(B66,'W03'!$A$3:$C$66,3, FALSE) -> 0 | AF66: =VLOOKUP(B66,'W04'!$A$3:$C$66,3, FALSE) -> 1 | AG66: =VLOOKUP(B66,'W05'!$A$3:$C$67,3, FALSE) -> 0 | AH66: =VLOOKUP(B66,'W06'!$A$3:$C$67,3, FALSE) -> 0 | AI66: =VLOOKUP(B66,'W07'!$A$3:$C$67,3, FALSE) -> 0 | AJ66: =VLOOKUP(B66,'W08'!$A$3:$C$67,3, FALSE) -> 0 | AK66: - | AL66: - | AM66: - | AN66: - | AO66: - | AP66: - | AQ66: - | AR66: - | AS66: - | AT66: - | AU66: - | AV66: =SUM(AC66:AU66) -> 3.5
B68: FPLeague 2022 | C68: =AA68 -> 186.5 | D68: =$AA$69 -> 284 | E68: =C68/D68 -> 0.65669014 | F68: =AV68 -> 32.5 | H68: =VLOOKUP(B68,'W01'!$A$3:$B$66,2, FALSE) -> 9.5 | I68: =VLOOKUP(B68,'W02'!$A$3:$B$66,2, FALSE) -> 10 | J68: =VLOOKUP(B68,'W03'!$A$3:$B$66,2, FALSE) -> 7.5 | K68: =VLOOKUP(B68,'W04'!$A$3:$B$66,2, FALSE) -> 11 | L68: =VLOOKUP(B68,'W05'!$A$3:$B$67,2, FALSE) -> 11 | M68: =VLOOKUP(B68,'W06'!$A$3:$B$67,2, FALSE) -> 7 | N68: =VLOOKUP(B68,'W07'!$A$3:$B$67,2, FALSE) -> 10 | O68: =VLOOKUP(B68,'W08'!$A$3:$B$67,2, FALSE) -> 10 | P68: =VLOOKUP(B68,'W09'!$A$3:$B$66,2, FALSE) -> 10 | Q68: =VLOOKUP(B68,'W10'!$A$3:$B$66,2, FALSE) -> 6 | R68: =VLOOKUP(B68,'W11'!$A$3:$B$66,2, FALSE) -> 9 | S68: =VLOOKUP(B68,'W12'!$A$3:$B$66,2, FALSE) -> 10 | T68: =VLOOKUP(B68,'W13'!$A$3:$B$66,2, FALSE) -> 11.5 | U68: =VLOOKUP(B68,'W14'!$A$3:$B$66,2, FALSE) -> 8 | V68: =VLOOKUP(B68,'W15'!$A$3:$B$66,2, FALSE) -> 12 | W68: =VLOOKUP(B68,'W16'!$A$3:$B$66,2, FALSE) -> 12 | X68: =VLOOKUP(B68,'W17'!$A$3:$B$66,2, FALSE) -> 12 | Y68: =VLOOKUP(B68,'W18'!$A$3:$B$66,2, FALSE) -> 10 | Z68: =VLOOKUP(B68,'W19'!$A$3:$B$65,2, FALSE) -> 10 | AA68: =SUM(H68:Z68) -> 186.5 | AC68: =VLOOKUP(B68,'W01'!$A$3:$C$66,3, FALSE) -> 1.5 | AD68: =VLOOKUP(B68,'W02'!$A$3:$C$66,3, FALSE) -> 2 | AE68: =VLOOKUP(B68,'W03'!$A$3:$C$66,3, FALSE) -> 1 | AF68: =VLOOKUP(B68,'W04'!$A$3:$C$66,3, FALSE) -> 2 | AG68: =VLOOKUP(B68,'W05'!$A$3:$C$67,3, FALSE) -> 2 | AH68: =VLOOKUP(B68,'W06'!$A$3:$C$67,3, FALSE) -> 1 | AI68: =VLOOKUP(B68,'W07'!$A$3:$C$67,3, FALSE) -> 0 | AJ68: =VLOOKUP(B68,'W08'!$A$3:$C$67,3, FALSE) -> 2 | AK68: =VLOOKUP(B68,'W09'!$A$3:$C$66,3, FALSE) -> 1 | AL68: =VLOOKUP(B68,'W10'!$A$3:$C$66,3, FALSE) -> 1 | AM68: =VLOOKUP(B68,'W11'!$A$3:$C$66,3, FALSE) -> 2 | AN68: =VLOOKUP(B68,'W12'!$A$3:$C$66,3, FALSE) -> 2 | AO68: =VLOOKUP(B68,'W13'!$A$3:$C$66,3, FALSE) -> 2 | AP68: =VLOOKUP(B68,'W14'!$A$3:$C$66,3, FALSE) -> 2 | AQ68: =VLOOKUP(B68,'W15'!$A$3:$C$66,3, FALSE) -> 2 | AR68: =VLOOKUP(B68,'W16'!$A$3:$C$66,3, FALSE) -> 2 | AS68: =VLOOKUP(B68,'W17'!$A$3:$C$66,3, FALSE) -> 2 | AT68: =VLOOKUP(B68,'W18'!$A$3:$C$66,3, FALSE) -> 2 | AU68: =VLOOKUP(B68,'W19'!$A$3:$C$65,3, FALSE) -> 3 | AV68: =SUM(AC68:AU68) -> 32.5
H69: 16 | I69: 16 | J69: 16 | K69: 16 | L69: 16 | M69: 14 | N69: 14 | O69: 15 | P69: 13 | Q69: 14 | R69: 14 | S69: 16 | T69: 15 | U69: 13 | V69: 16 | W69: 16 | X69: 15 | Y69: 16 | Z69: 13 | AA69: =SUM(H69:Z69) -> 284
B71: Line | C71: =AA71 -> 186 | D71: =$AA$69 -> 284 | E71: =C71/D71 -> 0.65492958 | F71: =AV71 -> 32.5 | H71: 10.5 | I71: 9 | J71: 7 | K71: 10 | L71: 10 | M71: 8 | N71: 9 | O71: 9 | P71: 9 | Q71: 7 | R71: 11 | S71: 11 | T71: 13.5 | U71: 8 | V71: 12 | W71: 10 | X71: 11 | Y71: 12 | Z71: 9 | AA71: =SUM(H71:Z71) -> 186 | AC71: 0.5 | AD71: 2 | AE71: 2 | AF71: 2 | AG71: 1 | AH71: 1 | AI71: 0 | AJ71: 2 | AK71: 2 | AL71: 1 | AM71: 2 | AN71: 2 | AO71: 2 | AP71: 2 | AQ71: 2 | AR71: 2 | AS71: 2 | AT71: 2 | AU71: 3 | AV71: =SUM(AC71:AU71) -> 32.5
B72: No Look | C72: =AA72 -> 179 | D72: =$AA$69 -> 284 | E72: =C72/D72 -> 0.63028169 | F72: =AV72 -> 33.5 | H72: 9.5 | I72: 9 | J72: 8 | K72: 10 | L72: 12 | M72: 8 | N72: 10 | O72: 9 | P72: 11 | Q72: 7 | R72: 11 | S72: 10 | T72: 11.5 | U72: 7 | V72: 10 | W72: 9 | X72: 9 | Y72: 9 | Z72: 9 | AA72: =SUM(H72:Z72) -> 179 | AC72: 1.5 | AD72: 1 | AE72: 0 | AF72: 2 | AG72: 2 | AH72: 1 | AI72: 1 | AJ72: 2 | AK72: 2 | AL72: 2 | AM72: 2 | AN72: 2 | AO72: 2 | AP72: 2 | AQ72: 2 | AR72: 2 | AS72: 2 | AT72: 2 | AU72: 3 | AV72: =SUM(AC72:AU72) -> 33.5
B74: 2022 Non-Yearly
B75: Name | C75: % | D75: Correct | E75: Total
A76: 1 | B76: Seamands, Nathan | C76: =D76/E76 -> 0.60681818 | D76: =$C$63 -> 133.5 | E76: =$D$63 -> 220

Sheet Weeks
B1: 2022 Week 01 | I1: 2022 Week 02 | P1: 2022 Week 03 | W1: 2022 Week 04 | AD1: 2022 Week 05 | AK1: 2022 Week 06 | AR1: 2022 Week 07 | AY1: 2022 Week 08 | BF1: 2022 Week 09 | BM1: 2022 Week 10 | BT1: 2022 Week 11 | CA1: 2022 Week 12 | CH1: 2022 Week 13 | CO1: 2022 Week 14 | CV1: 2022 Week 15 | DC1: 2022 Week 16 | DJ1: 2022 Week 17 | DQ1: 2022 Week 18 | DX1: 2022 Wild Cards | EE1: 2022 Divisionals | EL1: 2022 Conference | ES1: 2022 FPLeague
B2: Name | C2: Correct | D2: Total | E2: % | F2: Tiebreak | I2: Name | J2: Correct | K2: Total | L2: % | M2: Tiebreak | P2: Name | Q2: Correct | R2: Total | S2: % | T2: Tiebreak | W2: Name | X2: Correct | Y2: Total | Z2: % | AA2: Tiebreak | AD2: Name | AE2: Correct | AF2: Total | AG2: % | AH2: Tiebreak | AK2: Name | AL2: Correct | AM2: Total | AN2: % | AO2: Tiebreak | AR2: Name | AS2: Correct | AT2: Total | AU2: % | AV2: Tiebreak | AY2: Name | AZ2: Correct | BA2: Total | BB2: % | BC2: Tiebreak | BF2: Name | BG2: Correct | BH2: Total | BI2: % | BJ2: Tiebreak | BM2: Name | BN2: Correct | BO2: Total | BP2: % | BQ2: Tiebreak | BT2: Name | BU2: Correct | BV2: Total | BW2: % | BX2: Tiebreak | CA2: Name | CB2: Correct | CC2: Total | CD2: % | CE2: Tiebreak | CH2: Name | CI2: Correct | CJ2: Total | CK2: % | CL2: Tiebreak | CO2: Name | CP2: Correct | CQ2: Total | CR2: % | CS2: Tiebreak | CV2: Name | CW2: Correct | CX2: Total | CY2: % | CZ2: Tiebreak | DC2: Name | DD2: Correct | DE2: Total | DF2: % | DG2: Tiebreak | DJ2: Name | DK2: Correct | DL2: Total | DM2: % | DN2: Tiebreak | DQ2: Name | DR2: Correct | DS2: Total | DT2: % | DU2: Tiebreak | DX2: Name | DY2: Correct | DZ2: Total | EA2: % | EB2: Tiebreak | EE2: Name | EF2: Correct | EG2: Total | EH2: % | EI2: Tiebreak | EL2: Name | EM2: Correct | EN2: Total | EO2: % | EP2: Tiebreak | ES2: Name | ET2: Correct | EU2: Total | EV2: % | EW2: Tiebreak
A3: 1 | B3: Fortner, Glenn | C3: 10.5 | D3: 16 | E3: 0.65625 | F3: 2 | H3: 1 | I3: Easley, Jordan | J3: 20.5 | K3: 32 | L3: 0.640625 | M3: 2.5 | O3: 1 | P3: Easley, Jordan | Q3: 29.5 | R3: 48 | S3: 0.61458333 | T3: 4.5 | V3: 1 | W3: Fortner, Glenn | X3: 41.5 | Y3: 64 | Z3: 0.6484375 | AA3: 3 | AC3: 1 | AD3: Fortner, Glenn | AE3: 52.5 | AF3: 80 | AG3: 0.65625 | AH3: 4 | AJ3: 1 | AK3: Fortner, Glenn | AL3: 60.5 | AM3: 94 | AN3: 0.64361702 | AO3: 5 | AQ3: 1 | AR3: Fortner, Glenn | AS3: 69.5 | AT3: 108 | AU3: 0.64351852 | AV3: 5 | AX3: 1 | AY3: Garcia, Omar | AZ3: 78.5 | BA3: 123 | BB3: 0.63821138 | BC3: 12 | BE3: 1 | BF3: Prothro, John | BG3: 87.5 | BH3: 136 | BI3: 0.64338235 | BJ3: 13.5 | BL3: 1 | BM3: Prothro, John | BN3: 94.5 | BO3: 150 | BP3: 0.63 | BQ3: 14.5 | BS3: 1 | BT3: Prothro, John | BU3: 104.5 | BV3: 164 | BW3: 0.63719512 | BX3: 16.5 | BZ3: 1 | CA3: Prothro, John | CB3: 115.5 | CC3: 180 | CD3: 0.64166667 | CE3: 18.5 | CG3: 1 | CH3: Prothro, John | CI3: 127 | CJ3: 195 | CK3: 0.65128205 | CL3: 20.5 | CN3: 1 | CO3: Prothro, John | CP3: 134 | CQ3: 208 | CR3: 0.64423077 | CS3: 22.5 | CU3: 1 | CV3: Prothro, John | CW3: 145 | CX3: 224 | CY3: 0.64732143 | CZ3: 24.5 | DB3: 1 | DC3: Prothro, John | DD3: 155 | DE3: 240 | DF3: 0.64583333 | DG3: 26.5 | DI3: 1 | DJ3: Prothro, John | DK3: 167 | DL3: 255 | DM3: 0.65490196 | DN3: 28.5 | DP3: 1 | DQ3: Curran, Kevin | DR3: 179 | DS3: 271 | DT3: 0.66051661 | DU3: 26.5 | DW3: 1 | DX3: Prothro, John | DY3: 182 | DZ3: 277 | EA3: 0.65703971 | EB3: 31.5 | ED3: 1 | EE3: Prothro, John | EF3: 185 | EG3: 281 | EH3: 0.65836299 | EI3: 32.5 | EK3: 1 | EL3: Curran, Kevin | EM3: 187 | EN3: 283 | EO3: 0.66077739 | EP3: 29.5 | ER3: 1 | ES3: Prothro, John | ET3: 187 | EU3: 284 | EV3: 0.6584507 | EW3: 34.5
A4: 2 | B4: Seamands, Natalie | C4: 10.5 | D4: 16 | E4: 0.65625 | F4: 1.5 | H4: 2 | I4: Meyer, Pat | J4: 20.5 | K4: 32 | L4: 0.640625 | M4: 2 | O4: 2 | P4: Fortner, Glenn | Q4: 29.5 | R4: 48 | S4: 0.61458333 | T4: 3 | V4: 2-T | W4: Prothro, John | X4: 39.5 | Y4: 64 | Z4: 0.6171875 | AA4: 6.5 | AC4: 2 | AD4: Prothro, John | AE4: 50.5 | AF4: 80 | AG4: 0.63125 | AH4: 8.5 | AJ4: 2 | AK4: Prothro, John | AL4: 58.5 | AM4: 94 | AN4: 0.62234043 | AO4: 9.5 | AQ4: 2 | AR4: Garcia, Omar | AS4: 68.5 | AT4: 108 | AU4: 0.63425926 | AV4: 10 | AX4: 2-T | AY4: Prothro, John | AZ4: 77.5 | BA4: 123 | BB4: 0.6300813 | BC4: 11.5 | BE4: 2 | BF4: Honeycutt, Wanda | BG4: 87.5 | BH4: 136 | BI4: 0.64338235 | BJ4: 13 | BL4: 2 | BM4: Garcia, Omar | BN4: 93.5 | BO4: 150 | BP4: 0.62333333 | BQ4: 14 | BS4: 2 | BT4: Garcia, Omar | BU4: 104.5 | BV4: 164 | BW4: 0.63719512 | BX4: 16 | BZ4: 2 | CA4: Garcia, Omar | CB4: 113.5 | CC4: 180 | CD4: 0.63055556 | CE4: 18 | CG4: 2 | CH4: Seamands, Byron | CI4: 125 | CJ4: 195 | CK4: 0.64102564 | CL4: 19.5 | CN4: 2 | CO4: Curran, Kevin | CP4: 133 | CQ4: 208 | CR4: 0.63942308 | CS4: 18.5 | CU4: 2 | CV4: Curran, Kevin | CW4: 145 | CX4: 224 | CY4: 0.64732143 | CZ4: 20.5 | DB4: 2 | DC4: Curran, Kevin | DD4: 155 | DE4: 240 | DF4: 0.64583333 | DG4: 22.5 | DI4: 2 | DJ4: Curran, Kevin | DK4: 166 | DL4: 255 | DM4: 0.65098039 | DN4: 24.5 | DP4: 2 | DQ4: Prothro, John | DR4: 177 | DS4: 271 | DT4: 0.65313653 | DU4: 30.5 | DW4: 2 | DX4: Curran, Kevin | DY4: 182 | DZ4: 277 | EA4: 0.65703971 | EB4: 27.5 | ED4: 2 | EE4: Curran, Kevin | EF4: 185 | EG4: 281 | EH4: 0.65836299 | EI4: 28.5 | EK4: 2 | EL4: Prothro, John | EM4: 186 | EN4: 283 | EO4: 0.65724382 | EP4: 33.5 | ER4: 2 | ES4: Curran, Kevin | ET4: 187 | EU4: 284 | EV4: 0.6584507 | EW4: 29.5
A5: 3-T | B5: Hill, Jim | C5: 10.5 | D5: 16 | E5: 0.65625 | F5: 0.5 | H5: 3 | I5: Curran, Kevin | J5: 20.5 | K5: 32 | L5: 0.640625 | M5: 1.5 | O5: 3-T | P5: Prothro, John | Q5: 28.5 | R5: 48 | S5: 0.59375 | T5: 4.5 | V5: 2-T | W5: Easley, Jordan | X5: 39.5 | Y5: 64 | Z5: 0.6171875 | AA5: 6.5 | AC5: 3 | AD5: Seamands, Byron | AE5: 50.5 | AF5: 80 | AG5: 0.63125 | AH5: 7.5 | AJ5: 3 | AK5: Seamands, Byron | AL5: 57.5 | AM5: 94 | AN5: 0.61170213 | AO5: 8.5 | AQ5: 3-T | AR5: Prothro, John | AS5: 66.5 | AT5: 108 | AU5: 0.61574074 | AV5: 9.5 | AX5: 2-T | AY5: Seamands, Byron | AZ5: 77.5 | BA5: 123 | BB5: 0.6300813 | BC5: 11.5 | BE5: 3 | BF5: Garcia, Omar | BG5: 86.5 | BH5: 136 | BI5: 0.63602941 | BJ5: 14 | BL5: 3 | BM5: Curran, Kevin | BN5: 93.5 | BO5: 150 | BP5: 0.62333333 | BQ5: 10.5 | BS5: 3 | BT5: Seamands, Byron | BU5: 102.5 | BV5: 164 | BW5: 0.625 | BX5: 15.5 | BZ5: 3 | CA5: Seamands, Byron | CB5: 113.5 | CC5: 180 | CD5: 0.63055556 | CE5: 17.5 | CG5: 3 | CH5: Curran, Kevin | CI5: 124 | CJ5: 195 | CK5: 0.63589744 | CL5: 16.5 | CN5: 3 | CO5: Seamands, Byron | CP5: 132 | CQ5: 208 | CR5: 0.63461538 | CS5: 21.5 | CU5: 3 | CV5: Seamands, Byron | CW5: 144 | CX5: 224 | CY5: 0.64285714 | CZ5: 23.5 | DB5: 3 | DC5: Middleton, Jason | DD5: 154 | DE5: 240 | DF5: 0.64166667 | DG5: 24.5 | DI5: 3 | DJ5: Fortner, Glenn | DK5: 166 | DL5: 255 | DM5: 0.65098039 | DN5: 23 | DP5: 3 | DQ5: Fortner, Glenn | DR5: 177 | DS5: 271 | DT5: 0.65313653 | DU5: 25 | DW5: 3 | DX5: Seamands, Byron | DY5: 181 | DZ5: 277 | EA5: 0.6534296 | EB5: 30.5 | ED5: 3 | EE5: Seamands, Byron | EF5: 184 | EG5: 281 | EH5: 0.65480427 | EI5: 31.5 | EK5: 3 | EL5: Seamands, Byron | EM5: 185 | EN5: 283 | EO5: 0.65371025 | EP5: 32.5 | ER5: 3 | ES5: Seamands, Byron | ET5: 186 | EU5: 284 | EV5: 0.65492958 | EW5: 33.5
A6: 3-T | B6: Easley, Jordan | C6: 10.5 | D6: 16 | E6: 0.65625 | F6: 0.5 | H6: 4-T | I6: Prothro, John | J6: 19.5 | K6: 32 | L6: 0.609375 | M6: 3.5 | O6: 3-T | P6: Seamands, Byron | Q6: 28.5 | R6: 48 | S6: 0.59375 | T6: 4.5 | V6: 2-T | W6: Seamands, Byron | X6: 39.5 | Y6: 64 | Z6: 0.6171875 | AA6: 6.5 | AC6: 4 | AD6: Garcia, Omar | AE6: 50.5 | AF6: 80 | AG6: 0.63125 | AH6: 7 | AJ6: 4 | AK6: Garcia, Omar | AL6: 57.5 | AM6: 94 | AN6: 0.61170213 | AO6: 8 | AQ6: 3-T | AR6: Seamands, Byron | AS6: 66.5 | AT6: 108 | AU6: 0.61574074 | AV6: 9.5 | AX6: 4 | AY6: Honeycutt, Wanda | AZ6: 76.5 | BA6: 123 | BB6: 0.62195122 | BC6: 11 | BE6: 4 | BF6: Seamands, Byron | BG6: 86.5 | BH6: 136 | BI6: 0.63602941 | BJ6: 13.5 | BL6: 4 | BM6: Fortner, Glenn | BN6: 93.5 | BO6: 150 | BP6: 0.62333333 | BQ6: 9 | BS6: 4 | BT6: Fortner, Glenn | BU6: 102.5 | BV6: 164 | BW6: 0.625 | BX6: 11 | BZ6: 4 | CA6: Curran, Kevin | CB6: 112.5 | CC6: 180 | CD6: 0.625 | CE6: 14.5 | CG6: 4 | CH6: Fortner, Glenn | CI6: 124 | CJ6: 195 | CK6: 0.63589744 | CL6: 15 | CN6: 4 | CO6: Fortner, Glenn | CP6: 131 | CQ6: 208 | CR6: 0.62980769 | CS6: 17 | CU6: 4 | CV6: Middleton, Jason | CW6: 144 | CX6: 224 | CY6: 0.64285714 | CZ6: 22.5 | DB6: 4 | DC6: Fortner, Glenn | DD6: 154 | DE6: 240 | DF6: 0.64166667 | DG6: 21 | DI6: 4 | DJ6: Honeycutt, Wanda | DK6: 165 | DL6: 255 | DM6: 0.64705882 | DN6: 28 | DP6: 4 | DQ6: Honeycutt, Wanda | DR6: 176 | DS6: 271 | DT6: 0.64944649 | DU6: 30 | DW6: 4 | DX6: Fortner, Glenn | DY6: 181 | DZ6: 277 | EA6: 0.6534296 | EB6: 26 | ED6: 4 | EE6: Fortner, Glenn | EF6: 184 | EG6: 281 | EH6: 0.65480427 | EI6: 27 | EK6: 4 | EL6: Honeycutt, Wanda | EM6: 184 | EN6: 283 | EO6: 0.65017668 | EP6: 32 | ER6: 4 | ES6: Honeycutt, Wanda | ET6: 185 | EU6: 284 | EV6: 0.65140845 | EW6: 33
A7: 3-T | B7: Curran, Kevin | C7: 10.5 | D7: 16 | E7: 0.65625 | F7: 0.5 | H7: 4-T | I7: Seamands, Byron | J7: 19.5 | K7: 32 | L7: 0.609375 | M7: 3.5 | O7: 5 | P7: Greenwood, Douglas | Q7: 28.5 | R7: 48 | S7: 0.59375 | T7: 3.5 | V7: 5-T | W7: Honeycutt, Wanda | X7: 38.5 | Y7: 64 | Z7: 0.6015625 | AA7: 5 | AC7: 5 | AD7: Curran, Taylor | AE7: 49.5 | AF7: 80 | AG7: 0.61875 | AH7: 7 | AJ7: 5 | AK7: Curran, Taylor | AL7: 56.5 | AM7: 94 | AN7: 0.60106383 | AO7: 8 | AQ7: 5 | AR7: Meyer, Austen | AS7: 66.5 | AT7: 108 | AU7: 0.61574074 | AV7: 8 | AX7: 5 | AY7: Fortner, Glenn | AZ7: 76.5 | BA7: 123 | BB7: 0.62195122 | BC7: 7 | BE7: 5 | BF7: McElfish, John | BG7: 85.5 | BH7: 136 | BI7: 0.62867647 | BJ7: 11.5 | BL7: 5 | BM7: Honeycutt, Wanda | BN7: 92.5 | BO7: 150 | BP7: 0.61666667 | BQ7: 14 | BS7: 5 | BT7: Honeycutt, Wanda | BU7: 101.5 | BV7: 164 | BW7: 0.61890244 | BX7: 16 | BZ7: 5 | CA7: Fortner, Glenn | CB7: 112.5 | CC7: 180 | CD7: 0.625 | CE7: 13 | CG7: 5 | CH7: Honeycutt, Wanda | CI7: 123 | CJ7: 195 | CK7: 0.63076923 | CL7: 20 | CN7: 5 | CO7: Honeycutt, Wanda | CP7: 130 | CQ7: 208 | CR7: 0.625 | CS7: 22 | CU7: 5 | CV7: Fortner, Glenn | CW7: 143 | CX7: 224 | CY7: 0.63839286 | CZ7: 19 | DB7: 5 | DC7: Honeycutt, Wanda | DD7: 153 | DE7: 240 | DF7: 0.6375 | DG7: 26 | DI7: 5 | DJ7: Seamands, Byron | DK7: 165 | DL7: 255 | DM7: 0.64705882 | DN7: 27.5 | DP7: 5 | DQ7: Seamands, Byron | DR7: 176 | DS7: 271 | DT7: 0.64944649 | DU7: 29.5 | DW7: 5 | DX7: Honeycutt, Wanda | DY7: 180 | DZ7: 277 | EA7: 0.64981949 | EB7: 31 | ED7: 5 | EE7: Honeycutt, Wanda | EF7: 183 | EG7: 281 | EH7: 0.65124555 | EI7: 32 | EK7: 5 | EL7: Manuel, Greg | EM7: 184 | EN7: 283 | EO7: 0.65017668 | EP7: 28.5 | ER7: 5 | ES7: Fortner, Glenn | ET7: 185 | EU7: 284 | EV7: 0.65140845 | EW7: 28
A8: 6-T | B8: Ardill, Scott | C8: 10.5 | D8: 16 | E8: 0.65625 | F8: 0 | H8: 6-T | I8: Honeycutt, Terry | J8: 19.5 | K8: 32 | L8: 0.609375 | M8: 3 | O8: 6-T | P8: Meyer, Pat | Q8: 28.5 | R8: 48 | S8: 0.59375 | T8: 3 | V8: 5-T | W8: Meyer, Dave | X8: 38.5 | Y8: 64 | Z8: 0.6015625 | AA8: 5 | AC8: 6 | AD8: Ardill, Scott | AE8: 49.5 | AF8: 80 | AG8: 0.61875 | AH8: 5 | AJ8: 6-T | AK8: Ardill, Scott | AL8: 56.5 | AM8: 94 | AN8: 0.60106383 | AO8: 6 | AQ8: 6-T | AR8: Curran, Taylor | AS8: 65.5 | AT8: 108 | AU8: 0.60648148 | AV8: 9 | AX8: 6 | AY8: Greenwood, Douglas | AZ8: 75.5 | BA8: 123 | BB8: 0.61382114 | BC8: 11.5 | BE8: 6 | BF8: Curran, Kevin | BG8: 85.5 | BH8: 136 | BI8: 0.62867647 | BJ8: 9.5 | BL8: 6 | BM8: Seamands, Byron | BN8: 92.5 | BO8: 150 | BP8: 0.61666667 | BQ8: 13.5 | BS8: 6 | BT8: Howard, Bill | BU8: 101.5 | BV8: 164 | BW8: 0.61890244 | BX8: 14 | BZ8: 6 | CA8: Ray, Bobby | CB8: 111.5 | CC8: 180 | CD8: 0.61944444 | CE8: 19 | CG8: 6 | CH8: Howard, Bill | CI8: 123 | CJ8: 195 | CK8: 0.63076923 | CL8: 18 | CN8: 6 | CO8: Middleton, Jason | CP8: 130 | CQ8: 208 | CR8: 0.625 | CS8: 21.5 | CU8: 6 | CV8: Honeycutt, Wanda | CW8: 142 | CX8: 224 | CY8: 0.63392857 | CZ8: 24 | DB8: 6 | DC8: Seamands, Byron | DD8: 153 | DE8: 240 | DF8: 0.6375 | DG8: 25.5 | DI8: 6 | DJ8: Middleton, Jason | DK8: 164 | DL8: 255 | DM8: 0.64313725 | DN8: 26.5 | DP8: 6 | DQ8: Manuel, Greg | DR8: 175 | DS8: 271 | DT8: 0.64575646 | DU8: 25.5 | DW8: 6 | DX8: Middleton, Jason | DY8: 179 | DZ8: 277 | EA8: 0.64620939 | EB8: 28.5 | ED8: 6 | EE8: Greenwood, Douglas | EF8: 182 | EG8: 281 | EH8: 0.64768683 | EI8: 29.5 | EK8: 6 | EL8: Fortner, Glenn | EM8: 184 | EN8: 283 | EO8: 0.65017668 | EP8: 27 | ER8: 6 | ES8: Manuel, Greg | ET8: 184 | EU8: 284 | EV8: 0.64788732 | EW8: 28.5
A9: 6-T | B9: Meyer, Pat | C9: 10.5 | D9: 16 | E9: 0.65625 | F9: 0 | H9: 6-T | I9: Honeycutt, Wanda | J9: 19.5 | K9: 32 | L9: 0.609375 | M9: 3 | O9: 6-T | P9: Curran, Taylor | Q9: 28.5 | R9: 48 | S9: 0.59375 | T9: 3 | V9: 5-T | W9: Garcia, Omar | X9: 38.5 | Y9: 64 | Z9: 0.6015625 | AA9: 5 | AC9: 7 | AD9: Curran, Kevin | AE9: 49.5 | AF9: 80 | AG9: 0.61875 | AH9: 4.5 | AJ9: 6-T | AK9: Meyer, Austen | AL9: 56.5 | AM9: 94 | AN9: 0.60106383 | AO9: 6 | AQ9: 6-T | AR9: Honeycutt, Wanda | AS9: 65.5 | AT9: 108 | AU9: 0.60648148 | AV9: 9 | AX9: 7 | AY9: John, Thunder | AZ9: 75.5 | BA9: 123 | BB9: 0.61382114 | BC9: 11 | BE9: 7 | BF9: Fortner, Glenn | BG9: 85.5 | BH9: 136 | BI9: 0.62867647 | BJ9: 8 | BL9: 7-T | BM9: Smith, Brad | BN9: 90.5 | BO9: 150 | BP9: 0.60333333 | BQ9: 13 | BS9: 7 | BT9: Curran, Kevin | BU9: 101.5 | BV9: 164 | BW9: 0.61890244 | BX9: 12.5 | BZ9: 7 | CA9: Honeycutt, Wanda | CB9: 111.5 | CC9: 180 | CD9: 0.61944444 | CE9: 18 | CG9: 7 | CH9: Manuel, Greg | CI9: 123 | CJ9: 195 | CK9: 0.63076923 | CL9: 17.5 | CN9: 7 | CO9: Howard, Bill | CP9: 130 | CQ9: 208 | CR9: 0.625 | CS9: 20 | CU9: 7 | CV9: Manuel, Greg | CW9: 142 | CX9: 224 | CY9: 0.63392857 | CZ9: 21.5 | DB9: 7 | DC9: Alsobrook, Luke | DD9: 152 | DE9: 240 | DF9: 0.63333333 | DG9: 23 | DI9: 7 | DJ9: Manuel, Greg | DK9: 164 | DL9: 255 | DM9: 0.64313725 | DN9: 24.5 | DP9: 7 | DQ9: Middleton, Jason | DR9: 174 | DS9: 271 | DT9: 0.64206642 | DU9: 27.5 | DW9: 7 | DX9: Manuel, Greg | DY9: 179 | DZ9: 277 | EA9: 0.64620939 | EB9: 26.5 | ED9: 7 | EE9: Manuel, Greg | EF9: 182 | EG9: 281 | EH9: 0.64768683 | EI9: 27.5 | EK9: 7 | EL9: Greenwood, Douglas | EM9: 183 | EN9: 283 | EO9: 0.64664311 | EP9: 30.5 | ER9: 7 | ES9: Alsobrook, Luke | ET9: 183 | EU9: 284 | EV9: 0.6443662 | EW9: 31
A10: 8-T | B10: Folmar, James | C10: 9.5 | D10: 16 | E10: 0.59375 | F10: 2 | H10: 6-T | I10: Seamands, Mike | J10: 19.5 | K10: 32 | L10: 0.609375 | M10: 3 | O10: 8 | P10: Skipper, Eric | Q10: 27.5 | R10: 48 | S10: 0.57291667 | T10: 4 | V10: 8-T | W10: Seamands, Mike | X10: 38.5 | Y10: 64 | Z10: 0.6015625 | AA10: 4 | AC10: 8 | AD10: Easley, Jordan | AE10: 48.5 | AF10: 80 | AG10: 0.60625 | AH10: 8.5 | AJ10: 8 | AK10: Honeycutt, Wanda | AL10: 55.5 | AM10: 94 | AN10: 0.59042553 | AO10: 8 | AQ10: 8 | AR10: Curran, Kevin | AS10: 65.5 | AT10: 108 | AU10: 0.60648148 | AV10: 6.5 | AX10: 8 | AY10: Smith, Brad | AZ10: 75.5 | BA10: 123 | BB10: 0.61382114 | BC10: 10 | BE10: 8 | BF10: Smith, Brad | BG10: 84.5 | BH10: 136 | BI10: 0.62132353 | BJ10: 12 | BL10: 7-T | BM10: John, Thunder | BN10: 90.5 | BO10: 150 | BP10: 0.60333333 | BQ10: 13 | BS10: 8-T | BT10: McElfish, John | BU10: 100.5 | BV10: 164 | BW10: 0.61280488 | BX10: 13.5 | BZ10: 8 | CA10: Howard, Bill | CB10: 111.5 | CC10: 180 | CD10: 0.61944444 | CE10: 16 | CG10: 8 | CH10: Ray, Bobby | CI10: 122 | CJ10: 195 | CK10: 0.62564103 | CL10: 21 | CN10: 8 | CO10: Manuel, Greg | CP10: 130 | CQ10: 208 | CR10: 0.625 | CS10: 19.5 | CU10: 8 | CV10: Seamands, Mike | CW10: 142 | CX10: 224 | CY10: 0.63392857 | CZ10: 19 | DB10: 8 | DC10: Manuel, Greg | DD10: 152 | DE10: 240 | DF10: 0.63333333 | DG10: 22.5 | DI10: 8 | DJ10: Young, Michael | DK10: 162 | DL10: 255 | DM10: 0.63529412 | DN10: 27 | DP10: 8 | DQ10: Young, Michael | DR10: 173 | DS10: 271 | DT10: 0.63837638 | DU10: 29 | DW10: 8 | DX10: Greenwood, Douglas | DY10: 178 | DZ10: 277 | EA10: 0.64259928 | EB10: 28.5 | ED10: 8 | EE10: Middleton, Jason | EF10: 180 | EG10: 281 | EH10: 0.6405694 | EI10: 29.5 | EK10: 8 | EL10: Alsobrook, Luke | EM10: 182 | EN10: 283 | EO10: 0.64310954 | EP10: 30 | ER10: 8 | ES10: Greenwood, Douglas | ET10: 183 | EU10: 284 | EV10: 0.6443662 | EW10: 30.5
A11: 8-T | B11: Hyde, Todd | C11: 9.5 | D11: 16 | E11: 0.59375 | F11: 2 | H11: 6-T | I11: Skipper, Eric | J11: 19.5 | K11: 32 | L11: 0.609375 | M11: 3 | O11: 9-T | P11: Honeycutt, Terry | Q11: 27.5 | R11: 48 | S11: 0.57291667 | T11: 3 | V11: 8-T | W11: Meyer, Austen | X11: 38.5 | Y11: 64 | Z11: 0.6015625 | AA11: 4 | AC11: 9 | AD11: Honeycutt, Wanda | AE11: 48.5 | AF11: 80 | AG11: 0.60625 | AH11: 7 | AJ11: 9-T | AK11: Curran, Kevin | AL11: 55.5 | AM11: 94 | AN11: 0.59042553 | AO11: 6.5 | AQ11: 9-T | AR11: Meyer, Pat | AS11: 64.5 | AT11: 108 | AU11: 0.59722222 | AV11: 8 | AX11: 9 | AY11: McElfish, John | AZ11: 75.5 | BA11: 123 | BB11: 0.61382114 | BC11: 9.5 | BE11: 9 | BF11: Manuel, Greg | BG11: 84.5 | BH11: 136 | BI11: 0.62132353 | BJ11: 10.5 | BL11: 7-T | BM11: Howard, Bill | BN11: 90.5 | BO11: 150 | BP11: 0.60333333 | BQ11: 13 | BS11: 8-T | BT11: Manuel, Greg | BU11: 100.5 | BV11: 164 | BW11: 0.61280488 | BX11: 13.5 | BZ11: 9-T | CA11: Greenwood, Douglas | CB11: 110.5 | CC11: 180 | CD11: 0.61388889 | CE11: 17.5 | CG11: 9 | CH11: Garcia, Omar | CI11: 122 | CJ11: 195 | CK11: 0.62564103 | CL11: 20 | CN11: 9 | CO11: Seamands, Mike | CP11: 130 | CQ11: 208 | CR11: 0.625 | CS11: 17 | CU11: 9 | CV11: Greenwood, Douglas | CW11: 141 | CX11: 224 | CY11: 0.62946429 | CZ11: 23.5 | DB11: 9 | DC11: Greenwood, Douglas | DD11: 151 | DE11: 240 | DF11: 0.62916667 | DG11: 24.5 | DI11: 9 | DJ11: Greenwood, Douglas | DK11: 162 | DL11: 255 | DM11: 0.63529412 | DN11: 25.5 | DP11: 9 | DQ11: Greenwood, Douglas | DR11: 173 | DS11: 271 | DT11: 0.63837638 | DU11: 27.5 | DW11: 9 | DX11: Young, Michael | DY11: 177 | DZ11: 277 | EA11: 0.63898917 | EB11: 30 | ED11: 9 | EE11: Alsobrook, Luke | EF11: 180 | EG11: 281 | EH11: 0.6405694 | EI11: 29 | EK11: 9 | EL11: Middleton, Jason | EM11: 181 | EN11: 283 | EO11: 0.63957597 | EP11: 30.5 | ER11: 9 | ES11: Middleton, Jason | ET11: 182 | EU11: 284 | EV11: 0.64084507 | EW11: 31.5
A12: 10 | B12: McElfish, John | C12: 9.5 | D12: 16 | E12: 0.59375 | F12: 1.5 | H12: 10-T | I12: Meyer, Austen | J12: 19.5 | K12: 32 | L12: 0.609375 | M12: 2 | O12: 9-T | P12: Seamands, Mike | Q12: 27.5 | R12: 48 | S12: 0.57291667 | T12: 3 | V12: 10 | W12: Curran, Kevin | X12: 38.5 | Y12: 64 | Z12: 0.6015625 | AA12: 3.5 | AC12: 10-T | AD12: McElfish, John | AE12: 48.5 | AF12: 80 | AG12: 0.60625 | AH12: 6.5 | AJ12: 9-T | AK12: McElfish, John | AL12: 55.5 | AM12: 94 | AN12: 0.59042553 | AO12: 6.5 | AQ12: 9-T | AR12: Smith, Brad | AS12: 64.5 | AT12: 108 | AU12: 0.59722222 | AV12: 8 | AX12: 10 | AY12: Honeycutt, Terry | AZ12: 75.5 | BA12: 123 | BB12: 0.61382114 | BC12: 9 | BE12: 10 | BF12: Greenwood, Douglas | BG12: 83.5 | BH12: 136 | BI12: 0.61397059 | BJ12: 12.5 | BL12: 10 | BM12: McElfish, John | BN12: 90.5 | BO12: 150 | BP12: 0.60333333 | BQ12: 12.5 | BS12: 10 | BT12: Greenwood, Douglas | BU12: 99.5 | BV12: 164 | BW12: 0.60670732 | BX12: 15.5 | BZ12: 9-T | CA12: Middleton, Jason | CB12: 110.5 | CC12: 180 | CD12: 0.61388889 | CE12: 17.5 | CG12: 10 | CH12: Greenwood, Douglas | CI12: 122 | CJ12: 195 | CK12: 0.62564103 | CL12: 19.5 | CN12: 10 | CO12: Greenwood, Douglas | CP12: 129 | CQ12: 208 | CR12: 0.62019231 | CS12: 21.5 | CU12: 10 | CV12: Ray, Bobby | CW12: 140 | CX12: 224 | CY12: 0.625 | CZ12: 25 | DB12: 10 | DC12: Howard, Bill | DD12: 151 | DE12: 240 | DF12: 0.62916667 | DG12: 23 | DI12: 10-T | DJ12: Alsobrook, Luke | DK12: 162 | DL12: 255 | DM12: 0.63529412 | DN12: 25 | DP12: 10 | DQ12: Alsobrook, Luke | DR12: 173 | DS12: 271 | DT12: 0.63837638 | DU12: 27 | DW12: 10-T | DX12: Alsobrook, Luke | DY12: 177 | DZ12: 277 | EA12: 0.63898917 | EB12: 28 | ED12: 10 | EE12: Skipper, Eric | EF12: 179 | EG12: 281 | EH12: 0.63701068 | EI12: 29 | EK12: 10 | EL12: Young, Michael | EM12: 180 | EN12: 283 | EO12: 0.6360424 | EP12: 32 | ER12: 10 | ES12: Young, Michael | ET12: 181 | EU12: 284 | EV12: 0.63732394 | EW12: 33
A13: 11-T | B13: Honeycutt, Terry | C13: 9.5 | D13: 16 | E13: 0.59375 | F13: 1 | H13: 10-T | I13: Garcia, Omar | J13: 19.5 | K13: 32 | L13: 0.609375 | M13: 2 | O13: 9-T | P13: Meyer, Austen | Q13: 27.5 | R13: 48 | S13: 0.57291667 | T13: 3 | V13: 11 | W13: Ardill, Scott | X13: 38.5 | Y13: 64 | Z13: 0.6015625 | AA13: 3 | AC13: 10-T | AD13: Hill, Jim | AE13: 48.5 | AF13: 80 | AG13: 0.60625 | AH13: 6.5 | AJ13: 11 | AK13: Ray, Bobby | AL13: 54.5 | AM13: 94 | AN13: 0.57978723 | AO13: 10 | AQ13: 11 | AR13: McElfish, John | AS13: 64.5 | AT13: 108 | AU13: 0.59722222 | AV13: 7.5 | AX13: 11 | AY13: Curran, Kevin | AZ13: 75.5 | BA13: 123 | BB13: 0.61382114 | BC13: 8.5 | BE13: 11-T | BF13: John, Thunder | BG13: 83.5 | BH13: 136 | BI13: 0.61397059 | BJ13: 12 | BL13: 11 | BM13: Manuel, Greg | BN13: 90.5 | BO13: 150 | BP13: 0.60333333 | BQ13: 11.5 | BS13: 11 | BT13: Meyer, Pat | BU13: 99.5 | BV13: 164 | BW13: 0.60670732 | BX13: 15 | BZ13: 11 | CA13: Meyer, Pat | CB13: 110.5 | CC13: 180 | CD13: 0.61388889 | CE13: 17 | CG13: 11 | CH13: Meyer, Pat | CI13: 122 | CJ13: 195 | CK13: 0.62564103 | CL13: 19 | CN13: 11 | CO13: Skipper, Eric | CP13: 129 | CQ13: 208 | CR13: 0.62019231 | CS13: 19 | CU13: 11 | CV13: Alsobrook, Luke | CW13: 140 | CX13: 224 | CY13: 0.625 | CZ13: 22 | DB13: 11 | DC13: Seamands, Mike | DD13: 151 | DE13: 240 | DF13: 0.62916667 | DG13: 19 | DI13: 10-T | DJ13: Skipper, Eric | DK13: 162 | DL13: 255 | DM13: 0.63529412 | DN13: 25 | DP13: 11 | DQ13: Ardill, Scott | DR13: 173 | DS13: 271 | DT13: 0.63837638 | DU13: 26 | DW13: 10-T | DX13: Skipper, Eric | DY13: 177 | DZ13: 277 | EA13: 0.63898917 | EB13: 28 | ED13: 11 | EE13: Ardill, Scott | EF13: 179 | EG13: 281 | EH13: 0.63701068 | EI13: 28 | EK13: 11 | EL13: Skipper, Eric | EM13: 180 | EN13: 283 | EO13: 0.6360424 | EP13: 30 | ER13: 11 | ES13: Seamands, Jorden | ET13: 180 | EU13: 284 | EV13: 0.63380282 | EW13: 34.5
A14: 11-T | B14: Honeycutt, Wanda | C14: 9.5 | D14: 16 | E14: 0.59375 | F14: 1 | H14: 12-T | I14: Greenwood, Douglas | J14: 18.5 | K14: 32 | L14: 0.578125 | M14: 3.5 | O14: 9-T | P14: Rapisand, Ryan | Q14: 27.5 | R14: 48 | S14: 0.57291667 | T14: 3 | V14: 12 | W14: Ray, Bobby | X14: 37.5 | Y14: 64 | Z14: 0.5859375 | AA14: 7 | AC14: 12 | AD14: Meyer, Austen | AE14: 48.5 | AF14: 80 | AG14: 0.60625 | AH14: 5 | AJ14: 12 | AK14: Easley, Jordan | AL14: 54.5 | AM14: 94 | AN14: 0.57978723 | AO14: 8.5 | AQ14: 12-T | AR14: Ardill, Scott | AS14: 64.5 | AT14: 108 | AU14: 0.59722222 | AV14: 7 | AX14: 12 | AY14: Ardill, Scott | AZ14: 74.5 | BA14: 123 | BB14: 0.60569106 | BC14: 9 | BE14: 11-T | BF14: Meyer, Pat | BG14: 83.5 | BH14: 136 | BI14: 0.61397059 | BJ14: 12 | BL14: 12 | BM14: Greenwood, Douglas | BN14: 89.5 | BO14: 150 | BP14: 0.59666667 | BQ14: 13.5 | BS14: 12 | BT14: Seamands, Jorden | BU14: 98.5 | BV14: 164 | BW14: 0.60060976 | BX14: 17.5 | BZ14: 12 | CA14: Manuel, Greg | CB14: 110.5 | CC14: 180 | CD14: 0.61388889 | CE14: 15.5 | CG14: 12 | CH14: Skipper, Eric | CI14: 122 | CJ14: 195 | CK14: 0.62564103 | CL14: 17 | CN14: 12 | CO14: Seamands, Jorden | CP14: 128 | CQ14: 208 | CR14: 0.61538462 | CS14: 23.5 | CU14: 12 | CV14: Skipper, Eric | CW14: 140 | CX14: 224 | CY14: 0.625 | CZ14: 21 | DB14: 12 | DC14: Ray, Bobby | DD14: 150 | DE14: 240 | DF14: 0.625 | DG14: 27 | DI14: 10-T | DJ14: Honeycutt, Terry | DK14: 163 | DL14: 255 | DM14: =DK14/DL14 -> 0.63921569 | DN14: 25 | DP14: 12 | DQ14: Skipper, Eric | DR14: 172 | DS14: 271 | DT14: 0.63468635 | DU14: 27 | DW14: 12 | DX14: Ardill, Scott | DY14: 176 | DZ14: 277 | EA14: 0.63537906 | EB14: 27 | ED14: 12 | EE14: Seamands, Mike | EF14: 179 | EG14: 281 | EH14: 0.63701068 | EI14: 24 | EK14: 12 | EL14: Ardill, Scott | EM14: 180 | EN14: 283 | EO14: 0.6360424 | EP14: 29 | ER14: 12 | ES14: Skipper, Eric | ET14: 180 | EU14: 284 | EV14: 0.63380282 | EW14: 30
A15: 11-T | B15: Meyer, Austen | C15: 9.5 | D15: 16 | E15: 0.59375 | F15: 1 | H15: 12-T | I15: Seamands, Jorden | J15: 18.5 | K15: 32 | L15: 0.578125 | M15: 3.5 | O15: 9-T | P15: Meyer, Dave | Q15: 27.5 | R15: 48 | S15: 0.57291667 | T15: 3 | V15: 13-T | W15: McElfish, John | X15: 37.5 | Y15: 64 | Z15: 0.5859375 | AA15: 5.5 | AC15: 13 | AD15: Ray, Bobby | AE15: 47.5 | AF15: 80 | AG15: 0.59375 | AH15: 9 | AJ15: 13 | AK15: Meyer, Pat | AL15: 54.5 | AM15: 94 | AN15: 0.57978723 | AO15: 8 | AQ15: 12-T | AR15: Honeycutt, Terry | AS15: 64.5 | AT15: 108 | AU15: 0.59722222 | AV15: 7 | AX15: 13 | AY15: Ray, Bobby | AZ15: 73.5 | BA15: 123 | BB15: 0.59756098 | BC15: 13 | BE15: 13-T | BF15: Honeycutt, Terry | BG15: 83.5 | BH15: 136 | BI15: 0.61397059 | BJ15: 10 | BL15: 13 | BM15: Meyer, Pat | BN15: 89.5 | BO15: 150 | BP15: 0.59666667 | BQ15: 13 | BS15: 13 | BT15: Middleton, Jason | BU15: 98.5 | BV15: 164 | BW15: 0.60060976 | BX15: 15.5 | BZ15: 13 | CA15: Smith, Brad | CB15: 109.5 | CC15: 180 | CD15: 0.60833333 | CE15: 16 | CG15: 13 | CH15: Middleton, Jason | CI15: 121 | CJ15: 195 | CK15: 0.62051282 | CL15: 19.5 | CN15: 13 | CO15: Ray, Bobby | CP15: 128 | CQ15: 208 | CR15: 0.61538462 | CS15: 23 | CU15: 13 | CV15: Seamands, Jorden | CW15: 139 | CX15: 224 | CY15: 0.62053571 | CZ15: 25.5 | DB15: 13 | DC15: Young, Michael | DD15: 150 | DE15: 240 | DF15: 0.625 | DG15: 25 | DI15: 13 | DJ15: Howard, Bill | DK15: 162 | DL15: 255 | DM15: 0.63529412 | DN15: 24 | DP15: 13 | DQ15: Seamands, Jorden | DR15: 171 | DS15: 271 | DT15: 0.63099631 | DU15: 31.5 | DW15: 13 | DX15: Howard, Bill | DY15: 176 | DZ15: 277 | EA15: 0.63537906 | EB15: 26 | ED15: 13 | EE15: Seamands, Jorden | EF15: 178 | EG15: 281 | EH15: 0.63345196 | EI15: 33.5 | EK15: 13 | EL15: Seamands, Mike | EM15: 180 | EN15: 283 | EO15: 0.6360424 | EP15: 25 | ER15: 13 | ES15: Howard, Bill | ET15: 180 | EU15: 284 | EV15: 0.63380282 | EW15: 29, 17-12-9
A16: 11-T | B16: Vance, Jeremy | C16: 9.5 | D16: 16 | E16: 0.59375 | F16: 1 | H16: 14-T | I16: Fortner, Glenn | J16: 18.5 | K16: 32 | L16: 0.578125 | M16: 3 | O16: 9-T | P16: Howard, Bill | Q16: 27.5 | R16: 48 | S16: 0.57291667 | T16: 3 | V16: 13-T | W16: Greenwood, Douglas | X16: 37.5 | Y16: 64 | Z16: 0.5859375 | AA16: 5.5 | AC16: 14 | AD16: Skipper, Eric | AE16: 47.5 | AF16: 80 | AG16: 0.59375 | AH16: 8 | AJ16: 14-T | AK16: Smith, Brad | AL16: 54.5 | AM16: 94 | AN16: 0.57978723 | AO16: 7 | AQ16: 14 | AR16: Ray, Bobby | AS16: 63.5 | AT16: 108 | AU16: 0.58796296 | AV16: 11 | AX16: 14 | AY16: Curran, Taylor | AZ16: 73.5 | BA16: 123 | BB16: 0.59756098 | BC16: 11 | BE16: 13-T | BF16: Ardill, Scott | BG16: 83.5 | BH16: 136 | BI16: 0.61397059 | BJ16: 10 | BL16: 14 | BM16: Seamands, Jorden | BN16: 88.5 | BO16: 150 | BP16: 0.59 | BQ16: 15.5 | BS16: 14 | BT16: John, Thunder | BU16: 98.5 | BV16: 164 | BW16: 0.60060976 | BX16: 15 | BZ16: 14 | CA16: Skipper, Eric | CB16: 109.5 | CC16: 180 | CD16: 0.60833333 | CE16: 15 | CG16: 14 | CH16: Honeycutt, Terry | CI16: 121 | CJ16: 195 | CK16: 0.62051282 | CL16: 17 | CN16: 14 | CO16: Garcia, Omar | CP16: 128 | CQ16: 208 | CR16: 0.61538462 | CS16: 22 | CU16: 14 | CV16: Howard, Bill | CW16: 139 | CX16: 224 | CY16: 0.62053571 | CZ16: 22 | DB16: 14-T | DC16: Skipper, Eric | DD16: 150 | DE16: 240 | DF16: 0.625 | DG16: 23 | DI16: 14 | DJ16: Ardill, Scott | DK16: 161 | DL16: 255 | DM16: 0.63137255 | DN16: 25 | DP16: 14 | DQ16: Honeycutt, Terry | DR16: 171 | DS16: 271 | DT16: 0.63099631 | DU16: 27 | DW16: 14 | DX16: Seamands, Jorden | DY16: 175 | DZ16: 277 | EA16: 0.63176895 | EB16: 32.5 | ED16: 14 | EE16: Young, Michael | EF16: 178 | EG16: 281 | EH16: 0.63345196 | EI16: 31 | EK16: 14 | EL16: Seamands, Jorden | EM16: 179 | EN16: 283 | EO16: 0.63250883 | EP16: 34.5 | ER16: 14 | ES16: Honeycutt, Terry | ET16: 180 | EU16: 284 | EV16: 0.63380282 | EW16: 29, 16-14-8
A17: 11-T | B17: Rushing, Luke | C17: 9.5 | D17: 16 | E17: 0.59375 | F17: 1 | H17: 14-T | I17: Hyde, Todd | J17: 18.5 | K17: 32 | L17: 0.578125 | M17: 3 | O17: 15 | P17: Curran, Kevin | Q17: 27.5 | R17: 48 | S17: 0.57291667 | T17: 1.5 | V17: 15-T | W17: Meyer, Pat | X17: 37.5 | Y17: 64 | Z17: 0.5859375 | AA17: 5 | AC17: 15 | AD17: Greenwood, Douglas | AE17: 47.5 | AF17: 80 | AG17: 0.59375 | AH17: 7.5 | AJ17: 14-T | AK17: Howard, Bill | AL17: 54.5 | AM17: 94 | AN17: 0.57978723 | AO17: 7 | AQ17: 15 | AR17: Skipper, Eric | AS17: 63.5 | AT17: 108 | AU17: 0.58796296 | AV17: 10 | AX17: 15 | AY17: Middleton, Jason | AZ17: 73.5 | BA17: 123 | BB17: 0.59756098 | BC17: 10.5 | BE17: 15 | BF17: Seamands, Jorden | BG17: 82.5 | BH17: 136 | BI17: 0.60661765 | BJ17: 14.5 | BL17: 15 | BM17: Middleton, Jason | BN17: 88.5 | BO17: 150 | BP17: 0.59 | BQ17: 13.5 | BS17: 15 | BT17: Smith, Brad | BU17: 98.5 | BV17: 164 | BW17: 0.60060976 | BX17: 14 | BZ17: 15 | CA17: Seamands, Jorden | CB17: 108.5 | CC17: 180 | CD17: 0.60277778 | CE17: 19.5 | CG17: 15 | CH17: Seamands, Jorden | CI17: 120 | CJ17: 195 | CK17: 0.61538462 | CL17: 21.5 | CN17: 15 | CO17: Meyer, Pat | CP17: 128 | CQ17: 208 | CR17: 0.61538462 | CS17: 21 | CU17: 15 | CV17: Ardill, Scott | CW17: 139 | CX17: 224 | CY17: 0.62053571 | CZ17: 21 | DB17: 14-T | DC17: Ardill, Scott | DD17: 150 | DE17: 240 | DF17: 0.625 | DG17: 23 | DI17: 15 | DJ17: Seamands, Mike | DK17: 161 | DL17: 255 | DM17: 0.63137255 | DN17: 21 | DP17: 15 | DQ17: Howard, Bill | DR17: 171 | DS17: 271 | DT17: 0.63099631 | DU17: 25 | DW17: 15 | DX17: Honeycutt, Terry | DY17: 175 | DZ17: 277 | EA17: 0.63176895 | EB17: 28 | ED17: 15 | EE17: Honeycutt, Terry | EF17: 179 | EG17: 281 | EH17: 0.63701068 | EI17: 29 | EK17: 15 | EL17: Honeycutt, Terry | EM17: 179 | EN17: 283 | EO17: 0.63250883 | EP17: 29 | ER17: 15 | ES17: Ardill, Scott | ET17: 180 | EU17: 284 | EV17: 0.63380282 | EW17: 29, 10-17-11
A18: 16 | B18: Manzala, Jeremy | C18: 9.5 | D18: 16 | E18: 0.59375 | F18: 0.5 | H18: 16-T | I18: Curran, Taylor | J18: 18.5 | K18: 32 | L18: 0.578125 | M18: 2 | O18: 16 | P18: Ray, Bobby | Q18: 26.5 | R18: 48 | S18: 0.55208333 | T18: 5 | V18: 15-T | W18: Curran, Taylor | X18: 37.5 | Y18: 64 | Z18: 0.5859375 | AA18: 5 | AC18: 16-T | AD18: Meyer, Pat | AE18: 47.5 | AF18: 80 | AG18: 0.59375 | AH18: 7 | AJ18: 16 | AK18: Honeycutt, Terry | AL18: 54.5 | AM18: 94 | AN18: 0.57978723 | AO18: 6 | AQ18: 16 | AR18: Easley, Jordan | AS18: 63.5 | AT18: 108 | AU18: 0.58796296 | AV18: 9.5 | AX18: 16-T | AY18: Meyer, Austen | AZ18: 73.5 | BA18: 123 | BB18: 0.59756098 | BC18: 10 | BE18: 16-T | BF18: Howard, Bill | BG18: 82.5 | BH18: 136 | BI18: 0.60661765 | BJ18: 12 | BL18: 16-T | BM18: Honeycutt, Terry | BN18: 88.5 | BO18: 150 | BP18: 0.59 | BQ18: 11 | BS18: 16 | BT18: White, Shawn | BU18: 98.5 | BV18: 164 | BW18: 0.60060976 | BX18: 13.5 | BZ18: 16 | CA18: John, Thunder | CB18: 108.5 | CC18: 180 | CD18: 0.60277778 | CE18: 17 | CG18: 16 | CH18: Alsobrook, Luke | CI18: 120 | CJ18: 195 | CK18: 0.61538462 | CL18: 20 | CN18: 16 | CO18: Young, Michael | CP18: 127 | CQ18: 208 | CR18: 0.61057692 | CS18: 22 | CU18: 16 | CV18: McElfish, John | CW18: 139 | CX18: 224 | CY18: 0.62053571 | CZ18: 20.5 | DB18: 14-T | DC18: Honeycutt, Terry | DD18: 151 | DE18: 240 | DF18: 0.62916667 | DG18: 23 | DI18: 16 | DJ18: Seamands, Jorden | DK18: 159 | DL18: 255 | DM18: 0.62352941 | DN18: 29.5 | DP18: 16 | DQ18: Seamands, Mike | DR18: 170 | DS18: 271 | DT18: 0.62730627 | DU18: 22 | DW18: 16 | DX18: Seamands, Mike | DY18: 175 | DZ18: 277 | EA18: 0.63176895 | EB18: 23 | ED18: 16 | EE18: Howard, Bill | EF18: 178 | EG18: 281 | EH18: 0.63345196 | EI18: 27 | EK18: 16 | EL18: Howard, Bill | EM18: 179 | EN18: 283 | EO18: 0.63250883 | EP18: 28 | ER18: 16 | ES18: Seamands, Mike | ET18: 180 | EU18: 284 | EV18: 0.63380282 | EW18: 25
A19: 17 | B19: Harper, Kenneth | C19: 9.5 | D19: 16 | E19: 0.59375 | F19: 0 | H19: 16-T | I19: Rapisand, Ryan | J19: 18.5 | K19: 32 | L19: 0.578125 | M19: 2 | O19: 17 | P19: McElfish, John | Q19: 26.5 | R19: 48 | S19: 0.55208333 | T19: 4.5 | V19: 15-T | W19: Honeycutt, Terry | X19: 37.5 | Y19: 64 | Z19: 0.5859375 | AA19: 5 | AC19: 16-T | AD19: John, Thunder | AE19: 47.5 | AF19: 80 | AG19: 0.59375 | AH19: 7 | AJ19: 17 | AK19: Skipper, Eric | AL19: 53.5 | AM19: 94 | AN19: 0.56914894 | AO19: 9 | AQ19: 17 | AR19: John, Thunder | AS19: 63.5 | AT19: 108 | AU19: 0.58796296 | AV19: 9 | AX19: 16-T | AY19: Meyer, Pat | AZ19: 73.5 | BA19: 123 | BB19: 0.59756098 | BC19: 10 | BE19: 16-T | BF19: Curran, Taylor | BG19: 82.5 | BH19: 136 | BI19: 0.60661765 | BJ19: 12 | BL19: 16-T | BM19: Ardill, Scott | BN19: 88.5 | BO19: 150 | BP19: 0.59 | BQ19: 11 | BS19: 17 | BT19: Ray, Bobby | BU19: 97.5 | BV19: 164 | BW19: 0.5945122 | BX19: 17 | BZ19: 17 | CA19: McElfish, John | CB19: 108.5 | CC19: 180 | CD19: 0.60277778 | CE19: 15.5 | CG19: 17 | CH19: Smith, Brad | CI19: 120 | CJ19: 195 | CK19: 0.61538462 | CL19: 18 | CN19: 17 | CO19: Smith, Brad | CP19: 127 | CQ19: 208 | CR19: 0.61057692 | CS19: 20 | CU19: 17 | CV19: Garcia, Omar | CW19: 138 | CX19: 224 | CY19: 0.61607143 | CZ19: 24 | DB19: 17 | DC19: Seamands, Jorden | DD19: 148 | DE19: 240 | DF19: 0.61666667 | DG19: 27.5 | DI19: 17 | DJ19: Ray, Bobby | DK19: 159 | DL19: 255 | DM19: 0.62352941 | DN19: 29 | DP19: 17 | DQ19: Ray, Bobby | DR19: 169 | DS19: 271 | DT19: 0.62361624 | DU19: 29 | DW19: 17 | DX19: Ray, Bobby | DY19: 174 | DZ19: 277 | EA19: 0.62815884 | EB19: 30 | ED19: 17 | EE19: Ray, Bobby | EF19: 177 | EG19: 281 | EH19: 0.62989324 | EI19: 31 | EK19: 17-T | EL19: Ray, Bobby | EM19: 177 | EN19: 283 | EO19: 0.6254417 | EP19: 31 | ER19: 17 | ES19: Seamands, Natalie | ET19: 178 | EU19: 284 | EV19: 0.62676056 | EW19: 27.5
A20: 18-T | B20: Greenwood, Douglas | C20: 8.5 | D20: 16 | E20: 0.53125 | F20: 1.5 | H20: 16-T | I20: Southerland, Brett | J20: 18.5 | K20: 32 | L20: 0.578125 | M20: 2 | O20: 18-T | P20: Honeycutt, Wanda | Q20: 26.5 | R20: 48 | S20: 0.55208333 | T20: 4 | V20: 15-T | W20: John, Thunder | X20: 37.5 | Y20: 64 | Z20: 0.5859375 | AA20: 5 | AC20: 18 | AD20: Smith, Brad | AE20: 47.5 | AF20: 80 | AG20: 0.59375 | AH20: 6 | AJ20: 18 | AK20: Greenwood, Douglas | AL20: 53.5 | AM20: 94 | AN20: 0.56914894 | AO20: 8.5 | AQ20: 18 | AR20: Howard, Bill | AS20: 63.5 | AT20: 108 | AU20: 0.58796296 | AV20: 8 | AX20: 16-T | AY20: Howard, Bill | AZ20: 73.5 | BA20: 123 | BB20: 0.59756098 | BC20: 10 | BE20: 18 | BF20: Meyer, Austen | BG20: 82.5 | BH20: 136 | BI20: 0.60661765 | BJ20: 11 | BL20: 18 | BM20: Ray, Bobby | BN20: 87.5 | BO20: 150 | BP20: 0.58333333 | BQ20: 15 | BS20: 18 | BT20: Hill, Jim | BU20: 97.5 | BV20: 164 | BW20: 0.5945122 | BX20: 15.5 | BZ20: 18 | CA20: Alsobrook, Luke | CB20: 107.5 | CC20: 180 | CD20: 0.59722222 | CE20: 18 | CG20: 18 | CH20: Seamands, Mike | CI20: 120 | CJ20: 195 | CK20: 0.61538462 | CL20: 16 | CN20: 18 | CO20: Alsobrook, Luke | CP20: 126 | CQ20: 208 | CR20: 0.60576923 | CS20: 21 | CU20: 18 | CV20: Honeycutt, Terry | CW20: 139 | CX20: 224 | CY20: 0.62053571 | CZ20: 21 | DB20: 18 | DC20: Garcia, Omar | DD20: 148 | DE20: 240 | DF20: 0.61666667 | DG20: 25 | DI20: 18 | DJ20: Smith, Brad | DK20: 159 | DL20: 255 | DM20: 0.62352941 | DN20: 25 | DP20: 18 | DQ20: Clarke, Benjamin | DR20: 168 | DS20: 271 | DT20: 0.6199262 | DU20: 31 | DW20: 18 | DX20: Clarke, Benjamin | DY20: 173 | DZ20: 277 | EA20: 0.62454874 | EB20: 32 | ED20: 18 | EE20: Meyer, Pat | EF20: 176 | EG20: 281 | EH20: 0.62633452 | EI20: 30 | EK20: 17-T | EL20: Meyer, Pat | EM20: 177 | EN20: 283 | EO20: 0.6254417 | EP20: 31 | ER20: 18 | ES20: Meyer, Pat | ET20: 177 | EU20: 284 | EV20: 0.62323944 | EW20: 31, 7-6-6
A21: 18-T | B21: Himes, Randall | C21: 8.5 | D21: 16 | E21: 0.53125 | F21: 1.5 | H21: 16-T | I21: Meyer, Brennan | J21: 18.5 | K21: 32 | L21: 0.578125 | M21: 2 | O21: 18-T | P21: Smith, Brad | Q21: 26.5 | R21: 48 | S21: 0.55208333 | T21: 4 | V21: 19 | W21: Hill, Jim | X21: 37.5 | Y21: 64 | Z21: 0.5859375 | AA21: 4.5 | AC21: 19 | AD21: Seamands, Jorden | AE21: 46.5 | AF21: 80 | AG21: 0.58125 | AH21: 8.5 | AJ21: 19-T | AK21: Hill, Jim | AL21: 53.5 | AM21: 94 | AN21: 0.56914894 | AO21: 7.5 | AQ21: 19 | AR21: Seamands, Jorden | AS21: 62.5 | AT21: 108 | AU21: 0.5787037 | AV21: 10.5 | AX21: 19 | AY21: Manuel, Greg | AZ21: 73.5 | BA21: 123 | BB21: 0.59756098 | BC21: 9.5 | BE21: 19 | BF21: Ray, Bobby | BG21: 81.5 | BH21: 136 | BI21: 0.59926471 | BJ21: 14 | BL21: 19-T | BM21: Vance, Jeremy | BN21: 87.5 | BO21: 150 | BP21: 0.58333333 | BQ21: 13 | BS21: 19 | BT21: Vance, Jeremy | BU21: 97.5 | BV21: 164 | BW21: 0.5945122 | BX21: 15 | BZ21: 19 | CA21: Sloan, Kenneth | CB21: 107.5 | CC21: 180 | CD21: 0.59722222 | CE21: 16 | CG21: 19 | CH21: McElfish, John | CI21: 119 | CJ21: 195 | CK21: 0.61025641 | CL21: 17.5 | CN21: 19 | CO21: McElfish, John | CP21: 126 | CQ21: 208 | CR21: 0.60576923 | CS21: 19.5 | CU21: 19 | CV21: Young, Michael | CW21: 137 | CX21: 224 | CY21: 0.61160714 | CZ21: 23 | DB21: 19 | DC21: Smith, Brad | DD21: 147 | DE21: 240 | DF21: 0.6125 | DG21: 23 | DI21: 19 | DJ21: McElfish, John | DK21: 159 | DL21: 255 | DM21: 0.62352941 | DN21: 24.5 | DP21: 19 | DQ21: Meyer, Pat | DR21: 168 | DS21: 271 | DT21: 0.6199262 | DU21: 28 | DW21: 19 | DX21: Meyer, Pat | DY21: 173 | DZ21: 277 | EA21: 0.62454874 | EB21: 29 | ED21: 19 | EE21: Clarke, Benjamin | EF21: 175 | EG21: 281 | EH21: 0.6227758 | EI21: 33 | EK21: 19 | EL21: Seamands, Natalie | EM21: 177 | EN21: 283 | EO21: 0.6254417 | EP21: 27.5 | ER21: 19 | ES21: Ray, Bobby | ET21: 177 | EU21: 284 | EV21: 0.62323944 | EW21: 31, 6-7-6
A22: 18-T | B22: Prothro, John | C22: 8.5 | D22: 16 | E22: 0.53125 | F22: 1.5 | H22: 20 | I22: Baze, Drew | J22: 18.5 | K22: 32 | L22: 0.578125 | M22: 1.5 | O22: 20 | P22: Garcia, Omar | Q22: 26.5 | R22: 48 | S22: 0.55208333 | T22: 3 | V22: 20-T | W22: Seamands, Jorden | X22: 36.5 | Y22: 64 | Z22: 0.5703125 | AA22: 6.5 | AC22: 20 | AD22: Alsobrook, Luke | AE22: 46.5 | AF22: 80 | AG22: 0.58125 | AH22: 8 | AJ22: 19-T | AK22: Middleton, Jason | AL22: 53.5 | AM22: 94 | AN22: 0.56914894 | AO22: 7.5 | AQ22: 20-T | AR22: Greenwood, Douglas | AS22: 62.5 | AT22: 108 | AU22: 0.5787037 | AV22: 9.5 | AX22: 20 | AY22: Hernandez, Ismael | AZ22: 73.5 | BA22: 123 | BB22: 0.59756098 | BC22: 9 | BE22: 20-T | BF22: Seamands, Mike | BG22: 81.5 | BH22: 136 | BI22: 0.59926471 | BJ22: 11 | BL22: 19-T | BM22: Hernandez, Ismael | BN22: 87.5 | BO22: 150 | BP22: 0.58333333 | BQ22: 13 | BS22: 20 | BT22: Southerland, Brett | BU22: 97.5 | BV22: 164 | BW22: 0.5945122 | BX22: 14 | BZ22: 20 | CA22: White, Shawn | CB22: 107.5 | CC22: 180 | CD22: 0.59722222 | CE22: 15.5 | CG22: 20-T | CH22: Sloan, Kenneth | CI22: 119 | CJ22: 195 | CK22: 0.61025641 | CL22: 17 | CN22: 20 | CO22: Honeycutt, Terry | CP22: 127 | CQ22: 208 | CR22: 0.61057692 | CS22: 19 | CU22: 20 | CV22: Meyer, Pat | CW22: 137 | CX22: 224 | CY22: 0.61160714 | CZ22: 22 | DB22: 20 | DC22: McElfish, John | DD22: 147 | DE22: 240 | DF22: 0.6125 | DG22: 22.5 | DI22: 20 | DJ22: Garcia, Omar | DK22: 158 | DL22: 255 | DM22: 0.61960784 | DN22: 27 | DP22: 20 | DQ22: Smith, Brad | DR22: 168 | DS22: 271 | DT22: 0.6199262 | DU22: 27 | DW22: 20 | DX22: Smith, Brad | DY22: 173 | DZ22: 277 | EA22: 0.62454874 | EB22: 28 | ED22: 20 | EE22: Hyde, Todd | EF22: 175 | EG22: 281 | EH22: 0.6227758 | EI22: 31 | EK22: 20 | EL22: Hyde, Todd | EM22: 176 | EN22: 283 | EO22: 0.62190813 | EP22: 32 | ER22: 20 | ES22: McElfish, John | ET22: 177 | EU22: 284 | EV22: 0.62323944 | EW22: 30.5
A23: 18-T | B23: Seamands, Byron | C23: 8.5 | D23: 16 | E23: 0.53125 | F23: 1.5 | H23: 21-T | I23: Ardill, Scott | J23: 18.5 | K23: 32 | L23: 0.578125 | M23: 1 | O23: 21 | P23: Hill, Jim | Q23: 26.5 | R23: 48 | S23: 0.55208333 | T23: 2.5 | V23: 20-T | W23: Middleton, Jason | X23: 36.5 | Y23: 64 | Z23: 0.5703125 | AA23: 6.5 | AC23: 21 | AD23: Middleton, Jason | AE23: 46.5 | AF23: 80 | AG23: 0.58125 | AH23: 7.5 | AJ23: 21-T | AK23: John, Thunder | AL23: 53.5 | AM23: 94 | AN23: 0.56914894 | AO23: 7 | AQ23: 20-T | AR23: Middleton, Jason | AS23: 62.5 | AT23: 108 | AU23: 0.5787037 | AV23: 9.5 | AX23: 21 | AY23: Seamands, Jorden | AZ23: 72.5 | BA23: 123 | BB23: 0.58943089 | BC23: 12.5 | BE23: 20-T | BF23: Vance, Jeremy | BG23: 81.5 | BH23: 136 | BI23: 0.59926471 | BJ23: 11 | BL23: 21 | BM23: Curran, Taylor | BN23: 87.5 | BO23: 150 | BP23: 0.58333333 | BQ23: 12 | BS23: 21-T | BT23: Honeycutt, Terry | BU23: 97.5 | BV23: 164 | BW23: 0.5945122 | BX23: 13 | BZ23: 21-T | CA23: Honeycutt, Terry | CB23: 107.5 | CC23: 180 | CD23: 0.59722222 | CE23: 15 | CG23: 20-T | CH23: Ardill, Scott | CI23: 119 | CJ23: 195 | CK23: 0.61025641 | CL23: 17 | CN23: 21 | CO23: John, Thunder | CP23: 125 | CQ23: 208 | CR23: 0.60096154 | CS23: 21 | CU23: 21 | CV23: Smith, Brad | CW23: 136 | CX23: 224 | CY23: 0.60714286 | CZ23: 22 | DB23: 21 | DC23: Meyer, Pat | DD23: 146 | DE23: 240 | DF23: 0.60833333 | DG23: 24 | DI23: 21 | DJ23: Clarke, Benjamin | DK23: 157 | DL23: 255 | DM23: 0.61568627 | DN23: 29 | DP23: 21 | DQ23: Hyde, Todd | DR23: 167 | DS23: 271 | DT23: 0.61623616 | DU23: 29 | DW23: 21 | DX23: McElfish, John | DY23: 172 | DZ23: 277 | EA23: 0.62093863 | EB23: 27.5 | ED23: 21 | EE23: McElfish, John | EF23: 175 | EG23: 281 | EH23: 0.6227758 | EI23: 28.5 | EK23: 21 | EL23: McElfish, John | EM23: 176 | EN23: 283 | EO23: 0.62190813 | EP23: 29.5 | ER23: 21 | ES23: Hyde, Todd | ET23: 176 | EU23: 284 | EV23: 0.61971831 | EW23: 32
A24: 18-T | B24: Seamands, Jorden | C24: 8.5 | D24: 16 | E24: 0.53125 | F24: 1.5 | H24: 21-T | I24: Meyer, Dave | J24: 18.5 | K24: 32 | L24: 0.578125 | M24: 1 | O24: 22 | P24: Ardill, Scott | Q24: 26.5 | R24: 48 | S24: 0.55208333 | T24: 1 | V24: 22-T | W24: Alsobrook, Luke | X24: 36.5 | Y24: 64 | Z24: 0.5703125 | AA24: 6 | AC24: 22 | AD24: Meyer, Dave | AE24: 46.5 | AF24: 80 | AG24: 0.58125 | AH24: 7 | AJ24: 21-T | AK24: Conklin, Don | AL24: 53.5 | AM24: 94 | AN24: 0.56914894 | AO24: 7 | AQ24: 22 | AR24: Rapisand, Ryan | AS24: 62.5 | AT24: 108 | AU24: 0.5787037 | AV24: 9 | AX24: 22 | AY24: Hill, Jim | AZ24: 71.5 | BA24: 123 | BB24: 0.58130081 | BC24: 11.5 | BE24: 22 | BF24: Alsobrook, Luke | BG24: 80.5 | BH24: 136 | BI24: 0.59191176 | BJ24: 13 | BL24: 22 | BM24: Seamands, Mike | BN24: 87.5 | BO24: 150 | BP24: 0.58333333 | BQ24: 11 | BS24: 21-T | BT24: Ardill, Scott | BU24: 97.5 | BV24: 164 | BW24: 0.5945122 | BX24: 13 | BZ24: 21-T | CA24: Ardill, Scott | CB24: 107.5 | CC24: 180 | CD24: 0.59722222 | CE24: 15 | CG24: 22 | CH24: Young, Michael | CI24: 118 | CJ24: 195 | CK24: 0.60512821 | CL24: 20 | CN24: 22-T | CO24: Ardill, Scott | CP24: 125 | CQ24: 208 | CR24: 0.60096154 | CS24: 19 | CU24: 22 | CV24: Seamands, Natalie | CW24: 136 | CX24: 224 | CY24: 0.60714286 | CZ24: 20.5 | DB24: 22 | DC24: Clarke, Benjamin | DD24: 145 | DE24: 240 | DF24: 0.60416667 | DG24: 27 | DI24: 22 | DJ24: Meyer, Pat | DK24: 157 | DL24: 255 | DM24: 0.61568627 | DN24: 26 | DP24: 22 | DQ24: McElfish, John | DR24: 167 | DS24: 271 | DT24: 0.61623616 | DU24: 26.5 | DW24: 22 | DX24: Seamands, Natalie | DY24: 172 | DZ24: 277 | EA24: 0.62093863 | EB24: 26.5 | ED24: 22 | EE24: Seamands, Natalie | EF24: 175 | EG24: 281 | EH24: 0.6227758 | EI24: 27.5 | EK24: 22 | EL24: Clarke, Benjamin | EM24: 175 | EN24: 283 | EO24: 0.61837456 | EP24: 33 | ER24: 22 | ES24: Clarke, Benjamin | ET24: 175 | EU24: 284 | EV24: 0.61619718 | EW24: 33, 9-9-1, 0.07
A25: 23-T | B25: Clarke, Andrew | C25: 8.5 | D25: 16 | E25: 0.53125 | F25: 1 | H25: 23-T | I25: Folmar, James | J25: 17.5 | K25: 32 | L25: 0.546875 | M25: 3 | O25: 23-T | P25: Seamands, Jorden | Q25: 25.5 | R25: 48 | S25: 0.53125 | T25: 4.5 | V25: 22-T | W25: Skipper, Eric | X25: 36.5 | Y25: 64 | Z25: 0.5703125 | AA25: 6 | AC25: 23 | AD25: White, Shawn | AE25: 46.5 | AF25: 80 | AG25: 0.58125 | AH25: 6.5 | AJ25: 23 | AK25: Manuel, Greg | AL25: 53.5 | AM25: 94 | AN25: 0.56914894 | AO25: 6.5 | AQ25: 23 | AR25: Seamands, Mike | AS25: 62.5 | AT25: 108 | AU25: 0.5787037 | AV25: 8 | AX25: 23 | AY25: Seamands, Mike | AZ25: 71.5 | BA25: 123 | BB25: 0.58130081 | BC25: 10 | BE25: 23-T | BF25: Middleton, Jason | BG25: 80.5 | BH25: 136 | BI25: 0.59191176 | BJ25: 12.5 | BL25: 23 | BM25: Alsobrook, Luke | BN25: 86.5 | BO25: 150 | BP25: 0.57666667 | BQ25: 14 | BS25: 21-T | BT25: Skipper, Eric | BU25: 97.5 | BV25: 164 | BW25: 0.5945122 | BX25: 13 | BZ25: 23 | CA25: Seamands, Mike | CB25: 107.5 | CC25: 180 | CD25: 0.59722222 | CE25: 14 | CG25: 23 | CH25: John, Thunder | CI25: 118 | CJ25: 195 | CK25: 0.60512821 | CL25: 19 | CN25: 22-T | CO25: Sloan, Kenneth | CP25: 125 | CQ25: 208 | CR25: 0.60096154 | CS25: 19 | CU25: 23 | CV25: Clarke, Benjamin | CW25: 135 | CX25: 224 | CY25: 0.60267857 | CZ25: 26 | DB25: 23 | DC25: Brossett, Chase | DD25: 145 | DE25: 240 | DF25: 0.60416667 | DG25: 26 | DI25: 23 | DJ25: Brossett, Chase | DK25: 156 | DL25: 255 | DM25: 0.61176471 | DN25: 28 | DP25: 23 | DQ25: Seamands, Natalie | DR25: 167 | DS25: 271 | DT25: 0.61623616 | DU25: 25.5 | DW25: 23 | DX25: Brossett, Chase | DY25: 171 | DZ25: 277 | EA25: 0.61732852 | EB25: 31 | ED25: 23 | EE25: Brossett, Chase | EF25: 174 | EG25: 281 | EH25: 0.61921708 | EI25: 32 | EK25: 23 | EL25: Smith, Brad | EM25: 175 | EN25: 283 | EO25: 0.61837456 | EP25: 30 | ER25: 23 | ES25: John, Thunder | ET25: 175 | EU25: 284 | EV25: 0.61619718 | EW25: 33, 9-9-1, 0.00
A26: 23-T | B26: Clarke, Benjamin | C26: 8.5 | D26: 16 | E26: 0.53125 | F26: 1 | H26: 23-T | I26: Prothro, Tom | J26: 17.5 | K26: 32 | L26: 0.546875 | M26: 3 | O26: 23-T | P26: Middleton, Jason | Q26: 25.5 | R26: 48 | S26: 0.53125 | T26: 4.5 | V26: 24 | W26: Smith, Brad | X26: 36.5 | Y26: 64 | Z26: 0.5703125 | AA26: 5 | AC26: 24-T | AD26: Seamands, Mike | AE26: 46.5 | AF26: 80 | AG26: 0.58125 | AH26: 6 | AJ26: 24 | AK26: Seamands, Jorden | AL26: 52.5 | AM26: 94 | AN26: 0.55851064 | AO26: 9.5 | AQ26: 24 | AR26: Manuel, Greg | AS26: 62.5 | AT26: 108 | AU26: 0.5787037 | AV26: 7.5 | AX26: 24 | AY26: Alsobrook, Luke | AZ26: 70.5 | BA26: 123 | BB26: 0.57317073 | BC26: 12 | BE26: 23-T | BF26: Hill, Jim | BG26: 80.5 | BH26: 136 | BI26: 0.59191176 | BJ26: 12.5 | BL26: 24 | BM26: Sloan, Kenneth | BN26: 86.5 | BO26: 150 | BP26: 0.57666667 | BQ26: 13 | BS26: 21-T | BT26: Meyer, Austen | BU26: 97.5 | BV26: 164 | BW26: 0.5945122 | BX26: 13 | BZ26: 24 | CA26: Vance, Jeremy | CB26: 106.5 | CC26: 180 | CD26: 0.59166667 | CE26: 17 | CG26: 24 | CH26: Clarke, Benjamin | CI26: 117 | CJ26: 195 | CK26: 0.6 | CL26: 22 | CN26: 24 | CO26: Seamands, Natalie | CP26: 125 | CQ26: 208 | CR26: 0.60096154 | CS26: 18.5 | CU26: 24 | CV26: Southerland, Brett | CW26: 135 | CX26: 224 | CY26: 0.60267857 | CZ26: 21 | DB26: 24 | DC26: John, Thunder | DD26: 145 | DE26: 240 | DF26: 0.60416667 | DG26: 25 | DI26: 24-T | DJ26: John, Thunder | DK26: 156 | DL26: 255 | DM26: 0.61176471 | DN26: 27 | DP26: 24 | DQ26: Brossett, Chase | DR26: 166 | DS26: 271 | DT26: 0.61254613 | DU26: 30 | DW26: 24 | DX26: Hyde, Todd | DY26: 171 | DZ26: 277 | EA26: 0.61732852 | EB26: 30 | ED26: 24 | EE26: Smith, Brad | EF26: 174 | EG26: 281 | EH26: 0.61921708 | EI26: 29 | EK26: 24-T | EL26: Brossett, Chase | EM26: 174 | EN26: 283 | EO26: 0.61484099 | EP26: 32 | ER26: 24 | ES26: Smith, Brad | ET26: 175 | EU26: 284 | EV26: 0.61619718 | EW26: 30
A27: 23-T | B27: Curran, Taylor | C27: 8.5 | D27: 16 | E27: 0.53125 | F27: 1 | H27: 23-T | I27: Scoville, Jordan | J27: 17.5 | K27: 32 | L27: 0.546875 | M27: 3 | O27: 25 | P27: Scoville, Jordan | Q27: 25.5 | R27: 48 | S27: 0.53125 | T27: 4 | V27: 25 | W27: White, Shawn | X27: 35.5 | Y27: 64 | Z27: 0.5546875 | AA27: 5.5 | AC27: 24-T | AD27: Honeycutt, Terry | AE27: 46.5 | AF27: 80 | AG27: 0.58125 | AH27: 6 | AJ27: 25 | AK27: Alsobrook, Luke | AL27: 52.5 | AM27: 94 | AN27: 0.55851064 | AO27: 9 | AQ27: 25 | AR27: Hernandez, Ismael | AS27: 62.5 | AT27: 108 | AU27: 0.5787037 | AV27: 7 | AX27: 25 | AY27: Rapisand, Ryan | AZ27: 70.5 | BA27: 123 | BB27: 0.57317073 | BC27: 11 | BE27: 25 | BF27: Rapisand, Ryan | BG27: 80.5 | BH27: 136 | BI27: 0.59191176 | BJ27: 12 | BL27: 25 | BM27: Skipper, Eric | BN27: 86.5 | BO27: 150 | BP27: 0.57666667 | BQ27: 12 | BS27: 25 | BT27: Alsobrook, Luke | BU27: 96.5 | BV27: 164 | BW27: 0.58841463 | BX27: 16 | BZ27: 25 | CA27: Southerland, Brett | CB27: 106.5 | CC27: 180 | CD27: 0.59166667 | CE27: 16 | CG27: 25 | CH27: Brossett, Chase | CI27: 117 | CJ27: 195 | CK27: 0.6 | CL27: 20 | CN27: 25 | CO27: Brossett, Chase | CP27: 124 | CQ27: 208 | CR27: 0.59615385 | CS27: 22 | CU27: 25 | CV27: John, Thunder | CW27: 134 | CX27: 224 | CY27: 0.59821429 | CZ27: 23 | DB27: 25-T | DC27: Vance, Jeremy | DD27: 145 | DE27: 240 | DF27: 0.60416667 | DG27: 22 | DI27: 24-T | DJ27: Hyde, Todd | DK27: 156 | DL27: 255 | DM27: 0.61176471 | DN27: 27 | DP27: 25 | DQ27: Garcia, Omar | DR27: 166 | DS27: 271 | DT27: 0.61254613 | DU27: 28 | DW27: 25 | DX27: Garcia, Omar | DY27: 170 | DZ27: 277 | EA27: 0.61371841 | EB27: 29 | ED27: 25 | EE27: John, Thunder | EF27: 172 | EG27: 281 | EH27: 0.61209964 | EI27: 31 | EK27: 24-T | EL27: John, Thunder | EM27: 174 | EN27: 283 | EO27: 0.61484099 | EP27: 32 | ER27: 25 | ES27: Brossett, Chase | ET27: 174 | EU27: 284 | EV27: 0.61267606 | EW27: 32
A28: 23-T | B28: Fortner, Mara | C28: 8.5 | D28: 16 | E28: 0.53125 | F28: 1 | H28: 23-T | I28: Smith, Brad | J28: 17.5 | K28: 32 | L28: 0.546875 | M28: 3 | O28: 26-T | P28: Meyer, Brennan | Q28: 25.5 | R28: 48 | S28: 0.53125 | T28: 3 | V28: 26 | W28: Rapisand, Ryan | X28: 35.5 | Y28: 64 | Z28: 0.5546875 | AA28: 5 | AC28: 24-T | AD28: Rapisand, Ryan | AE28: 46.5 | AF28: 80 | AG28: 0.58125 | AH28: 6 | AJ28: 26 | AK28: Meyer, Dave | AL28: 52.5 | AM28: 94 | AN28: 0.55851064 | AO28: 8 | AQ28: 26 | AR28: Hill, Jim | AS28: 61.5 | AT28: 108 | AU28: 0.56944444 | AV28: 9.5 | AX28: 26 | AY28: Vance, Jeremy | AZ28: 70.5 | BA28: 123 | BB28: 0.57317073 | BC28: 10 | BE28: 26 | BF28: Hernandez, Ismael | BG28: 80.5 | BH28: 136 | BI28: 0.59191176 | BJ28: 11 | BL28: 26 | BM28: White, Shawn | BN28: 86.5 | BO28: 150 | BP28: 0.57666667 | BQ28: 11.5 | BS28: 26 | BT28: Curran, Taylor | BU28: 96.5 | BV28: 164 | BW28: 0.58841463 | BX28: 14 | BZ28: 26 | CA28: Meyer, Austen | CB28: 106.5 | CC28: 180 | CD28: 0.59166667 | CE28: 14 | CG28: 26 | CH28: Vance, Jeremy | CI28: 117 | CJ28: 195 | CK28: 0.6 | CL28: 19 | CN28: 26 | CO28: Vance, Jeremy | CP28: 124 | CQ28: 208 | CR28: 0.59615385 | CS28: 20 | CU28: 26-T | CV28: Vance, Jeremy | CW28: 134 | CX28: 224 | CY28: 0.59821429 | CZ28: 22 | DB28: 25-T | DC28: Meyer, Austen | DD28: 145 | DE28: 240 | DF28: 0.60416667 | DG28: 22 | DI28: 26 | DJ28: Seamands, Natalie | DK28: 156 | DL28: 255 | DM28: 0.61176471 | DN28: 22.5 | DP28: 26 | DQ28: John, Thunder | DR28: 165 | DS28: 271 | DT28: 0.60885609 | DU28: 29 | DW28: 26 | DX28: John, Thunder | DY28: 169 | DZ28: 277 | EA28: 0.6101083 | EB28: 30 | ED28: 26 | EE28: Vance, Jeremy | EF28: 172 | EG28: 281 | EH28: 0.61209964 | EI28: 28 | EK28: 26 | EL28: Vance, Jeremy | EM28: 173 | EN28: 283 | EO28: 0.61130742 | EP28: 29 | ER28: 26 | ES28: Vance, Jeremy | ET28: 173 | EU28: 284 | EV28: 0.60915493 | EW28: 29
A29: 23-T | B29: Hernandez, Ismael | C29: 8.5 | D29: 16 | E29: 0.53125 | F29: 1 | H29: 23-T | I29: Ray, Bobby | J29: 17.5 | K29: 32 | L29: 0.546875 | M29: 3 | O29: 26-T | P29: John, Thunder | Q29: 25.5 | R29: 48 | S29: 0.53125 | T29: 3 | V29: 27-T | W29: Folmar, James | X29: 35.5 | Y29: 64 | Z29: 0.5546875 | AA29: 4 | AC29: 24-T | AD29: Prothro, Tom | AE29: 46.5 | AF29: 80 | AG29: 0.58125 | AH29: 6 | AJ29: 27 | AK29: White, Shawn | AL29: 52.5 | AM29: 94 | AN29: 0.55851064 | AO29: 7.5 | AQ29: 27-T | AR29: Meyer, Dave | AS29: 61.5 | AT29: 108 | AU29: 0.56944444 | AV29: 9 | AX29: 27 | AY29: Manzala, Jason | AZ29: 70.5 | BA29: 123 | BB29: 0.57317073 | BC29: 7 | BE29: 27 | BF29: Manzala, Jason | BG29: 79.5 | BH29: 136 | BI29: 0.58455882 | BJ29: 8 | BL29: 27 | BM29: Meyer, Austen | BN29: 86.5 | BO29: 150 | BP29: 0.57666667 | BQ29: 11 | BS29: 27-T | BT29: Rapisand, Ryan | BU29: 95.5 | BV29: 164 | BW29: 0.58231707 | BX29: 16 | BZ29: 27 | CA29: Clarke, Benjamin | CB29: 105.5 | CC29: 180 | CD29: 0.58611111 | CE29: 20 | CG29: 27 | CH29: White, Shawn | CI29: 117 | CJ29: 195 | CK29: 0.6 | CL29: 17.5 | CN29: 27 | CO29: Southerland, Brett | CP29: 124 | CQ29: 208 | CR29: 0.59615385 | CS29: 19 | CU29: 26-T | CV29: Miller, Chris | CW29: 134 | CX29: 224 | CY29: 0.59821429 | CZ29: 22 | DB29: 27 | DC29: Seamands, Natalie | DD29: 145 | DE29: 240 | DF29: 0.60416667 | DG29: 21.5 | DI29: 27 | DJ29: Miller, Chris | DK29: 155 | DL29: 255 | DM29: 0.60784314 | DN29: 25 | DP29: 27 | DQ29: Vance, Jeremy | DR29: 164 | DS29: 271 | DT29: 0.60516605 | DU29: 26 | DW29: 27 | DX29: Vance, Jeremy | DY29: 169 | DZ29: 277 | EA29: 0.6101083 | EB29: 27 | ED29: 27 | EE29: Clarke, Andrew | EF29: 171 | EG29: 281 | EH29: 0.60854093 | EI29: 29 | EK29: 27 | EL29: Rapisand, Ryan | EM29: 171 | EN29: 283 | EO29: 0.60424028 | EP29: 31 | ER29: 27 | ES29: Rapisand, Ryan | ET29: 172 | EU29: 284 | EV29: 0.6056338 | EW29: 32
A30: 23-T | B30: Prothro, Tom | C30: 8.5 | D30: 16 | E30: 0.53125 | F30: 1 | H30: 28-T | I30: Hill, Jim | J30: 17.5 | K30: 32 | L30: 0.546875 | M30: 2.5 | O30: 28 | P30: Manuel, Greg | Q30: 25.5 | R30: 48 | S30: 0.53125 | T30: 1.5 | V30: 27-T | W30: Prothro, Tom | X30: 35.5 | Y30: 64 | Z30: 0.5546875 | AA30: 4 | AC30: 28 | AD30: Manuel, Greg | AE30: 46.5 | AF30: 80 | AG30: 0.58125 | AH30: 5.5 | AJ30: 28-T | AK30: Seamands, Mike | AL30: 52.5 | AM30: 94 | AN30: 0.55851064 | AO30: 7 | AQ30: 27-T | AR30: Sloan, Kenneth | AS30: 61.5 | AT30: 108 | AU30: 0.56944444 | AV30: 9 | AX30: 28 | AY30: Meyer, Dave | AZ30: 69.5 | BA30: 123 | BB30: 0.56504065 | BC30: 11 | BE30: 28 | BF30: Sloan, Kenneth | BG30: 78.5 | BH30: 136 | BI30: 0.57720588 | BJ30: 12 | BL30: 28 | BM30: Manzala, Jason | BN30: 86.5 | BO30: 150 | BP30: 0.57666667 | BQ30: 9 | BS30: 27-T | BT30: Brossett, Chase | BU30: 95.5 | BV30: 164 | BW30: 0.58231707 | BX30: 16 | BZ30: 28-T | CA30: Brossett, Chase | CB30: 105.5 | CC30: 180 | CD30: 0.58611111 | CE30: 18 | CG30: 28 | CH30: Southerland, Brett | CI30: 117 | CJ30: 195 | CK30: 0.6 | CL30: 17 | CN30: 28 | CO30: Abusaad, Hussein | CP30: 124 | CQ30: 208 | CR30: 0.59615385 | CS30: 16 | CU30: 28 | CV30: Meyer, Austen | CW30: 134 | CX30: 224 | CY30: 0.59821429 | CZ30: 20 | DB30: 28 | DC30: Sloan, Kenneth | DD30: 145 | DE30: 240 | DF30: 0.60416667 | DG30: 21 | DI30: 28 | DJ30: Vance, Jeremy | DK30: 155 | DL30: 255 | DM30: 0.60784314 | DN30: 24 | DP30: 28 | DQ30: Meyer, Austen | DR30: 164 | DS30: 271 | DT30: 0.60516605 | DU30: 24 | DW30: 28 | DX30: Clarke, Andrew | DY30: 168 | DZ30: 277 | EA30: 0.60649819 | EB30: 28 | ED30: 28 | EE30: Garcia, Omar | EF30: 170 | EG30: 281 | EH30: 0.60498221 | EI30: 29 | EK30: 28-T | EL30: Clarke, Andrew | EM30: 171 | EN30: 283 | EO30: 0.60424028 | EP30: 29 | ER30: 28 | ES30: Clarke, Andrew | ET30: 172 | EU30: 284 | EV30: 0.6056338 | EW30: 30
A31: 23-T | B31: Rapisand, Ryan | C31: 8.5 | D31: 16 | E31: 0.53125 | F31: 1 | H31: 28-T | I31: McElfish, John | J31: 17.5 | K31: 32 | L31: 0.546875 | M31: 2.5 | O31: 29 | P31: Alsobrook, Luke | Q31: 24.5 | R31: 48 | S31: 0.51041667 | T31: 4 | V31: 29 | W31: Manuel, Greg | X31: 35.5 | Y31: 64 | Z31: 0.5546875 | AA31: 3.5 | AC31: 29 | AD31: Clarke, Benjamin | AE31: 44.5 | AF31: 80 | AG31: 0.55625 | AH31: 8 | AJ31: 28-T | AK31: Rapisand, Ryan | AL31: 52.5 | AM31: 94 | AN31: 0.55851064 | AO31: 7 | AQ31: 29 | AR31: Vance, Jeremy | AS31: 61.5 | AT31: 108 | AU31: 0.56944444 | AV31: 8 | AX31: 29-T | AY31: Skipper, Eric | AZ31: 69.5 | BA31: 123 | BB31: 0.56504065 | BC31: 10 | BE31: 29-T | BF31: Skipper, Eric | BG31: 78.5 | BH31: 136 | BI31: 0.57720588 | BJ31: 11 | BL31: 29-T | BM31: Rapisand, Ryan | BN31: 85.5 | BO31: 150 | BP31: 0.57 | BQ31: 14 | BS31: 29 | BT31: Hyde, Todd | BU31: 95.5 | BV31: 164 | BW31: 0.58231707 | BX31: 15 | BZ31: 28-T | CA31: Young, Michael | CB31: 105.5 | CC31: 180 | CD31: 0.58611111 | CE31: 18 | CG31: 29 | CH31: Seamands, Natalie | CI31: 117 | CJ31: 195 | CK31: 0.6 | CL31: 16.5 | CN31: 29 | CO31: Clarke, Andrew | CP31: 123 | CQ31: 208 | CR31: 0.59134615 | CS31: 19 | CU31: 29 | CV31: Abusaad, Hussein | CW31: 134 | CX31: 224 | CY31: 0.59821429 | CZ31: 18 | DB31: 29 | DC31: Hyde, Todd | DD31: 144 | DE31: 240 | DF31: 0.6 | DG31: 25 | DI31: 29 | DJ31: Meyer, Austen | DK31: 154 | DL31: 255 | DM31: 0.60392157 | DN31: 24 | DP31: 29 | DQ31: Clarke, Andrew | DR31: 163 | DS31: 271 | DT31: 0.60147601 | DU31: 27 | DW31: 29 | DX31: Meyer, Austen | DY31: 168 | DZ31: 277 | EA31: 0.60649819 | EB31: 25 | ED31: 29 | EE31: Meyer, Austen | EF31: 170 | EG31: 281 | EH31: 0.60498221 | EI31: 26 | EK31: 28-T | EL31: Garcia, Omar | EM31: 171 | EN31: 283 | EO31: 0.60424028 | EP31: 29 | ER31: 29 | ES31: Prothro, Tom | ET31: 172 | EU31: 284 | EV31: 0.6056338 | EW31: 26
A32: 23-T | B32: Scoville, Jordan | C32: 8.5 | D32: 16 | E32: 0.53125 | F32: 1 | H32: 30-T | I32: Rushing, Luke | J32: 17.5 | K32: 32 | L32: 0.546875 | M32: 2 | O32: 30-T | P32: Manzala, Jeremy | Q32: 24.5 | R32: 48 | S32: 0.51041667 | T32: 3.5 | V32: 30 | W32: Clarke, Benjamin | X32: 33.5 | Y32: 64 | Z32: 0.5234375 | AA32: 6 | AC32: 30 | AD32: Howard, Bill | AE32: 45.5 | AF32: 80 | AG32: 0.56875 | AH32: 6 | AJ32: 28-T | AK32: Hernandez, Ismael | AL32: 52.5 | AM32: 94 | AN32: 0.55851064 | AO32: 7 | AQ32: 30 | AR32: Manzala, Jason | AS32: 61.5 | AT32: 108 | AU32: 0.56944444 | AV32: 6 | AX32: 29-T | AY32: Southerland, Brett | AZ32: 69.5 | BA32: 123 | BB32: 0.56504065 | BC32: 10 | BE32: 29-T | BF32: Southerland, Brett | BG32: 78.5 | BH32: 136 | BI32: 0.57720588 | BJ32: 11 | BL32: 29-T | BM32: Miller, Chris | BN32: 85.5 | BO32: 150 | BP32: 0.57 | BQ32: 14 | BS32: 30 | BT32: Seamands, Mike | BU32: 95.5 | BV32: 164 | BW32: 0.58231707 | BX32: 13 | BZ32: 30 | CA32: Hyde, Todd | CB32: 105.5 | CC32: 180 | CD32: 0.58611111 | CE32: 17 | CG32: 30 | CH32: Rapisand, Ryan | CI32: 116 | CJ32: 195 | CK32: 0.59487179 | CL32: 20 | CN32: 30 | CO32: White, Shawn | CP32: 123 | CQ32: 208 | CR32: 0.59134615 | CS32: 18.5 | CU32: 30 | CV32: Brossett, Chase | CW32: 133 | CX32: 224 | CY32: 0.59375 | CZ32: 24 | DB32: 30 | DC32: Scoville, Jordan | DD32: 144 | DE32: 240 | DF32: 0.6 | DG32: 24 | DI32: 30 | DJ32: White, Shawn | DK32: 154 | DL32: 255 | DM32: 0.60392157 | DN32: 23.5 | DP32: 30 | DQ32: Baze, Drew | DR32: 163 | DS32: 271 | DT32: 0.60147601 | DU32: 23.5 | DW32: 30 | DX32: Rapisand, Ryan | DY32: 167 | DZ32: 277 | EA32: 0.60288809 | EB32: 29 | ED32: 30 | EE32: Rapisand, Ryan | EF32: 169 | EG32: 281 | EH32: 0.60142349 | EI32: 30 | EK32: 30 | EL32: Curran, Taylor | EM32: 171 | EN32: 283 | EO32: 0.60424028 | EP32: 27 | ER32: 30 | ES32: Garcia, Omar | ET32: 171 | EU32: 284 | EV32: 0.60211268 | EW32: 29
A33: 23-T | B33: Seamands, Mike | C33: 8.5 | D33: 16 | E33: 0.53125 | F33: 1 | H33: 30-T | I33: Howard, Bill | J33: 17.5 | K33: 32 | L33: 0.546875 | M33: 2 | O33: 30-T | P33: White, Shawn | Q33: 24.5 | R33: 48 | S33: 0.51041667 | T33: 3.5 | V33: 31-T | W33: Scoville, Jordan | X33: 34.5 | Y33: 64 | Z33: 0.5390625 | AA33: 5 | AC33: 31-T | AD33: Hernandez, Ismael | AE33: 45.5 | AF33: 80 | AG33: 0.56875 | AH33: 5 | AJ33: 28-T | AK33: Vance, Jeremy | AL33: 52.5 | AM33: 94 | AN33: 0.55851064 | AO33: 7 | AQ33: 31 | AR33: Alsobrook, Luke | AS33: 60.5 | AT33: 108 | AU33: 0.56018519 | AV33: 10 | AX33: 31 | AY33: Clarke, Andrew | AZ33: 69.5 | BA33: 123 | BB33: 0.56504065 | BC33: 8 | BE33: 31 | BF33: Miller, Chris | BG33: 77.5 | BH33: 136 | BI33: 0.56985294 | BJ33: 14 | BL33: 29-T | BM33: Brossett, Chase | BN33: 85.5 | BO33: 150 | BP33: 0.57 | BQ33: 14 | BS33: 31 | BT33: Young, Michael | BU33: 94.5 | BV33: 164 | BW33: 0.57621951 | BX33: 16 | BZ33: 31 | CA33: Hill, Jim | CB33: 105.5 | CC33: 180 | CD33: 0.58611111 | CE33: 16.5 | CG33: 31 | CH33: Hyde, Todd | CI33: 116 | CJ33: 195 | CK33: 0.59487179 | CL33: 19 | CN33: 31 | CO33: Meyer, Austen | CP33: 123 | CQ33: 208 | CR33: 0.59134615 | CS33: 18 | CU33: 31 | CV33: Hyde, Todd | CW33: 133 | CX33: 224 | CY33: 0.59375 | CZ33: 23 | DB33: 31-T | DC33: Miller, Chris | DD33: 144 | DE33: 240 | DF33: 0.6 | DG33: 23 | DI33: 31 | DJ33: Hill, Jim | DK33: 153 | DL33: 255 | DM33: 0.6 | DN33: 25.5 | DP33: 31 | DQ33: Rapisand, Ryan | DR33: 162 | DS33: 271 | DT33: 0.59778598 | DU33: 28 | DW33: 31 | DX33: Sloan, Kenneth | DY33: 167 | DZ33: 277 | EA33: 0.60288809 | EB33: 26 | ED33: 31 | EE33: Scoville, Jordan | EF33: 169 | EG33: 281 | EH33: 0.60142349 | EI33: 29 | EK33: 31 | EL33: Prothro, Tom | EM33: 171 | EN33: 283 | EO33: 0.60424028 | EP33: 25 | ER33: 31 | ES33: Curran, Taylor | ET33: 171 | EU33: 284 | EV33: 0.60211268 | EW33: 27
A34: 23-T | B34: Skipper, Eric | C34: 8.5 | D34: 16 | E34: 0.53125 | F34: 1 | H34: 32-T | I34: Seamands, Natalie | J34: 17.5 | K34: 32 | L34: 0.546875 | M34: 1.5 | O34: 32 | P34: Folmar, James | Q34: 24.5 | R34: 48 | S34: 0.51041667 | T34: 3 | V34: 31-T | W34: Howard, Bill | X34: 34.5 | Y34: 64 | Z34: 0.5390625 | AA34: 5 | AC34: 31-T | AD34: Conklin, Don | AE34: 45.5 | AF34: 80 | AG34: 0.56875 | AH34: 5 | AJ34: 32 | AK34: Clarke, Andrew | AL34: 52.5 | AM34: 94 | AN34: 0.55851064 | AO34: 5 | AQ34: 32 | AR34: Prothro, Tom | AS34: 60.5 | AT34: 108 | AU34: 0.56018519 | AV34: 8 | AX34: 32-T | AY34: Sloan, Kenneth | AZ34: 68.5 | BA34: 123 | BB34: 0.55691057 | BC34: 11 | BE34: 32 | BF34: Brossett, Chase | BG34: 77.5 | BH34: 136 | BI34: 0.56985294 | BJ34: 13 | BL34: 32 | BM34: Hill, Jim | BN34: 85.5 | BO34: 150 | BP34: 0.57 | BQ34: 13.5 | BS34: 32-T | BT34: Hernandez, Ismael | BU34: 94.5 | BV34: 164 | BW34: 0.57621951 | BX34: 15 | BZ34: 32 | CA34: Curran, Taylor | CB34: 105.5 | CC34: 180 | CD34: 0.58611111 | CE34: 16 | CG34: 32 | CH34: Meyer, Austen | CI34: 116 | CJ34: 195 | CK34: 0.59487179 | CL34: 16 | CN34: 32 | CO34: Clarke, Benjamin | CP34: 122 | CQ34: 208 | CR34: 0.58653846 | CS34: 24 | CU34: 32-T | CV34: Scoville, Jordan | CW34: 133 | CX34: 224 | CY34: 0.59375 | CZ34: 22 | DB34: 31-T | DC34: Curran, Taylor | DD34: 144 | DE34: 240 | DF34: 0.6 | DG34: 23 | DI34: 32-T | DJ34: Curran, Taylor | DK34: 153 | DL34: 255 | DM34: 0.6 | DN34: 24 | DP34: 32 | DQ34: Sloan, Kenneth | DR34: 162 | DS34: 271 | DT34: 0.59778598 | DU34: 25 | DW34: 32 | DX34: Baze, Drew | DY34: 167 | DZ34: 277 | EA34: 0.60288809 | EB34: 24.5 | ED34: 32 | EE34: Curran, Taylor | EF34: 169 | EG34: 281 | EH34: 0.60142349 | EI34: 26 | EK34: 32 | EL34: Meyer, Austen | EM34: 170 | EN34: 283 | EO34: 0.60070671 | EP34: 26 | ER34: 32 | ES34: Baze, Drew | ET34: 171 | EU34: 284 | EV34: 0.60211268 | EW34: 26.5
A35: 23-T | B35: Southerland, Brett | C35: 8.5 | D35: 16 | E35: 0.53125 | F35: 1 | H35: 32-T | I35: Manuel, Greg | J35: 17.5 | K35: 32 | L35: 0.546875 | M35: 1.5 | O35: 33 | P35: Kraus, Lloyd | Q35: 24.5 | R35: 48 | S35: 0.51041667 | T35: 2.5 | V35: 31-T | W35: Southerland, Brett | X35: 34.5 | Y35: 64 | Z35: 0.5390625 | AA35: 5 | AC35: 33 | AD35: Clarke, Andrew | AE35: 45.5 | AF35: 80 | AG35: 0.56875 | AH35: 4 | AJ35: 33-T | AK35: Prothro, Tom | AL35: 51.5 | AM35: 94 | AN35: 0.54787234 | AO35: 7 | AQ35: 33 | AR35: Clarke, Andrew | AS35: 60.5 | AT35: 108 | AU35: 0.56018519 | AV35: 6 | AX35: 32-T | AY35: Hyde, Todd | AZ35: 68.5 | BA35: 123 | BB35: 0.55691057 | BC35: 11 | BE35: 33 | BF35: Hyde, Todd | BG35: 77.5 | BH35: 136 | BI35: 0.56985294 | BJ35: 12 | BL35: 33 | BM35: Southerland, Brett | BN35: 85.5 | BO35: 150 | BP35: 0.57 | BQ35: 12 | BS35: 32-T | BT35: Mackey, Doyle | BU35: 94.5 | BV35: 164 | BW35: 0.57621951 | BX35: 15 | BZ35: 33 | CA35: Manzala, Jason | CB35: 105.5 | CC35: 180 | CD35: 0.58611111 | CE35: 13 | CG35: 33 | CH35: Scoville, Jordan | CI35: 115 | CJ35: 195 | CK35: 0.58974359 | CL35: 20 | CN35: 33 | CO35: Rapisand, Ryan | CP35: 122 | CQ35: 208 | CR35: 0.58653846 | CS35: 22 | CU35: 32-T | CV35: Curran, Taylor | CW35: 133 | CX35: 224 | CY35: 0.59375 | CZ35: 22 | DB35: 33 | DC35: Abusaad, Hussein | DD35: 144 | DE35: 240 | DF35: 0.6 | DG35: 19 | DI35: 32-T | DJ35: Southerland, Brett | DK35: 153 | DL35: 255 | DM35: 0.6 | DN35: 24 | DP35: 33 | DQ35: Curran, Taylor | DR35: 162 | DS35: 271 | DT35: 0.59778598 | DU35: 24 | DW35: 33 | DX35: Scoville, Jordan | DY35: 166 | DZ35: 277 | EA35: 0.59927798 | EB35: 28 | ED35: 33 | EE35: Baze, Drew | EF35: 169 | EG35: 281 | EH35: 0.60142349 | EI35: 25.5 | EK35: 33 | EL35: Baze, Drew | EM35: 170 | EN35: 283 | EO35: 0.60070671 | EP35: 25.5 | ER35: 33 | ES35: Sloan, Kenneth | ET35: 170 | EU35: 284 | EV35: 0.59859155 | EW35: 29
A36: 23-T | B36: Sloan, Kenneth | C36: 8.5 | D36: 16 | E36: 0.53125 | F36: 1 | H36: 34 | I36: Simba, Julio | J36: 17.5 | K36: 32 | L36: 0.546875 | M36: 1 | O36: 34 | P36: Conklin, Don | Q36: 24.5 | R36: 48 | S36: 0.51041667 | T36: 2 | V36: 34 | W36: Simba, Julio | X36: 34.5 | Y36: 64 | Z36: 0.5390625 | AA36: 4 | AC36: 34 | AD36: Southerland, Brett | AE36: 44.5 | AF36: 80 | AG36: 0.55625 | AH36: 7 | AJ36: 33-T | AK36: Sloan, Kenneth | AL36: 51.5 | AM36: 94 | AN36: 0.54787234 | AO36: 7 | AQ36: 34 | AR36: Conklin, Don | AS36: 59.5 | AT36: 108 | AU36: 0.55092593 | AV36: 9 | AX36: 34 | AY36: Prothro, Tom | AZ36: 68.5 | BA36: 123 | BB36: 0.55691057 | BC36: 10 | BE36: 34-T | BF36: Prothro, Tom | BG36: 77.5 | BH36: 136 | BI36: 0.56985294 | BJ36: 11 | BL36: 34 | BM36: Roberts, Jeff | BN36: 85.5 | BO36: 150 | BP36: 0.57 | BQ36: 11 | BS36: 34 | BT36: Sloan, Kenneth | BU36: 94.5 | BV36: 164 | BW36: 0.57621951 | BX36: 14 | BZ36: 34 | CA36: Rapisand, Ryan | CB36: 104.5 | CC36: 180 | CD36: 0.58055556 | CE36: 18 | CG36: 34 | CH36: Miller, Chris | CI36: 115 | CJ36: 195 | CK36: 0.58974359 | CL36: 19 | CN36: 34-T | CO36: Scoville, Jordan | CP36: 122 | CQ36: 208 | CR36: 0.58653846 | CS36: 20 | CU36: 34 | CV36: Sloan, Kenneth | CW36: 133 | CX36: 224 | CY36: 0.59375 | CZ36: 20 | DB36: 34-T | DC36: White, Shawn | DD36: 143 | DE36: 240 | DF36: 0.59583333 | DG36: 21.5 | DI36: 34 | DJ36: Baze, Drew | DK36: 153 | DL36: 255 | DM36: 0.6 | DN36: 22.5 | DP36: 34 | DQ36: White, Shawn | DR36: 162 | DS36: 271 | DT36: 0.59778598 | DU36: 23.5 | DW36: 34 | DX36: Curran, Taylor | DY36: 166 | DZ36: 277 | EA36: 0.59927798 | EB36: 25 | ED36: 34 | EE36: Prothro, Tom | EF36: 169 | EG36: 281 | EH36: 0.60142349 | EI36: 24 | EK36: 34 | EL36: Scoville, Jordan | EM36: 169 | EN36: 283 | EO36: 0.59717314 | EP36: 29 | ER36: 34 | ES36: Meyer, Austen | ET36: 170 | EU36: 284 | EV36: 0.59859155 | EW36: 27
A37: 35-T | B37: Baze, Drew | C37: 8.5 | D37: 16 | E37: 0.53125 | F37: 0.5 | H37: 35-T | I37: John, Thunder | J37: 16.5 | K37: 32 | L37: 0.515625 | M37: 3 | O37: 35 | P37: Baze, Drew | Q37: 24.5 | R37: 48 | S37: 0.51041667 | T37: 1.5 | V37: 35 | W37: Seamands, Natalie | X37: 34.5 | Y37: 64 | Z37: 0.5390625 | AA37: 3.5 | AC37: 35 | AD37: Folmar, James | AE37: 44.5 | AF37: 80 | AG37: 0.55625 | AH37: 5 | AJ37: 35 | AK37: Manzala, Jason | AL37: 51.5 | AM37: 94 | AN37: 0.54787234 | AO37: 5 | AQ37: 35 | AR37: Seamands, Natalie | AS37: 59.5 | AT37: 108 | AU37: 0.55092593 | AV37: 6.5 | AX37: 35 | AY37: White, Shawn | AZ37: 68.5 | BA37: 123 | BB37: 0.55691057 | BC37: 9.5 | BE37: 34-T | BF37: Simba, Julio | BG37: 77.5 | BH37: 136 | BI37: 0.56985294 | BJ37: 11 | BL37: 35 | BM37: Hyde, Todd | BN37: 84.5 | BO37: 150 | BP37: 0.56333333 | BQ37: 13 | BS37: 35 | BT37: Seamands, Natalie | BU37: 94.5 | BV37: 164 | BW37: 0.57621951 | BX37: 13.5 | BZ37: 35-T | CA37: Mackey, Doyle | CB37: 104.5 | CC37: 180 | CD37: 0.58055556 | CE37: 17 | CG37: 35 | CH37: Curran, Taylor | CI37: 115 | CJ37: 195 | CK37: 0.58974359 | CL37: 18 | CN37: 34-T | CO37: Miller, Chris | CP37: 122 | CQ37: 208 | CR37: 0.58653846 | CS37: 20 | CU37: 35 | CV37: White, Shawn | CW37: 133 | CX37: 224 | CY37: 0.59375 | CZ37: 19.5 | DB37: 34-T | DC37: Baze, Drew | DD37: 143 | DE37: 240 | DF37: 0.59583333 | DG37: 21.5 | DI37: 35-T | DJ37: Abusaad, Hussein | DK37: 153 | DL37: 255 | DM37: 0.6 | DN37: 20 | DP37: 35 | DQ37: Carrasco, Jason | DR37: 161 | DS37: 271 | DT37: 0.59409594 | DU37: 29 | DW37: 35 | DX37: White, Shawn | DY37: 166 | DZ37: 277 | EA37: 0.59927798 | EB37: 24.5 | ED37: 35 | EE37: Sloan, Kenneth | EF37: 168 | EG37: 281 | EH37: 0.59786477 | EI37: 27 | EK37: 35 | EL37: Sloan, Kenneth | EM37: 169 | EN37: 283 | EO37: 0.59717314 | EP37: 28 | ER37: 35 | ES37: Scoville, Jordan | ET37: 169 | EU37: 284 | EV37: 0.59507042 | EW37: 29
A38: 35-T | B38: Manuel, Greg | C38: 8.5 | D38: 16 | E38: 0.53125 | F38: 0.5 | H38: 35-T | I38: Miller, Chris | J38: 16.5 | K38: 32 | L38: 0.515625 | M38: 3 | O38: 36-T | P38: Hyde, Todd | Q38: 23.5 | R38: 48 | S38: 0.48958333 | T38: 4 | V38: 36 | W38: Clarke, Andrew | X38: 34.5 | Y38: 64 | Z38: 0.5390625 | AA38: 3 | AC38: 36 | AD38: Hyde, Todd | AE38: 43.5 | AF38: 80 | AG38: 0.54375 | AH38: 8 | AJ38: 36 | AK38: Clarke, Benjamin | AL38: 49.5 | AM38: 94 | AN38: 0.52659574 | AO38: 10 | AQ38: 36-T | AR38: Mackey, Doyle | AS38: 58.5 | AT38: 108 | AU38: 0.54166667 | AV38: 9 | AX38: 36 | AY38: Seamands, Natalie | AZ38: 68.5 | BA38: 123 | BB38: 0.55691057 | BC38: 8.5 | BE38: 36-T | BF38: White, Shawn | BG38: 77.5 | BH38: 136 | BI38: 0.56985294 | BJ38: 10.5 | BL38: 36 | BM38: Clarke, Benjamin | BN38: 83.5 | BO38: 150 | BP38: 0.55666667 | BQ38: 16 | BS38: 36 | BT38: Manzala, Jason | BU38: 94.5 | BV38: 164 | BW38: 0.57621951 | BX38: 11 | BZ38: 35-T | CA38: Miller, Chris | CB38: 104.5 | CC38: 180 | CD38: 0.58055556 | CE38: 17 | CG38: 36 | CH38: Clarke, Andrew | CI38: 115 | CJ38: 195 | CK38: 0.58974359 | CL38: 17 | CN38: 34-T | CO38: Curran, Taylor | CP38: 122 | CQ38: 208 | CR38: 0.58653846 | CS38: 20 | CU38: 36 | CV38: Rapisand, Ryan | CW38: 132 | CX38: 224 | CY38: 0.58928571 | CZ38: 23 | DB38: 36 | DC38: Rapisand, Ryan | DD38: 142 | DE38: 240 | DF38: 0.59166667 | DG38: 24 | DI38: 35-T | DJ38: Prothro, Tom | DK38: 153 | DL38: 255 | DM38: 0.6 | DN38: 20 | DP38: 36 | DQ38: Scoville, Jordan | DR38: 161 | DS38: 271 | DT38: 0.59409594 | DU38: 27 | DW38: 36 | DX38: Prothro, Tom | DY38: 166 | DZ38: 277 | EA38: 0.59927798 | EB38: 23 | ED38: 36 | EE38: Carrasco, Jason | EF38: 167 | EG38: 281 | EH38: 0.59430605 | EI38: 31 | EK38: 36 | EL38: Carrasco, Jason | EM38: 168 | EN38: 283 | EO38: 0.59363958 | EP38: 32 | ER38: 36 | ES38: Carrasco, Jason | ET38: 168 | EU38: 284 | EV38: 0.5915493 | EW38: 32
A39: 35-T | B39: Middleton, Jason | C39: 8.5 | D39: 16 | E39: 0.53125 | F39: 0.5 | H39: 37-T | I39: Manzala, Jeremy | J39: 16.5 | K39: 32 | L39: 0.515625 | M39: 2.5 | O39: 36-T | P39: Miller, Chris | Q39: 23.5 | R39: 48 | S39: 0.48958333 | T39: 4 | V39: 37 | W39: Hyde, Todd | X39: 33.5 | Y39: 64 | Z39: 0.5234375 | AA39: 6 | AC39: 37-T | AD39: Simba, Julio | AE39: 43.5 | AF39: 80 | AG39: 0.54375 | AH39: 6 | AJ39: 37-T | AK39: Folmar, James | AL39: 50.5 | AM39: 94 | AN39: 0.53723404 | AO39: 6 | AQ39: 36-T | AR39: Scoville, Jordan | AS39: 58.5 | AT39: 108 | AU39: 0.54166667 | AV39: 9 | AX39: 37 | AY39: Roberts, Jeff | AZ39: 68.5 | BA39: 123 | BB39: 0.55691057 | BC39: 8 | BE39: 36-T | BF39: Seamands, Natalie | BG39: 77.5 | BH39: 136 | BI39: 0.56985294 | BJ39: 10.5 | BL39: 37 | BM39: Easley, Jordan | BN39: 83.5 | BO39: 150 | BP39: 0.55666667 | BQ39: 13.5 | BS39: 37 | BT39: Clarke, Benjamin | BU39: 93.5 | BV39: 164 | BW39: 0.57012195 | BX39: 18 | BZ39: 37 | CA39: Seamands, Natalie | CB39: 104.5 | CC39: 180 | CD39: 0.58055556 | CE39: 15.5 | CG39: 37 | CH39: Manzala, Jason | CI39: 115 | CJ39: 195 | CK39: 0.58974359 | CL39: 15 | CN39: 34-T | CO39: Folmar, James | CP39: 122 | CQ39: 208 | CR39: 0.58653846 | CS39: 20 | CU39: 37 | CV39: Clarke, Andrew | CW39: 132 | CX39: 224 | CY39: 0.58928571 | CZ39: 21 | DB39: 37 | DC39: Hill, Jim | DD39: 142 | DE39: 240 | DF39: 0.59166667 | DG39: 23.5 | DI39: 37 | DJ39: Carrasco, Jason | DK39: 152 | DL39: 255 | DM39: 0.59607843 | DN39: 27 | DP39: 37-T | DQ39: Miller, Chris | DR39: 161 | DS39: 271 | DT39: 0.59409594 | DU39: 25 | DW39: 37-T | DX39: Miller, Chris | DY39: 165 | DZ39: 277 | EA39: 0.59566787 | EB39: 26 | ED39: 37 | EE39: Southerland, Brett | EF39: 167 | EG39: 281 | EH39: 0.59430605 | EI39: 27 | EK39: 37 | EL39: Hill, Jim | EM39: 167 | EN39: 283 | EO39: 0.59010601 | EP39: 28.5 | ER39: 37 | ES39: Hill, Jim | ET39: 168 | EU39: 284 | EV39: 0.5915493 | EW39: 29.5
A40: 38-T | B40: Howard, Bill | C40: 8.5 | D40: 16 | E40: 0.53125 | F40: 0 | H40: 37-T | I40: Himes, Randall | J40: 16.5 | K40: 32 | L40: 0.515625 | M40: 2.5 | O40: 36-T | P40: Clarke, Benjamin | Q40: 23.5 | R40: 48 | S40: 0.48958333 | T40: 4 | V40: 38-T | W40: Sloan, Kenneth | X40: 33.5 | Y40: 64 | Z40: 0.5234375 | AA40: 4 | AC40: 37-T | AD40: Vance, Jeremy | AE40: 43.5 | AF40: 80 | AG40: 0.54375 | AH40: 6 | AJ40: 37-T | AK40: Simba, Julio | AL40: 50.5 | AM40: 94 | AN40: 0.53723404 | AO40: 6 | AQ40: 38 | AR40: White, Shawn | AS40: 58.5 | AT40: 108 | AU40: 0.54166667 | AV40: 7.5 | AX40: 38 | AY40: Clarke, Benjamin | AZ40: 67.5 | BA40: 123 | BB40: 0.54878049 | BC40: 13 | BE40: 38 | BF40: Roberts, Jeff | BG40: 77.5 | BH40: 136 | BI40: 0.56985294 | BJ40: 10 | BL40: 38-T | BM40: Meyer, Dave | BN40: 83.5 | BO40: 150 | BP40: 0.55666667 | BQ40: 13 | BS40: 38 | BT40: Easley, Jordan | BU40: 93.5 | BV40: 164 | BW40: 0.57012195 | BX40: 15.5 | BZ40: 38 | CA40: Scoville, Jordan | CB40: 103.5 | CC40: 180 | CD40: 0.575 | CE40: 18 | CG40: 38 | CH40: Carrasco, Jason | CI40: 114 | CJ40: 195 | CK40: 0.58461538 | CL40: 20 | CN40: 38 | CO40: Meyer, Dave | CP40: 122 | CQ40: 208 | CR40: 0.58653846 | CS40: 17 | CU40: 38 | CV40: Manzala, Jason | CW40: 132 | CX40: 224 | CY40: 0.58928571 | CZ40: 17 | DB40: 38 | DC40: Southerland, Brett | DD40: 142 | DE40: 240 | DF40: 0.59166667 | DG40: 23 | DI40: 38 | DJ40: Clarke, Andrew | DK40: 152 | DL40: 255 | DM40: 0.59607843 | DN40: 25 | DP40: 37-T | DQ40: Southerland, Brett | DR40: 161 | DS40: 271 | DT40: 0.59409594 | DU40: 25 | DW40: 37-T | DX40: Southerland, Brett | DY40: 165 | DZ40: 277 | EA40: 0.59566787 | EB40: 26 | ED40: 38 | EE40: White, Shawn | EF40: 167 | EG40: 281 | EH40: 0.59430605 | EI40: 25.5 | EK40: 38-T | EL40: Southerland, Brett | EM40: 167 | EN40: 283 | EO40: 0.59010601 | EP40: 27 | ER40: 38 | ES40: Southerland, Brett | ET40: 168 | EU40: 284 | EV40: 0.5915493 | EW40: 28
A41: 38-T | B41: Manzala, Jason | C41: 8.5 | D41: 16 | E41: 0.53125 | F41: 0 | H41: 37-T | I41: Middleton, Jason | J41: 16.5 | K41: 32 | L41: 0.515625 | M41: 2.5 | O41: 39-T | P41: Southerland, Brett | Q41: 23.5 | R41: 48 | S41: 0.48958333 | T41: 3 | V41: 38-T | W41: Hernandez, Ismael | X41: 33.5 | Y41: 64 | Z41: 0.5234375 | AA41: 4 | AC41: 39-T | AD41: Seamands, Natalie | AE41: 43.5 | AF41: 80 | AG41: 0.54375 | AH41: 5.5 | AJ41: 39-T | AK41: Hyde, Todd | AL41: 49.5 | AM41: 94 | AN41: 0.52659574 | AO41: 9 | AQ41: 39-T | AR41: Folmar, James | AS41: 58.5 | AT41: 108 | AU41: 0.54166667 | AV41: 7 | AX41: 39 | AY41: Brossett, Chase | AZ41: 67.5 | BA41: 123 | BB41: 0.54878049 | BC41: 11 | BE41: 39 | BF41: Clarke, Andrew | BG41: 76.5 | BH41: 136 | BI41: 0.5625 | BJ41: 10 | BL41: 38-T | BM41: Folmar, James | BN41: 83.5 | BO41: 150 | BP41: 0.55666667 | BQ41: 13 | BS41: 39 | BT41: Miller, Chris | BU41: 93.5 | BV41: 164 | BW41: 0.57012195 | BX41: 15 | BZ41: 39 | CA41: Meyer, Dave | CB41: 103.5 | CC41: 180 | CD41: 0.575 | CE41: 16 | CG41: 39 | CH41: Hill, Jim | CI41: 114 | CJ41: 195 | CK41: 0.58461538 | CL41: 18.5 | CN41: 39 | CO41: Carrasco, Jason | CP41: 121 | CQ41: 208 | CR41: 0.58173077 | CS41: 22 | CU41: 39 | CV41: Carrasco, Jason | CW41: 131 | CX41: 224 | CY41: 0.58482143 | CZ41: 24 | DB41: 39 | DC41: Prothro, Tom | DD41: 142 | DE41: 240 | DF41: 0.59166667 | DG41: 19 | DI41: 39 | DJ41: Sloan, Kenneth | DK41: 152 | DL41: 255 | DM41: 0.59607843 | DN41: 23 | DP41: 39 | DQ41: Prothro, Tom | DR41: 161 | DS41: 271 | DT41: 0.59409594 | DU41: 22 | DW41: 39 | DX41: Carrasco, Jason | DY41: 164 | DZ41: 277 | EA41: 0.59205776 | EB41: 30 | ED41: 39 | EE41: Miller, Chris | EF41: 166 | EG41: 281 | EH41: 0.59074733 | EI41: 26 | EK41: 38-T | EL41: Miller, Chris | EM41: 167 | EN41: 283 | EO41: 0.59010601 | EP41: 27 | ER41: 39 | ES41: White, Shawn | ET41: 168 | EU41: 284 | EV41: 0.5915493 | EW41: 26.5
A42: 38-T | B42: Meyer, Dave | C42: 8.5 | D42: 16 | E42: 0.53125 | F42: 0 | H42: 37-T | I42: White, Shawn | J42: 16.5 | K42: 32 | L42: 0.515625 | M42: 2.5 | O42: 39-T | P42: Prothro, Tom | Q42: 23.5 | R42: 48 | S42: 0.48958333 | T42: 3 | V42: 38-T | W42: Conklin, Don | X42: 33.5 | Y42: 64 | Z42: 0.5234375 | AA42: 4 | AC42: 39-T | AD42: Baze, Drew | AE42: 43.5 | AF42: 80 | AG42: 0.54375 | AH42: 5.5 | AJ42: 39-T | AK42: Johnston, John | AL42: 49.5 | AM42: 94 | AN42: 0.52659574 | AO42: 9 | AQ42: 39-T | AR42: Simba, Julio | AS42: 58.5 | AT42: 108 | AU42: 0.54166667 | AV42: 7 | AX42: 40 | AY42: Easley, Jordan | AZ42: 67.5 | BA42: 123 | BB42: 0.54878049 | BC42: 10.5 | BE42: 40 | BF42: Clarke, Benjamin | BG42: 75.5 | BH42: 136 | BI42: 0.55514706 | BJ42: 15 | BL42: 38-T | BM42: Mackey, Doyle | BN42: 83.5 | BO42: 150 | BP42: 0.55666667 | BQ42: 13 | BS42: 40 | BT42: Prothro, Tom | BU42: 93.5 | BV42: 164 | BW42: 0.57012195 | BX42: 14 | BZ42: 40-T | CA42: Prothro, Tom | CB42: 103.5 | CC42: 180 | CD42: 0.575 | CE42: 15 | CG42: 40 | CH42: Meyer, Dave | CI42: 114 | CJ42: 195 | CK42: 0.58461538 | CL42: 17 | CN42: 40 | CO42: Hyde, Todd | CP42: 121 | CQ42: 208 | CR42: 0.58173077 | CS42: 21 | CU42: 40 | CV42: Folmar, James | CW42: 131 | CX42: 224 | CY42: 0.58482143 | CZ42: 22 | DB42: 40 | DC42: Clarke, Andrew | DD42: 141 | DE42: 240 | DF42: 0.5875 | DG42: 23 | DI42: 40 | DJ42: Rapisand, Ryan | DK42: 151 | DL42: 255 | DM42: 0.59215686 | DN42: 26 | DP42: 40 | DQ42: Simba, Julio | DR42: 159 | DS42: 271 | DT42: 0.58671587 | DU42: 24 | DW42: 40 | DX42: Hill, Jim | DY42: 163 | DZ42: 277 | EA42: 0.58844765 | EB42: 26.5 | ED42: 40 | EE42: Fortner, Jason | EF42: 165 | EG42: 281 | EH42: 0.58718861 | EI42: 28 | EK42: 40 | EL42: White, Shawn | EM42: 167 | EN42: 283 | EO42: 0.59010601 | EP42: 25.5 | ER42: 40 | ES42: Miller, Chris | ET42: 167 | EU42: 284 | EV42: 0.58802817 | EW42: 27
